{
 "currentVersion": 10.91,
 "serviceDescription": "Summary:\nScientists with the Advanced Rapid Imaging and Analysis project (ARIA), a collaboration between NASA\u2019s Jet Propulsion Laboratory in Pasadena, California, and Caltech, also in Pasadena, using synthetic aperture radar (SAR) data from the European Union\u2019s Copernicus Sentinel-1A satellite, operated by the European Space Agency, generated a map of the deformation of Earth\u2019s surface caused by the November 30, 2018 magnitude 7.0 earthquake beneath the Anchorage area of Alaska, USA. The deformation map is produced from automated interferometric processing of the SAR data using the JPL-Caltech ARIA data system in response to a signal received from the U.S. Geological Survey (USGS). The false-color map shows the amount of permanent surface movement that occurred almost entirely due to the quake, as viewed by the satellite, during a 12-day interval between two Sentinel-1 images acquired on November 22 and Dec. 4, 2018. \n\nThe map shows that the earthquake fault that slipped was deep and located to the north of the city of Anchorage. Through these maps, NASA and its partners are contributing important observations and expertise that can assist with response to earthquakes and other natural or human-produced hazards. \n \nSuggested Use:\nFrom the pattern of deformation in the map, scientists have determined that the earthquake fault slip was on a fault that likely slopes to the west within the subducting Pacific Plate beneath this part of Alaska. The earthquake caused as much as 3 inches (8 centimeters) lowering of the ground surface to the northwest of the mainshock epicenter. The map depicts motion towards the satellite (up and east) in the direction of the radar\u2019s line-of-sight. White areas are places where the radar measurement was not possible. Measurements in the higher elevation areas in the western part and eastern edge of the map also contain errors and are not reliable, largely due to dense forests and snow on the higher elevations that disrupt the radar measurements.\n\nSatellite/Sensor:Copernicus Sentinel-1 Synthetic Aperture Radar (SAR)\nResolution: 30 m\n\nCredits: \nNASA/JPL-Caltech ARIA Team, Copernicus, ESA",
 "name": "AK_Earthquake_201811/aria_sentinel1_deformation_20181204",
 "description": "Summary:\nScientists with the Advanced Rapid Imaging and Analysis project (ARIA), a collaboration between NASA\u2019s Jet Propulsion Laboratory in Pasadena, California, and Caltech, also in Pasadena, using synthetic aperture radar (SAR) data from the European Union\u2019s Copernicus Sentinel-1A satellite, operated by the European Space Agency, generated a map of the deformation of Earth\u2019s surface caused by the November 30, 2018 magnitude 7.0 earthquake beneath the Anchorage area of Alaska, USA. The deformation map is produced from automated interferometric processing of the SAR data using the JPL-Caltech ARIA data system in response to a signal received from the U.S. Geological Survey (USGS). The false-color map shows the amount of permanent surface movement that occurred almost entirely due to the quake, as viewed by the satellite, during a 12-day interval between two Sentinel-1 images acquired on November 22 and Dec. 4, 2018. \n\nThe map shows that the earthquake fault that slipped was deep and located to the north of the city of Anchorage. Through these maps, NASA and its partners are contributing important observations and expertise that can assist with response to earthquakes and other natural or human-produced hazards. \n \nSuggested Use:\nFrom the pattern of deformation in the map, scientists have determined that the earthquake fault slip was on a fault that likely slopes to the west within the subducting Pacific Plate beneath this part of Alaska. The earthquake caused as much as 3 inches (8 centimeters) lowering of the ground surface to the northwest of the mainshock epicenter. The map depicts motion towards the satellite (up and east) in the direction of the radar\u2019s line-of-sight. White areas are places where the radar measurement was not possible. Measurements in the higher elevation areas in the western part and eastern edge of the map also contain errors and are not reliable, largely due to dense forests and snow on the higher elevations that disrupt the radar measurements.\n\nSatellite/Sensor:Copernicus Sentinel-1 Synthetic Aperture Radar (SAR)\nResolution: 30 m\n\nCredits: \nNASA/JPL-Caltech ARIA Team, Copernicus, ESA",
 "extent": {
  "xmin": -152.89,
  "ymin": 60.17417,
  "xmax": -148.81556,
  "ymax": 62.10861,
  "spatialReference": {
   "wkid": 4326,
   "latestWkid": 4326
  }
 },
 "initialExtent": {
  "xmin": -152.89,
  "ymin": 60.17417,
  "xmax": -148.81556,
  "ymax": 62.10861,
  "spatialReference": {
   "wkid": 4326,
   "latestWkid": 4326
  }
 },
 "fullExtent": {
  "xmin": -152.89,
  "ymin": 60.17417,
  "xmax": -148.81556,
  "ymax": 62.10861,
  "spatialReference": {
   "wkid": 4326,
   "latestWkid": 4326
  }
 },
 "hasMultidimensions": false,
 "pixelSizeX": 8.333892411536063E-4,
 "pixelSizeY": 8.334510986643698E-4,
 "datasetFormat": "TIFF",
 "uncompressedSize": 45389476,
 "blockWidth": 4889,
 "blockHeight": 1,
 "compressionType": "None",
 "bandNames": [
  "Band_1"
 ],
 "allowCopy": true,
 "allowAnalysis": true,
 "bandCount": 1,
 "noDataValue": -3.4028234663852886E38,
 "noDataValues": [
  -3.4028234663852886E38
 ],
 "pixelType": "F32",
 "minPixelSize": 0,
 "maxPixelSize": 0,
 "copyrightText": "NASA/JPL-Caltech, Copernicus, ESA",
 "serviceDataType": "esriImageServiceDataTypeGeneric",
 "serviceSourceType": "esriImageServiceSourceTypeDataset",
 "minValues": [],
 "maxValues": [],
 "meanValues": [],
 "stdvValues": [],
 "objectIdField": "",
 "fields": [],
 "capabilities": "Mensuration,Image,Metadata",
 "defaultMosaicMethod": "Center",
 "allowedMosaicMethods": "",
 "sortField": "",
 "sortValue": null,
 "sortAscending": true,
 "mosaicOperator": "First",
 "defaultCompressionQuality": 75,
 "defaultResamplingMethod": "Bilinear",
 "maxImageHeight": 4100,
 "maxImageWidth": 15000,
 "allowRasterFunction": true,
 "rasterFunctionInfos": [
  {
   "name": "aria_ak_deformation",
   "description": "A raster function template.",
   "help": ""
  },
  {
   "name": "None",
   "description": "",
   "help": ""
  }
 ],
 "rasterTypeInfos": [
  {
   "name": "Raster Dataset",
   "description": "Supports all ArcGIS Raster Datasets",
   "help": ""
  }
 ],
 "mensurationCapabilities": "Basic",
 "hasHistograms": false,
 "hasColormap": false,
 "hasRasterAttributeTable": false,
 "minScale": 0,
 "maxScale": 0,
 "exportTilesAllowed": false,
 "supportsStatistics": false,
 "supportsAdvancedQueries": false,
 "editFieldsInfo": null,
 "ownershipBasedAccessControlForRasters": null,
 "allowComputeTiePoints": false,
 "useStandardizedQueries": true,
 "advancedQueryCapabilities": {
  "useStandardizedQueries": true,
  "supportsStatistics": false,
  "supportsOrderBy": false,
  "supportsDistinct": false,
  "supportsPagination": false
 },
 "spatialReference": {
  "wkid": 4326,
  "latestWkid": 4326
 }
}
