{
 "currentVersion": 10.91,
 "serviceDescription": "Purpose/Summary: \n\nThe visible-wavelength true color RGB digital camera image was taken by astronauts on board the International Space Station on February 2nd, 2019 showing the flood damage that occured as a result of a dam failure on January 25th near Brumadinho, Brazil. This image was manually georeferenced by members of the Earth Science and Remote Sensing Unit at NASA Johnson Space Center.\n\n\nSuggested Use:\n\nThis image provides regional context, and may be useful for visualization of the ongoing event. Higher spatial resolution images may be suitable for spatial analysis to support decision making or research applications.\n\n\nSensor: \n\nNikon D5 Electronic Still Camera mounted on the International Space Station\n\n\n\nAdditional ISS photos of the flooding from the dam collapse can be found at: https://eol.jsc.nasa.gov/WebShare/WebShare.pl?folder=USGS/IDC_Brazil_Dam_Collapse_02FEB2019\n\n\nCredits: \n\nInternational Space Station Program, NASA Johnson Space Center Earth Science & Remote Sensing Unit, ARES Division, Exploration Integration Science Directorate",
 "name": "Bruamdinho_Brazil_Dam_Failure_2019/ISS_20190202_133252",
 "description": "Purpose/Summary: \n\nThe visible-wavelength true color RGB digital camera image was taken by astronauts on board the International Space Station on February 2nd, 2019 showing the flood damage that occured as a result of a dam failure on January 25th near Brumadinho, Brazil. This image was manually georeferenced by members of the Earth Science and Remote Sensing Unit at NASA Johnson Space Center.\n\n\nSuggested Use:\n\nThis image provides regional context, and may be useful for visualization of the ongoing event. Higher spatial resolution images may be suitable for spatial analysis to support decision making or research applications.\n\n\nSensor: \n\nNikon D5 Electronic Still Camera mounted on the International Space Station\n\n\n\nAdditional ISS photos of the flooding from the dam collapse can be found at: https://eol.jsc.nasa.gov/WebShare/WebShare.pl?folder=USGS/IDC_Brazil_Dam_Collapse_02FEB2019\n\n\nCredits: \n\nInternational Space Station Program, NASA Johnson Space Center Earth Science & Remote Sensing Unit, ARES Division, Exploration Integration Science Directorate",
 "extent": {
  "xmin": -44.47570657301655,
  "ymin": -20.328594363709,
  "xmax": -43.535754811928186,
  "ymax": -19.389149042147082,
  "spatialReference": {
   "wkid": 4326,
   "latestWkid": 4326
  }
 },
 "initialExtent": {
  "xmin": -44.47570657301655,
  "ymin": -20.328594363709,
  "xmax": -43.535754811928186,
  "ymax": -19.389149042147082,
  "spatialReference": {
   "wkid": 4326,
   "latestWkid": 4326
  }
 },
 "fullExtent": {
  "xmin": -44.47570657301655,
  "ymin": -20.328594363709,
  "xmax": -43.535754811928186,
  "ymax": -19.389149042147082,
  "spatialReference": {
   "wkid": 4326,
   "latestWkid": 4326
  }
 },
 "hasMultidimensions": false,
 "pixelSizeX": 1.688131754828244E-4,
 "pixelSizeY": 1.688131754828247E-4,
 "datasetFormat": "TIFF",
 "uncompressedSize": 92957760,
 "blockWidth": 256,
 "blockHeight": 256,
 "compressionType": "None",
 "bandNames": [
  "Band_1",
  "Band_2",
  "Band_3"
 ],
 "allowCopy": true,
 "allowAnalysis": true,
 "bandCount": 3,
 "noDataValue": 0,
 "noDataValues": [
  0,
  0,
  0
 ],
 "pixelType": "U8",
 "minPixelSize": 0,
 "maxPixelSize": 0,
 "copyrightText": "International Space Station Program, NASA JSC Earth Science & Remote Sensing Unit, ARES Division, Exploration Integration Science Direcorate",
 "serviceDataType": "esriImageServiceDataTypeRGB",
 "serviceSourceType": "esriImageServiceSourceTypeDataset",
 "minValues": [
  0,
  0,
  0
 ],
 "maxValues": [
  255,
  255,
  255
 ],
 "meanValues": [
  70.994559851709,
  84.98200857035,
  97.3352503976
 ],
 "stdvValues": [
  60.140725775522,
  68.852762556812,
  77.91159078994
 ],
 "objectIdField": "",
 "fields": [],
 "capabilities": "Image,Metadata,Mensuration",
 "defaultMosaicMethod": "Center",
 "allowedMosaicMethods": "",
 "sortField": "",
 "sortValue": null,
 "sortAscending": true,
 "mosaicOperator": "First",
 "defaultCompressionQuality": 75,
 "defaultResamplingMethod": "Bilinear",
 "maxImageHeight": 4100,
 "maxImageWidth": 15000,
 "allowRasterFunction": true,
 "rasterFunctionInfos": [
  {
   "name": "iss_rgb",
   "description": "A raster function template.",
   "help": ""
  },
  {
   "name": "None",
   "description": "",
   "help": ""
  }
 ],
 "rasterTypeInfos": [
  {
   "name": "Raster Dataset",
   "description": "Supports all ArcGIS Raster Datasets",
   "help": ""
  }
 ],
 "mensurationCapabilities": "Basic",
 "hasHistograms": false,
 "hasColormap": false,
 "hasRasterAttributeTable": false,
 "minScale": 0,
 "maxScale": 0,
 "exportTilesAllowed": false,
 "supportsStatistics": false,
 "supportsAdvancedQueries": false,
 "editFieldsInfo": null,
 "ownershipBasedAccessControlForRasters": null,
 "allowComputeTiePoints": false,
 "useStandardizedQueries": true,
 "advancedQueryCapabilities": {
  "useStandardizedQueries": true,
  "supportsStatistics": false,
  "supportsOrderBy": false,
  "supportsDistinct": false,
  "supportsPagination": false
 },
 "spatialReference": {
  "wkid": 4326,
  "latestWkid": 4326
 }
}
