{
 "currentVersion": 10.91,
 "serviceDescription": "Date of Imagery: 11/17/2018 02:00 UTC (11/16/2018 6:00pm PST) Summary: The Advanced Rapid Imaging and Analysis (ARIA) team at NASA's Jet Propulsion Laboratory in Pasadena, California, created this Damage Proxy Map (DPM) depicting areas of Cailfornia that are likely damaged (shown by red and yellow pixels) as a result of the Camp Fire. The map is derived from synthetic aperture radar (SAR) images from the Copernicus Sentinel-1 satellites, operated by the European Space Agency (ESA). The pre-event images were taken before (November 5, 2018) and the post-event image was acquired during the fire (November 16, 2018). The map covers an area of 50 miles x 25 miles (80 km x 40 km). Each pixel measures about 33 yards x 33 yards (30 m x 30 m). The color variation from yellow to red indicates increasingly more significant ground surface change. Preliminary validation was done by comparing to the Approximate fire location by the Google Crisis map. This damage proxy map should be used as guidance to identify damaged areas, and may be less reliable over vegetated areas. For example, the scattered single colored pixels over vegetated areas may be false positives, and the lack of colored pixels over vegetated areas does not necessarily mean no damage. Suggested Use: The color variation from yellow to red indicates increasingly more ground surface change. This damage proxy map should be used as guidance to identify damaged areas, and may be less reliable over vegetated areas. For example, the scattered single colored pixels over vegetated areas may be false positives, and the lack of colored pixels over vegetated areas does not necessarily mean no damage. Satellite: Synthetic Aperture Radar (SAR) from Copernicus Sentinel-1 operated by the European Space Agency (ESA); 30 meter resolution Credits/Acknowledgements: Sentinel-1 data were accessed through the Copernicus Open Access Hub. The image contains modified Copernicus Sentinel data (2018), processed by ESA and analyzed by the NASA-JPL/Caltech ARIA team. This research was carried out at JPL funded by NASA. For more information about ARIA, visit: http://aria.jpl.nasa.gov",
 "name": "CA_fires_2018/camp_aria_dpm_20181117_0200",
 "description": "Date of Imagery: 11/17/2018 02:00 UTC (11/16/2018 6:00pm PST) Summary: The Advanced Rapid Imaging and Analysis (ARIA) team at NASA's Jet Propulsion Laboratory in Pasadena, California, created this Damage Proxy Map (DPM) depicting areas of Cailfornia that are likely damaged (shown by red and yellow pixels) as a result of the Camp Fire. The map is derived from synthetic aperture radar (SAR) images from the Copernicus Sentinel-1 satellites, operated by the European Space Agency (ESA). The pre-event images were taken before (November 5, 2018) and the post-event image was acquired during the fire (November 16, 2018). The map covers an area of 50 miles x 25 miles (80 km x 40 km). Each pixel measures about 33 yards x 33 yards (30 m x 30 m). The color variation from yellow to red indicates increasingly more significant ground surface change. Preliminary validation was done by comparing to the Approximate fire location by the Google Crisis map. This damage proxy map should be used as guidance to identify damaged areas, and may be less reliable over vegetated areas. For example, the scattered single colored pixels over vegetated areas may be false positives, and the lack of colored pixels over vegetated areas does not necessarily mean no damage. Suggested Use: The color variation from yellow to red indicates increasingly more ground surface change. This damage proxy map should be used as guidance to identify damaged areas, and may be less reliable over vegetated areas. For example, the scattered single colored pixels over vegetated areas may be false positives, and the lack of colored pixels over vegetated areas does not necessarily mean no damage. Satellite: Synthetic Aperture Radar (SAR) from Copernicus Sentinel-1 operated by the European Space Agency (ESA); 30 meter resolution Credits/Acknowledgements: Sentinel-1 data were accessed through the Copernicus Open Access Hub. The image contains modified Copernicus Sentinel data (2018), processed by ESA and analyzed by the NASA-JPL/Caltech ARIA team. This research was carried out at JPL funded by NASA. For more information about ARIA, visit: http://aria.jpl.nasa.gov",
 "extent": {
  "xmin": -122.3333054,
  "ymin": 39.36550411882606,
  "xmax": -121.1499721196506,
  "ymax": 40.0341152,
  "spatialReference": {
   "wkid": 4326,
   "latestWkid": 4326
  }
 },
 "initialExtent": {
  "xmin": -122.3333054,
  "ymin": 39.36550411882606,
  "xmax": -121.1499721196506,
  "ymax": 40.0341152,
  "spatialReference": {
   "wkid": 4326,
   "latestWkid": 4326
  }
 },
 "fullExtent": {
  "xmin": -122.3333054,
  "ymin": 39.36550411882606,
  "xmax": -121.1499721196506,
  "ymax": 40.0341152,
  "spatialReference": {
   "wkid": 4326,
   "latestWkid": 4326
  }
 },
 "hasMultidimensions": false,
 "pixelSizeX": 1.3888888267011757E-4,
 "pixelSizeY": 1.3888888267011686E-4,
 "datasetFormat": "TIFF",
 "uncompressedSize": 164061120,
 "blockWidth": 8520,
 "blockHeight": 1,
 "compressionType": "None",
 "bandNames": [
  "Band_1",
  "Band_2",
  "Band_3",
  "Band_4"
 ],
 "allowCopy": true,
 "allowAnalysis": true,
 "bandCount": 4,
 "pixelType": "U8",
 "minPixelSize": 0,
 "maxPixelSize": 0,
 "copyrightText": "NASA, ARIA, ESA",
 "serviceDataType": "esriImageServiceDataTypeGeneric",
 "serviceSourceType": "esriImageServiceSourceTypeDataset",
 "minValues": [
  0,
  0,
  0,
  0
 ],
 "maxValues": [
  255,
  255,
  0,
  255
 ],
 "meanValues": [
  11.508975801216,
  5.6800257855112,
  0,
  11.421980491174
 ],
 "stdvValues": [
  49.696701670897,
  34.985808563408,
  0,
  48.352701114337
 ],
 "objectIdField": "",
 "fields": [],
 "capabilities": "Mensuration,Image,Metadata",
 "defaultMosaicMethod": "Center",
 "allowedMosaicMethods": "",
 "sortField": "",
 "sortValue": null,
 "sortAscending": true,
 "mosaicOperator": "First",
 "defaultCompressionQuality": 75,
 "defaultResamplingMethod": "Nearest",
 "maxImageHeight": 4100,
 "maxImageWidth": 15000,
 "allowRasterFunction": true,
 "rasterFunctionInfos": [
  {
   "name": "RGB Composite",
   "description": "A raster function template.",
   "help": ""
  },
  {
   "name": "None",
   "description": "",
   "help": ""
  }
 ],
 "rasterTypeInfos": [
  {
   "name": "Raster Dataset",
   "description": "Supports all ArcGIS Raster Datasets",
   "help": ""
  }
 ],
 "mensurationCapabilities": "Basic",
 "hasHistograms": true,
 "hasColormap": false,
 "hasRasterAttributeTable": false,
 "minScale": 0,
 "maxScale": 0,
 "exportTilesAllowed": true,
 "maxExportTilesCount": 9999999,
 "supportsStatistics": false,
 "supportsAdvancedQueries": false,
 "editFieldsInfo": null,
 "ownershipBasedAccessControlForRasters": null,
 "allowComputeTiePoints": false,
 "useStandardizedQueries": true,
 "advancedQueryCapabilities": {
  "useStandardizedQueries": true,
  "supportsStatistics": false,
  "supportsOrderBy": false,
  "supportsDistinct": false,
  "supportsPagination": false
 },
 "spatialReference": {
  "wkid": 4326,
  "latestWkid": 4326
 }
}
