{
 "currentVersion": 10.91,
 "serviceDescription": "Date of Imagery: 11/09/2018 Summary: Smoke from forest fires results in poor air quality but also low visibility due to the absorbing properties of soot in the Ultraviolet and Visible parts of the light spectrum. The Nadir payload onboard the Ozone Mapping Profiler Suite instrument (OMPS) on the Suomi NPP satellite is sensitive to the amount of ozone into the atmosphere but also particulate matters that absorb light such as soots in smoke plume. The maps of aerosol index, a relative measurement of aerosol total column in the atmosphere, provides useful information to understand the dispersion of the smoke plume in the atmosphere from the recent Camp and Woolsey fires in California. Altogether, Aerosol Index and backscatter profiles from CALIPSO are used by scientists from the NASA Disaster Program and disseminated to end users such as the US Forest Service to locate smoke plume both horizontally and vertically and improve air quality forecast",
 "name": "CA_fires_2018/omps_aerosol_20181109",
 "description": "Date of Imagery: 11/09/2018 Summary: Smoke from forest fires results in poor air quality but also low visibility due to the absorbing properties of soot in the Ultraviolet and Visible parts of the light spectrum. The Nadir payload onboard the Ozone Mapping Profiler Suite instrument (OMPS) on the Suomi NPP satellite is sensitive to the amount of ozone into the atmosphere but also particulate matters that absorb light such as soots in smoke plume. The maps of aerosol index, a relative measurement of aerosol total column in the atmosphere, provides useful information to understand the dispersion of the smoke plume in the atmosphere from the recent Camp and Woolsey fires in California. Altogether, Aerosol Index and backscatter profiles from CALIPSO are used by scientists from the NASA Disaster Program and disseminated to end users such as the US Forest Service to locate smoke plume both horizontally and vertically and improve air quality forecast",
 "extent": {
  "xmin": -136.2169256572222,
  "ymin": 24.69375666550186,
  "xmax": -103.7743813782555,
  "ymax": 46.585880040739546,
  "spatialReference": {
   "wkid": 4326,
   "latestWkid": 4326
  }
 },
 "initialExtent": {
  "xmin": -136.2169256572222,
  "ymin": 24.69375666550186,
  "xmax": -103.7743813782555,
  "ymax": 46.585880040739546,
  "spatialReference": {
   "wkid": 4326,
   "latestWkid": 4326
  }
 },
 "fullExtent": {
  "xmin": -136.2169256572222,
  "ymin": 24.69375666550186,
  "xmax": -103.7743813782555,
  "ymax": 46.585880040739546,
  "spatialReference": {
   "wkid": 4326,
   "latestWkid": 4326
  }
 },
 "hasMultidimensions": false,
 "pixelSizeX": 0.04396008709887086,
 "pixelSizeY": 0.04396008709887086,
 "datasetFormat": "TIFF",
 "uncompressedSize": 1102572,
 "blockWidth": 738,
 "blockHeight": 3,
 "compressionType": "None",
 "bandNames": [
  "Band_1",
  "Band_2",
  "Band_3"
 ],
 "allowCopy": true,
 "allowAnalysis": true,
 "bandCount": 3,
 "pixelType": "U8",
 "minPixelSize": 0,
 "maxPixelSize": 0,
 "copyrightText": "NASA Disasters Program",
 "serviceDataType": "esriImageServiceDataTypeRGB",
 "serviceSourceType": "esriImageServiceSourceTypeDataset",
 "minValues": [
  0,
  0,
  0
 ],
 "maxValues": [
  255,
  255,
  240
 ],
 "meanValues": [
  194.21781978863,
  189.19152762813,
  148.47592810265
 ],
 "stdvValues": [
  82.156254885857,
  85.993584708619,
  81.938961788703
 ],
 "objectIdField": "",
 "fields": [],
 "capabilities": "Mensuration,Image,Metadata",
 "defaultMosaicMethod": "Center",
 "allowedMosaicMethods": "",
 "sortField": "",
 "sortValue": null,
 "sortAscending": true,
 "mosaicOperator": "First",
 "defaultCompressionQuality": 75,
 "defaultResamplingMethod": "Bilinear",
 "maxImageHeight": 4100,
 "maxImageWidth": 15000,
 "allowRasterFunction": true,
 "rasterFunctionInfos": [
  {
   "name": "None",
   "description": "",
   "help": ""
  }
 ],
 "rasterTypeInfos": [
  {
   "name": "Raster Dataset",
   "description": "Supports all ArcGIS Raster Datasets",
   "help": ""
  }
 ],
 "mensurationCapabilities": "Basic",
 "hasHistograms": true,
 "hasColormap": false,
 "hasRasterAttributeTable": false,
 "minScale": 0,
 "maxScale": 0,
 "exportTilesAllowed": false,
 "supportsStatistics": false,
 "supportsAdvancedQueries": false,
 "editFieldsInfo": null,
 "ownershipBasedAccessControlForRasters": null,
 "allowComputeTiePoints": false,
 "useStandardizedQueries": true,
 "advancedQueryCapabilities": {
  "useStandardizedQueries": true,
  "supportsStatistics": false,
  "supportsOrderBy": false,
  "supportsDistinct": false,
  "supportsPagination": false
 },
 "spatialReference": {
  "wkid": 4326,
  "latestWkid": 4326
 }
}
