{
 "currentVersion": 10.91,
 "serviceDescription": "Date of Imagery: 11/11/2018 14:00 UTC (11/11/2018 6:00am PST) Next Update: None currently planned Summary: The Advanced Rapid Imaging and Analysis (ARIA) team at NASA's Jet Propulsion Laboratory in Pasadena, California, created this Damage Proxy Map (DPM) depicting areas of Southern Cailfornia that are likely damaged (shown by red and yellow pixels) as a result of the Woolsey Fire. The map is derived from synthetic aperture radar (SAR) images from the Copernicus Sentinel-1 satellites, operated by the European Space Agency (ESA). The pre-event images were taken before (November 5, 2018) and the post-event image was acquired during the fire (November 11, 2018). The map covers an area of 50 miles x 25 miles (80 km x 40 km). Each pixel measures about 33 yards x 33 yards (30 m x 30 m). The color variation from yellow to red indicates increasingly more significant ground surface change. Preliminary validation was done by comparing to the Approximate fire location by the Google Crisis map. This damage proxy map should be used as guidance to identify damaged areas, and may be less reliable over vegetated areas. For example, the scattered single colored pixels over vegetated areas may be false positives, and the lack of colored pixels over vegetated areas does not necessarily mean no damage. Satellite: Synthetic Aperture Radar (SAR) from Copernicus Sentinel-1 operated by the European Space Agency (ESA); 30 meter resolution Credits/Acknowledgements: Sentinel-1 data were accessed through the Copernicus Open Access Hub. The image contains modified Copernicus Sentinel data (2018), processed by ESA and analyzed by the NASA-JPL/Caltech ARIA team. This research was carried out at JPL funded by NASA. For more information about ARIA, visit: http://aria.jpl.nasa.gov",
 "name": "CA_fires_2018/woolsey_aria_dpm_11112018_1400",
 "description": "Date of Imagery: 11/11/2018 14:00 UTC (11/11/2018 6:00am PST) Next Update: None currently planned Summary: The Advanced Rapid Imaging and Analysis (ARIA) team at NASA's Jet Propulsion Laboratory in Pasadena, California, created this Damage Proxy Map (DPM) depicting areas of Southern Cailfornia that are likely damaged (shown by red and yellow pixels) as a result of the Woolsey Fire. The map is derived from synthetic aperture radar (SAR) images from the Copernicus Sentinel-1 satellites, operated by the European Space Agency (ESA). The pre-event images were taken before (November 5, 2018) and the post-event image was acquired during the fire (November 11, 2018). The map covers an area of 50 miles x 25 miles (80 km x 40 km). Each pixel measures about 33 yards x 33 yards (30 m x 30 m). The color variation from yellow to red indicates increasingly more significant ground surface change. Preliminary validation was done by comparing to the Approximate fire location by the Google Crisis map. This damage proxy map should be used as guidance to identify damaged areas, and may be less reliable over vegetated areas. For example, the scattered single colored pixels over vegetated areas may be false positives, and the lack of colored pixels over vegetated areas does not necessarily mean no damage. Satellite: Synthetic Aperture Radar (SAR) from Copernicus Sentinel-1 operated by the European Space Agency (ESA); 30 meter resolution Credits/Acknowledgements: Sentinel-1 data were accessed through the Copernicus Open Access Hub. The image contains modified Copernicus Sentinel data (2018), processed by ESA and analyzed by the NASA-JPL/Caltech ARIA team. This research was carried out at JPL funded by NASA. For more information about ARIA, visit: http://aria.jpl.nasa.gov",
 "extent": {
  "xmin": -119.4071028,
  "ymin": 33.9321130722107,
  "xmax": -118.36571394566569,
  "ymax": 34.4340575,
  "spatialReference": {
   "wkid": 4326,
   "latestWkid": 4326
  }
 },
 "initialExtent": {
  "xmin": -119.4071028,
  "ymin": 33.9321130722107,
  "xmax": -118.36571394566569,
  "ymax": 34.4340575,
  "spatialReference": {
   "wkid": 4326,
   "latestWkid": 4326
  }
 },
 "fullExtent": {
  "xmin": -119.4071028,
  "ymin": 33.9321130722107,
  "xmax": -118.36571394566569,
  "ymax": 34.4340575,
  "spatialReference": {
   "wkid": 4326,
   "latestWkid": 4326
  }
 },
 "hasMultidimensions": false,
 "pixelSizeX": 1.3888888428038342E-4,
 "pixelSizeY": 1.3888888428038306E-4,
 "datasetFormat": "TIFF",
 "uncompressedSize": 108391088,
 "blockWidth": 7498,
 "blockHeight": 1,
 "compressionType": "None",
 "bandNames": [
  "Band_1",
  "Band_2",
  "Band_3",
  "Band_4"
 ],
 "allowCopy": true,
 "allowAnalysis": true,
 "bandCount": 4,
 "pixelType": "U8",
 "minPixelSize": 0,
 "maxPixelSize": 0,
 "copyrightText": "NASA Disasters Program, ARIA, ESA",
 "serviceDataType": "esriImageServiceDataTypeGeneric",
 "serviceSourceType": "esriImageServiceSourceTypeDataset",
 "minValues": [
  0,
  0,
  0,
  0
 ],
 "maxValues": [
  255,
  255,
  0,
  255
 ],
 "meanValues": [
  8.0701366149214,
  4.1243517732746,
  0,
  7.2951215694024
 ],
 "stdvValues": [
  42.78908663733,
  29.716912336436,
  0,
  38.325615186421
 ],
 "objectIdField": "",
 "fields": [],
 "capabilities": "Mensuration,Image,Metadata",
 "defaultMosaicMethod": "Center",
 "allowedMosaicMethods": "",
 "sortField": "",
 "sortValue": null,
 "sortAscending": true,
 "mosaicOperator": "First",
 "defaultCompressionQuality": 75,
 "defaultResamplingMethod": "Nearest",
 "maxImageHeight": 4100,
 "maxImageWidth": 15000,
 "allowRasterFunction": true,
 "rasterFunctionInfos": [
  {
   "name": "None",
   "description": "Make a Raster or Raster Dataset into a Function Raster Dataset.",
   "help": ""
  },
  {
   "name": "RGB Composite",
   "description": "A raster function template.",
   "help": ""
  }
 ],
 "rasterTypeInfos": [
  {
   "name": "Raster Dataset",
   "description": "Supports all ArcGIS Raster Datasets",
   "help": ""
  }
 ],
 "mensurationCapabilities": "Basic",
 "hasHistograms": true,
 "hasColormap": false,
 "hasRasterAttributeTable": false,
 "minScale": 0,
 "maxScale": 0,
 "exportTilesAllowed": false,
 "supportsStatistics": false,
 "supportsAdvancedQueries": false,
 "editFieldsInfo": null,
 "ownershipBasedAccessControlForRasters": null,
 "allowComputeTiePoints": false,
 "useStandardizedQueries": true,
 "advancedQueryCapabilities": {
  "useStandardizedQueries": true,
  "supportsStatistics": false,
  "supportsOrderBy": false,
  "supportsDistinct": false,
  "supportsPagination": false
 },
 "spatialReference": {
  "wkid": 4326,
  "latestWkid": 4326
 }
}
