{
 "currentVersion": 10.91,
 "serviceDescription": "Date of Imagery:\n11/15/2018\n\nPurpose/Summary:\nThe pre- and post-event images of NASA\u2019s Black Marble product show the lights at night from Los Angeles County and Ventura County, Los Angeles. The images were based on data collected before the wildfires and on November 15, 2018. The NASA Black Marble product suite has been used to assess disruptions in energy infrastructure and utility services following major disasters. The night-time imageries are useful for pre-event and post-event mapping and monitoring of power outages in cloud-free conditions. The Day/Night Band (DNB) sensor of the Visible Infrared Imaging Radiometer Suite (VIIRS), on board the NASA/NOAA Suomi-National Polar-orbiting Partnership (S-NPP) and NASA/NOAA Joint Polar Satellite System (JPSS) satellite platforms, provide daily global measurements of nocturnal visible and near-infrared (NIR) light that are suitable for Earth system science and applications studies. The VIIRS Black Marble product suite detects light in a range of wavelengths from green to near-infrared, including city lights and lights from other activity.\n\n\nSuggested Use:\nCompare pre and post-event imagery to map power outages caused by the wildfires.\n\n\n\n\n\nSatellite/Sensor: \n\nSuomi NPP/VIIRS; 30 m resolution\n\n\n\nCredit/Acknowledgements: \n\nNASA Black Marble team\n\n\n\n\n\nLearn more about NASA Black Marble Product Suite: https://viirsland.gsfc.nasa.gov/Products/NASA/BlackMarble.html \n\n\n\n",
 "name": "CA_fires_2018/woolsey_blackmarblehd_20181115",
 "description": "Date of Imagery:\n11/15/2018\n\nPurpose/Summary:\nThe pre- and post-event images of NASA\u2019s Black Marble product show the lights at night from Los Angeles County and Ventura County, Los Angeles. The images were based on data collected before the wildfires and on November 15, 2018. The NASA Black Marble product suite has been used to assess disruptions in energy infrastructure and utility services following major disasters. The night-time imageries are useful for pre-event and post-event mapping and monitoring of power outages in cloud-free conditions. The Day/Night Band (DNB) sensor of the Visible Infrared Imaging Radiometer Suite (VIIRS), on board the NASA/NOAA Suomi-National Polar-orbiting Partnership (S-NPP) and NASA/NOAA Joint Polar Satellite System (JPSS) satellite platforms, provide daily global measurements of nocturnal visible and near-infrared (NIR) light that are suitable for Earth system science and applications studies. The VIIRS Black Marble product suite detects light in a range of wavelengths from green to near-infrared, including city lights and lights from other activity.\n\n\nSuggested Use:\nCompare pre and post-event imagery to map power outages caused by the wildfires.\n\n\n\n\n\nSatellite/Sensor: \n\nSuomi NPP/VIIRS; 30 m resolution\n\n\n\nCredit/Acknowledgements: \n\nNASA Black Marble team\n\n\n\n\n\nLearn more about NASA Black Marble Product Suite: https://viirsland.gsfc.nasa.gov/Products/NASA/BlackMarble.html \n\n\n\n",
 "extent": {
  "xmin": -119.22430419921875,
  "ymin": 34.00081868530833,
  "xmax": -118.56541530300456,
  "ymax": 34.573707580566406,
  "spatialReference": {
   "wkid": 4326,
   "latestWkid": 4326
  }
 },
 "initialExtent": {
  "xmin": -119.22430419921875,
  "ymin": 34.00081868530833,
  "xmax": -118.56541530300456,
  "ymax": 34.573707580566406,
  "spatialReference": {
   "wkid": 4326,
   "latestWkid": 4326
  }
 },
 "fullExtent": {
  "xmin": -119.22430419921875,
  "ymin": 34.00081868530833,
  "xmax": -118.56541530300456,
  "ymax": 34.573707580566406,
  "spatialReference": {
   "wkid": 4326,
   "latestWkid": 4326
  }
 },
 "hasMultidimensions": false,
 "pixelSizeX": 1.1111111234640703E-4,
 "pixelSizeY": 1.1111111234640703E-4,
 "datasetFormat": "TIFF",
 "uncompressedSize": 122300320,
 "blockWidth": 5930,
 "blockHeight": 1,
 "compressionType": "LZW",
 "bandNames": [
  "Band_1"
 ],
 "allowCopy": true,
 "allowAnalysis": true,
 "bandCount": 1,
 "pixelType": "F32",
 "minPixelSize": 0,
 "maxPixelSize": 0,
 "copyrightText": "NASA Black Marble Team",
 "serviceDataType": "esriImageServiceDataTypeGeneric",
 "serviceSourceType": "esriImageServiceSourceTypeDataset",
 "minValues": [
  0
 ],
 "maxValues": [
  0.98472255468369
 ],
 "meanValues": [
  0.09498892157952
 ],
 "stdvValues": [
  0.17953828477237
 ],
 "objectIdField": "",
 "fields": [],
 "capabilities": "Mensuration,Image,Metadata",
 "defaultMosaicMethod": "Center",
 "allowedMosaicMethods": "",
 "sortField": "",
 "sortValue": null,
 "sortAscending": true,
 "mosaicOperator": "First",
 "defaultCompressionQuality": 75,
 "defaultResamplingMethod": "Bilinear",
 "maxImageHeight": 4100,
 "maxImageWidth": 15000,
 "allowRasterFunction": true,
 "rasterFunctionInfos": [
  {
   "name": "blackmarbleHD",
   "description": "A raster function template.",
   "help": ""
  },
  {
   "name": "None",
   "description": "",
   "help": ""
  }
 ],
 "rasterTypeInfos": [
  {
   "name": "Raster Dataset",
   "description": "Supports all ArcGIS Raster Datasets",
   "help": ""
  }
 ],
 "mensurationCapabilities": "Basic",
 "hasHistograms": true,
 "hasColormap": false,
 "hasRasterAttributeTable": false,
 "minScale": 0,
 "maxScale": 0,
 "exportTilesAllowed": false,
 "supportsStatistics": false,
 "supportsAdvancedQueries": false,
 "editFieldsInfo": null,
 "ownershipBasedAccessControlForRasters": null,
 "allowComputeTiePoints": false,
 "useStandardizedQueries": true,
 "advancedQueryCapabilities": {
  "useStandardizedQueries": true,
  "supportsStatistics": false,
  "supportsOrderBy": false,
  "supportsDistinct": false,
  "supportsPagination": false
 },
 "spatialReference": {
  "wkid": 4326,
  "latestWkid": 4326
 }
}
