{ "currentVersion": 10.91, "serviceDescription": "
Background:<\/span><\/p> This Image Service is a near-real time estimate of 3 hours of precipitation accumulation derived from the IMERG data product. The IMERG product is associated with the Global Precipitation Measurement (GPM) mission. The Global Precipitation Measurement (GPM) mission is an international network of satellites that provide the next-generation global observations of rain and snow. Precipitation Processing System (PPS) at NASA Goddard processes and creates the realtime IMERG data products. \u201cEarly Run\u201d refers to the algorithm that is applied to the near-realtime products. IMERG algorithm can be found in the Algorithm Theoretical Basis Document (ATBD) that is available from the PPS website (http://pps.gsfc.nasa.gov/). The Image Service is published using a Raster Mosaic populated with GeoTiffs collected from the PPS download site daily. These GeoTiffs are translated from the original Hierarchical Data Format Version 5 (HDF5) Files produced for IMERG by the US GPM Team at NASA Goddard.<\/span><\/p> Data Visualization:<\/span><\/p> Precipitation accumulation is shown using a Stretched Color Ramp (Green-Red). Minimum-Maximum Stretch type was applied using 0 for minimum (Green) and 500 for Maximum (Red). Values are shown in millimeters with a scale factor of 10 applied. For example a value of 10 is equal to 1mm of precipitation. <\/span><\/p> Update Frequency:<\/span><\/p> 3 Hour latency<\/span><\/p> Suggested Usage: <\/span><\/p> Precipitation accumulation is useful in predicting flood risk, landslide hazards, and ice accumulation.<\/span><\/p> Further Reference:<\/span><\/p> Learn more about Global Precipitation Measurement mission.<\/span><\/p> Learn more about GPM's science objectives. <\/span><\/p> Learn more about GPM's applications.<\/span><\/p><\/div><\/div><\/div>",
"name": "GPM_NRT/GPM_NRT_3hr",
"description": " Background:<\/span><\/p> This Image Service is a near-real time estimate of 3 hours of precipitation accumulation derived from the IMERG data product. The IMERG product is associated with the Global Precipitation Measurement (GPM) mission. The Global Precipitation Measurement (GPM) mission is an international network of satellites that provide the next-generation global observations of rain and snow. Precipitation Processing System (PPS) at NASA Goddard processes and creates the realtime IMERG data products. \u201cEarly Run\u201d refers to the algorithm that is applied to the near-realtime products. IMERG algorithm can be found in the Algorithm Theoretical Basis Document (ATBD) that is available from the PPS website (http://pps.gsfc.nasa.gov/). The Image Service is published using a Raster Mosaic populated with GeoTiffs collected from the PPS download site daily. These GeoTiffs are translated from the original Hierarchical Data Format Version 5 (HDF5) Files produced for IMERG by the US GPM Team at NASA Goddard.<\/span><\/p> Data Visualization:<\/span><\/p> Precipitation accumulation is shown using a Stretched Color Ramp (Green-Red). Minimum-Maximum Stretch type was applied using 0 for minimum (Green) and 500 for Maximum (Red). Values are shown in millimeters with a scale factor of 10 applied. For example a value of 10 is equal to 1mm of precipitation. <\/span><\/p> Update Frequency:<\/span><\/p> 3 Hour latency<\/span><\/p> Suggested Usage: <\/span><\/p> Precipitation accumulation is useful in predicting flood risk, landslide hazards, and ice accumulation.<\/span><\/p> Further Reference:<\/span><\/p> Learn more about Global Precipitation Measurement mission.<\/span><\/p> Learn more about GPM's science objectives. <\/span><\/p> Learn more about GPM's applications.<\/span><\/p><\/div><\/div><\/div>",
"extent": {
"xmin": -2.00319423682E7,
"ymin": -3.024097145838615E7,
"xmax": 2.00319423682E7,
"ymax": 3.024097145838615E7,
"spatialReference": {
"wkid": 102100,
"latestWkid": 3857
}
},
"initialExtent": {
"xmin": -2.00319423682E7,
"ymin": -3.024097145838615E7,
"xmax": 2.00319423682E7,
"ymax": 3.024097145838615E7,
"spatialReference": {
"wkid": 102100,
"latestWkid": 3857
}
},
"fullExtent": {
"xmin": -2.00319423682E7,
"ymin": -3.024097145838615E7,
"xmax": 2.00319423682E7,
"ymax": 3.024097145838615E7,
"spatialReference": {
"wkid": 102100,
"latestWkid": 3857
}
},
"hasMultidimensions": false,
"pixelSizeX": 4.00638847364E7,
"pixelSizeY": 6.04819429167723E7,
"datasetFormat": "AMD",
"uncompressedSize": 2,
"blockWidth": 2048,
"blockHeight": 256,
"compressionType": "None",
"bandNames": [
"Band_1"
],
"allowCopy": true,
"allowAnalysis": true,
"bandCount": 1,
"pixelType": "U16",
"minPixelSize": 0,
"maxPixelSize": 0,
"copyrightText": "NASA Precipitation Measurement Missions (PMM) Science Team, The Global Precipitation Measurement (GPM) mission, NASA, Japan Aerospace Exploration Agency (JAXA)",
"serviceDataType": "esriImageServiceDataTypeGeneric",
"serviceSourceType": "esriImageServiceSourceTypeMosaicDataset",
"minValues": [],
"maxValues": [],
"meanValues": [],
"stdvValues": [],
"objectIdField": "OBJECTID",
"fields": [
{
"name": "OBJECTID",
"type": "esriFieldTypeOID",
"alias": "OBJECTID",
"domain": null
},
{
"name": "Shape",
"type": "esriFieldTypeGeometry",
"alias": "Shape",
"domain": null
},
{
"name": "Name",
"type": "esriFieldTypeString",
"alias": "Name",
"domain": null,
"length": 200
},
{
"name": "MinPS",
"type": "esriFieldTypeDouble",
"alias": "MinPS",
"domain": null
},
{
"name": "MaxPS",
"type": "esriFieldTypeDouble",
"alias": "MaxPS",
"domain": null
},
{
"name": "LowPS",
"type": "esriFieldTypeDouble",
"alias": "LowPS",
"domain": null
},
{
"name": "HighPS",
"type": "esriFieldTypeDouble",
"alias": "HighPS",
"domain": null
},
{
"name": "Category",
"type": "esriFieldTypeInteger",
"alias": "Category",
"domain": {
"type": "codedValue",
"name": "MosaicCatalogItemCategoryDomain",
"description": "Catalog item categories.",
"codedValues": [
{
"name": "Unknown",
"code": 0
},
{
"name": "Primary",
"code": 1
},
{
"name": "Overview",
"code": 2
},
{
"name": "Unprocessed Overview",
"code": 3
},
{
"name": "Partial Overview",
"code": 4
},
{
"name": "Inactive",
"code": 5
},
{
"name": "Uploaded",
"code": 253
},
{
"name": "Incomplete",
"code": 254
},
{
"name": "Custom",
"code": 255
}
],
"mergePolicy": "esriMPTDefaultValue",
"splitPolicy": "esriSPTDefaultValue"
}
},
{
"name": "Tag",
"type": "esriFieldTypeString",
"alias": "Tag",
"domain": null,
"length": 100
},
{
"name": "GroupName",
"type": "esriFieldTypeString",
"alias": "GroupName",
"domain": null,
"length": 100
},
{
"name": "ProductName",
"type": "esriFieldTypeString",
"alias": "ProductName",
"domain": null,
"length": 100
},
{
"name": "CenterX",
"type": "esriFieldTypeDouble",
"alias": "CenterX",
"domain": null
},
{
"name": "CenterY",
"type": "esriFieldTypeDouble",
"alias": "CenterY",
"domain": null
},
{
"name": "ZOrder",
"type": "esriFieldTypeInteger",
"alias": "ZOrder",
"domain": null
},
{
"name": "Date",
"type": "esriFieldTypeDate",
"alias": "Date",
"domain": null,
"length": 8
},
{
"name": "Product",
"type": "esriFieldTypeString",
"alias": "Product",
"domain": null,
"length": 50
},
{
"name": "Shape_Length",
"type": "esriFieldTypeDouble",
"alias": "Shape_Length",
"domain": null
},
{
"name": "Shape_Area",
"type": "esriFieldTypeDouble",
"alias": "Shape_Area",
"domain": null
}
],
"capabilities": "Catalog,Mensuration,Image,Metadata",
"defaultMosaicMethod": "Northwest",
"allowedMosaicMethods": "NorthWest,Center,LockRaster,ByAttribute,Nadir,Viewpoint,Seamline,None",
"sortField": "",
"sortValue": null,
"sortAscending": true,
"mosaicOperator": "First",
"maxDownloadSizeLimit": 2048,
"defaultCompressionQuality": 75,
"defaultResamplingMethod": "Bilinear",
"maxImageHeight": 4100,
"maxImageWidth": 15000,
"maxRecordCount": 1000,
"maxDownloadImageCount": 20,
"maxMosaicImageCount": 20,
"allowRasterFunction": true,
"rasterFunctionInfos": [
{
"name": "NASA_GPM_Stretch",
"description": "A raster function template.",
"help": ""
},
{
"name": "None",
"description": "A No-Op Function.",
"help": ""
}
],
"rasterTypeInfos": [
{
"name": "Raster Dataset",
"description": "Supports all ArcGIS Raster Datasets",
"help": ""
}
],
"mensurationCapabilities": "",
"hasHistograms": false,
"hasColormap": false,
"hasRasterAttributeTable": false,
"minScale": 0,
"maxScale": 0,
"exportTilesAllowed": false,
"supportsStatistics": true,
"supportsAdvancedQueries": true,
"editFieldsInfo": null,
"ownershipBasedAccessControlForRasters": null,
"allowComputeTiePoints": false,
"useStandardizedQueries": true,
"advancedQueryCapabilities": {
"useStandardizedQueries": true,
"supportsStatistics": true,
"supportsOrderBy": true,
"supportsDistinct": true,
"supportsPagination": true
},
"spatialReference": {
"wkid": 102100,
"latestWkid": 3857
}
}