{
 "currentVersion": 10.91,
 "serviceDescription": "Purpose/Summary: \n\n\nThis Band 532 RGB provides a false composite look at the surface. This product contains imagery from USGS' Landsat 8. Image produced: 09/28/2018\n\n\n\nSuggested Usage:\n\nThis imagery can be compared to post-event imagery to determine areas where large amounts of soil, sediment, pollution and other debris have swollen rivers, bays, estuaries, and the nearshore ocean. These debris are an important measure of water quality and has important implications for drinking water, aquatic ecosystems and metal transport. Furter inland, rivers appear dark and when viewed next to post-event imagery it can help determine areas of flooding due to Hurricane Florence.\n\n\n\nSatellite/Sensor/Resolution:\n\nUSGS Landsat-8 Operational Land Imager (OLI); 30m resolution\n\n\n\nCredit/Acknowledgments:\n\nNASA, USGS",
 "name": "Hurricance_Florence_2018/L8_532_RGB_07142017",
 "description": "Purpose/Summary: \n\n\nThis Band 532 RGB provides a false composite look at the surface. This product contains imagery from USGS' Landsat 8. Image produced: 09/28/2018\n\n\n\nSuggested Usage:\n\nThis imagery can be compared to post-event imagery to determine areas where large amounts of soil, sediment, pollution and other debris have swollen rivers, bays, estuaries, and the nearshore ocean. These debris are an important measure of water quality and has important implications for drinking water, aquatic ecosystems and metal transport. Furter inland, rivers appear dark and when viewed next to post-event imagery it can help determine areas of flooding due to Hurricane Florence.\n\n\n\nSatellite/Sensor/Resolution:\n\nUSGS Landsat-8 Operational Land Imager (OLI); 30m resolution\n\n\n\nCredit/Acknowledgments:\n\nNASA, USGS",
 "extent": {
  "xmin": 239685,
  "ymin": 3711885,
  "xmax": 472515,
  "ymax": 3948915,
  "spatialReference": {
   "wkid": 32618,
   "latestWkid": 32618
  }
 },
 "initialExtent": {
  "xmin": 239685,
  "ymin": 3711885,
  "xmax": 472515,
  "ymax": 3948915,
  "spatialReference": {
   "wkid": 32618,
   "latestWkid": 32618
  }
 },
 "fullExtent": {
  "xmin": 239685,
  "ymin": 3711885,
  "xmax": 472515,
  "ymax": 3948915,
  "spatialReference": {
   "wkid": 32618,
   "latestWkid": 32618
  }
 },
 "hasMultidimensions": false,
 "pixelSizeX": 30,
 "pixelSizeY": 30,
 "datasetFormat": "GRID Stack 7.x",
 "uncompressedSize": 1103753898,
 "blockWidth": 256,
 "blockHeight": 16,
 "compressionType": "None",
 "bandNames": [
  "lc08_0714c1",
  "lc08_0714c2",
  "lc08_0714c3",
  "lc08_0714c4",
  "lc08_0714c5",
  "lc08_0714c6",
  "lc08_0714c7",
  "lc08_0714c8",
  "lc08_0714c9"
 ],
 "allowCopy": true,
 "allowAnalysis": true,
 "bandCount": 9,
 "noDataValue": 65535,
 "noDataValues": [
  65535,
  65535,
  65535,
  65535,
  65535,
  65535,
  65535,
  65535,
  -32768
 ],
 "pixelType": "S16",
 "minPixelSize": 0,
 "maxPixelSize": 0,
 "copyrightText": "USGS, NASA Disasters Program",
 "serviceDataType": "esriImageServiceDataTypeGeneric",
 "serviceSourceType": "esriImageServiceSourceTypeDataset",
 "minValues": [
  0,
  0,
  0,
  0,
  0,
  0,
  0,
  0,
  0
 ],
 "maxValues": [
  44579,
  45782,
  45340,
  47763,
  52764,
  57117,
  50924,
  47284,
  7087
 ],
 "meanValues": [
  7704.494576331725,
  7006.00010600189,
  6105.618092816919,
  5491.319369818434,
  7409.231114992628,
  5791.965548113516,
  4817.683210365432,
  5878.168849645141,
  3427.557188582631
 ],
 "stdvValues": [
  5381.825255247777,
  4912.23842891709,
  4299.586752854134,
  3918.941743283902,
  7119.560346597078,
  4731.307685272076,
  3590.533426347011,
  4155.606526667268,
  2368.2647258846287
 ],
 "objectIdField": "",
 "fields": [],
 "capabilities": "Mensuration,Image,Metadata",
 "defaultMosaicMethod": "Center",
 "allowedMosaicMethods": "",
 "sortField": "",
 "sortValue": null,
 "sortAscending": true,
 "mosaicOperator": "First",
 "defaultCompressionQuality": 75,
 "defaultResamplingMethod": "Bilinear",
 "maxImageHeight": 4100,
 "maxImageWidth": 15000,
 "allowRasterFunction": true,
 "rasterFunctionInfos": [
  {
   "name": "Landsat_532",
   "description": "A raster function template.",
   "help": ""
  },
  {
   "name": "None",
   "description": "",
   "help": ""
  }
 ],
 "rasterTypeInfos": [
  {
   "name": "Raster Dataset",
   "description": "Supports all ArcGIS Raster Datasets",
   "help": ""
  }
 ],
 "mensurationCapabilities": "Basic",
 "hasHistograms": true,
 "hasColormap": false,
 "hasRasterAttributeTable": false,
 "minScale": 0,
 "maxScale": 0,
 "exportTilesAllowed": false,
 "supportsStatistics": false,
 "supportsAdvancedQueries": false,
 "editFieldsInfo": null,
 "ownershipBasedAccessControlForRasters": null,
 "allowComputeTiePoints": false,
 "useStandardizedQueries": true,
 "advancedQueryCapabilities": {
  "useStandardizedQueries": true,
  "supportsStatistics": false,
  "supportsOrderBy": false,
  "supportsDistinct": false,
  "supportsPagination": false
 },
 "spatialReference": {
  "wkid": 32618,
  "latestWkid": 32618
 }
}
