{
 "currentVersion": 10.91,
 "serviceDescription": "Hurricance_Florence_2018/L8_532_RGB_09192018",
 "name": "Hurricance_Florence_2018/L8_532_RGB_09192018",
 "description": "",
 "extent": {
  "xmin": 239685,
  "ymin": 3711885,
  "xmax": 472815,
  "ymax": 3948915,
  "spatialReference": {
   "wkid": 32618,
   "latestWkid": 32618
  }
 },
 "initialExtent": {
  "xmin": 239685,
  "ymin": 3711885,
  "xmax": 472815,
  "ymax": 3948915,
  "spatialReference": {
   "wkid": 32618,
   "latestWkid": 32618
  }
 },
 "fullExtent": {
  "xmin": 239685,
  "ymin": 3711885,
  "xmax": 472815,
  "ymax": 3948915,
  "spatialReference": {
   "wkid": 32618,
   "latestWkid": 32618
  }
 },
 "hasMultidimensions": false,
 "pixelSizeX": 30,
 "pixelSizeY": 30,
 "datasetFormat": "GRID Stack 7.x",
 "uncompressedSize": 2210352156,
 "blockWidth": 256,
 "blockHeight": 16,
 "compressionType": "None",
 "bandNames": [
  "lc8_0919c1",
  "lc8_0919c2",
  "lc8_0919c3",
  "lc8_0919c4",
  "lc8_0919c5",
  "lc8_0919c6",
  "lc8_0919c7",
  "lc8_0919c8",
  "lc8_0919c9"
 ],
 "allowCopy": true,
 "allowAnalysis": true,
 "bandCount": 9,
 "noDataValue": 65535,
 "noDataValues": [
  65535,
  65535,
  65535,
  65535,
  65535,
  65536,
  65536,
  65536,
  -32768
 ],
 "pixelType": "S32",
 "minPixelSize": 0,
 "maxPixelSize": 0,
 "copyrightText": "",
 "serviceDataType": "esriImageServiceDataTypeGeneric",
 "serviceSourceType": "esriImageServiceSourceTypeDataset",
 "minValues": [
  0,
  0,
  0,
  0,
  0,
  0,
  0,
  0,
  0
 ],
 "maxValues": [
  39432,
  41484,
  41936,
  44900,
  60583,
  65535,
  65535,
  65535,
  9777
 ],
 "meanValues": [
  6740.3161597748585,
  6130.75674892051,
  5310.475844957621,
  4624.640258483771,
  5563.174076976356,
  4608.036879544185,
  4033.467578003439,
  5046.116087822162,
  3396.522947214932
 ],
 "stdvValues": [
  4698.080485564793,
  4288.843087695608,
  3737.6098087249497,
  3291.3603224542785,
  5224.620404635844,
  3835.574685058127,
  3013.218004510243,
  3556.4088526630608,
  2351.082315445269
 ],
 "objectIdField": "",
 "fields": [],
 "capabilities": "Mensuration,Image,Metadata",
 "defaultMosaicMethod": "Center",
 "allowedMosaicMethods": "",
 "sortField": "",
 "sortValue": null,
 "sortAscending": true,
 "mosaicOperator": "First",
 "defaultCompressionQuality": 75,
 "defaultResamplingMethod": "Bilinear",
 "maxImageHeight": 4100,
 "maxImageWidth": 15000,
 "allowRasterFunction": true,
 "rasterFunctionInfos": [
  {
   "name": "Landsat_532",
   "description": "A raster function template.",
   "help": ""
  },
  {
   "name": "None",
   "description": "",
   "help": ""
  }
 ],
 "rasterTypeInfos": [
  {
   "name": "Raster Dataset",
   "description": "Supports all ArcGIS Raster Datasets",
   "help": ""
  }
 ],
 "mensurationCapabilities": "Basic",
 "hasHistograms": true,
 "hasColormap": false,
 "hasRasterAttributeTable": false,
 "minScale": 0,
 "maxScale": 0,
 "exportTilesAllowed": false,
 "supportsStatistics": false,
 "supportsAdvancedQueries": false,
 "editFieldsInfo": null,
 "ownershipBasedAccessControlForRasters": null,
 "allowComputeTiePoints": false,
 "useStandardizedQueries": true,
 "advancedQueryCapabilities": {
  "useStandardizedQueries": true,
  "supportsStatistics": false,
  "supportsOrderBy": false,
  "supportsDistinct": false,
  "supportsPagination": false
 },
 "spatialReference": {
  "wkid": 32618,
  "latestWkid": 32618
 }
}
