{
 "currentVersion": 10.91,
 "serviceDescription": "Purpose/Summary:\n\nNormalized Difference Water Index (NDWI; McFeeters, 1996) provides a different view of the Earth's surface combining different bands to make water bodies more noticeable than what is seen in traditional True Color RGB Composites. This product contains imagery from Landsat-8 produced on September 17, 2018.\n\n\n\nSuggested Usage:\n\nAreas of existing open water, such as a river or ocean appear in the darkest blue (some in land lakes show up as tan), while dry land appears in the darkest brown. Potentially flooded areas and saturated land is seen in the lighter browns and blues. This product can be used to identify potentially flooded areas that can be seen in varying shades of blue and light brown depending on the amount of moisture picked up by the satellite.\n\n\n\nSatellite/Sensor/Resolution:\n\nLandsat-8 Operational Land Imager (OLI); 30m resolution\n\n\n\nCredit/Acknowledgments:\n\nNASA/MSFC, USGS",
 "name": "Hurricance_Florence_2018/L8_NDWI_20180926",
 "description": "Purpose/Summary:\n\nNormalized Difference Water Index (NDWI; McFeeters, 1996) provides a different view of the Earth's surface combining different bands to make water bodies more noticeable than what is seen in traditional True Color RGB Composites. This product contains imagery from Landsat-8 produced on September 17, 2018.\n\n\n\nSuggested Usage:\n\nAreas of existing open water, such as a river or ocean appear in the darkest blue (some in land lakes show up as tan), while dry land appears in the darkest brown. Potentially flooded areas and saturated land is seen in the lighter browns and blues. This product can be used to identify potentially flooded areas that can be seen in varying shades of blue and light brown depending on the amount of moisture picked up by the satellite.\n\n\n\nSatellite/Sensor/Resolution:\n\nLandsat-8 Operational Land Imager (OLI); 30m resolution\n\n\n\nCredit/Acknowledgments:\n\nNASA/MSFC, USGS",
 "extent": {
  "xmin": -79.74893819928184,
  "ymin": 32.100225717987676,
  "xmax": -76.38565299691756,
  "ymax": 37.1387617578011,
  "spatialReference": {
   "wkid": 4326,
   "latestWkid": 4326
  }
 },
 "initialExtent": {
  "xmin": -79.74893819928184,
  "ymin": 32.100225717987676,
  "xmax": -76.38565299691756,
  "ymax": 37.1387617578011,
  "spatialReference": {
   "wkid": 4326,
   "latestWkid": 4326
  }
 },
 "fullExtent": {
  "xmin": -79.74893819928184,
  "ymin": 32.100225717987676,
  "xmax": -76.38565299691756,
  "ymax": 37.1387617578011,
  "spatialReference": {
   "wkid": 4326,
   "latestWkid": 4326
  }
 },
 "hasMultidimensions": false,
 "pixelSizeX": 3.0436970157142815E-4,
 "pixelSizeY": 3.043697015714282E-4,
 "datasetFormat": "TIFF",
 "uncompressedSize": 731686800,
 "blockWidth": 11050,
 "blockHeight": 1,
 "compressionType": "None",
 "bandNames": [
  "Band_1"
 ],
 "allowCopy": true,
 "allowAnalysis": true,
 "bandCount": 1,
 "pixelType": "F32",
 "minPixelSize": 0,
 "maxPixelSize": 0,
 "copyrightText": "",
 "serviceDataType": "esriImageServiceDataTypeGeneric",
 "serviceSourceType": "esriImageServiceSourceTypeDataset",
 "minValues": [],
 "maxValues": [],
 "meanValues": [],
 "stdvValues": [],
 "objectIdField": "",
 "fields": [],
 "capabilities": "Mensuration,Image,Metadata",
 "defaultMosaicMethod": "Center",
 "allowedMosaicMethods": "",
 "sortField": "",
 "sortValue": null,
 "sortAscending": true,
 "mosaicOperator": "First",
 "defaultCompressionQuality": 75,
 "defaultResamplingMethod": "Bilinear",
 "maxImageHeight": 4100,
 "maxImageWidth": 15000,
 "allowRasterFunction": true,
 "rasterFunctionInfos": [
  {
   "name": "L8_mndwi",
   "description": "A raster function template.",
   "help": ""
  },
  {
   "name": "None",
   "description": "",
   "help": ""
  }
 ],
 "rasterTypeInfos": [
  {
   "name": "Raster Dataset",
   "description": "Supports all ArcGIS Raster Datasets",
   "help": ""
  }
 ],
 "mensurationCapabilities": "Basic",
 "hasHistograms": false,
 "hasColormap": false,
 "hasRasterAttributeTable": false,
 "minScale": 0,
 "maxScale": 0,
 "exportTilesAllowed": false,
 "supportsStatistics": false,
 "supportsAdvancedQueries": false,
 "editFieldsInfo": null,
 "ownershipBasedAccessControlForRasters": null,
 "allowComputeTiePoints": false,
 "useStandardizedQueries": true,
 "advancedQueryCapabilities": {
  "useStandardizedQueries": true,
  "supportsStatistics": false,
  "supportsOrderBy": false,
  "supportsDistinct": false,
  "supportsPagination": false
 },
 "spatialReference": {
  "wkid": 4326,
  "latestWkid": 4326
 }
}
