{
 "currentVersion": 10.91,
 "serviceDescription": "Purpose/Summary:\n\nLandsat-8 panchromatic images are a single band image (similar to a red, green, or blue band) from the panchromatic band (band 8). The panchromatic band provides a sharper image than the other Landsat bands due to its higher spatial resolution (15m). This product contains imagery from Landsat-8 produced on September 26, 2018.\n\nSuggested Usage:\n\nSurface features such as water, roads, and buildings can be identified. Cloudy areas are seen in bright white. \n\nSatellite/Sensor/Resolution:\n\nLandsat-8 Operational Land Imager (OLI); 15 m resolution\n\nCredit/Acknowledgments:\n\nNASA/MSFC, USGS",
 "name": "Hurricance_Florence_2018/L8_panchromatic_20180926",
 "description": "Purpose/Summary:\n\nLandsat-8 panchromatic images are a single band image (similar to a red, green, or blue band) from the panchromatic band (band 8). The panchromatic band provides a sharper image than the other Landsat bands due to its higher spatial resolution (15m). This product contains imagery from Landsat-8 produced on September 26, 2018.\n\nSuggested Usage:\n\nSurface features such as water, roads, and buildings can be identified. Cloudy areas are seen in bright white. \n\nSatellite/Sensor/Resolution:\n\nLandsat-8 Operational Land Imager (OLI); 15 m resolution\n\nCredit/Acknowledgments:\n\nNASA/MSFC, USGS",
 "extent": {
  "xmin": -79.74885776481388,
  "ymin": 32.10015766811986,
  "xmax": -76.38587729944292,
  "ymax": 37.138693157643864,
  "spatialReference": {
   "wkid": 4326,
   "latestWkid": 4326
  }
 },
 "initialExtent": {
  "xmin": -79.74885776481388,
  "ymin": 32.10015766811986,
  "xmax": -76.38587729944292,
  "ymax": 37.138693157643864,
  "spatialReference": {
   "wkid": 4326,
   "latestWkid": 4326
  }
 },
 "fullExtent": {
  "xmin": -79.74885776481388,
  "ymin": 32.10015766811986,
  "xmax": -76.38587729944292,
  "ymax": 37.138693157643864,
  "spatialReference": {
   "wkid": 4326,
   "latestWkid": 4326
  }
 },
 "hasMultidimensions": false,
 "pixelSizeX": 1.521848341646734E-4,
 "pixelSizeY": 1.5218483416467324E-4,
 "datasetFormat": "TIFF",
 "uncompressedSize": 731620584,
 "blockWidth": 22098,
 "blockHeight": 1,
 "compressionType": "None",
 "bandNames": [
  "Band_1"
 ],
 "allowCopy": true,
 "allowAnalysis": true,
 "bandCount": 1,
 "noDataValue": 0,
 "noDataValues": [
  0
 ],
 "pixelType": "U8",
 "minPixelSize": 0,
 "maxPixelSize": 0,
 "copyrightText": "",
 "serviceDataType": "esriImageServiceDataTypeGeneric",
 "serviceSourceType": "esriImageServiceSourceTypeDataset",
 "minValues": [],
 "maxValues": [],
 "meanValues": [],
 "stdvValues": [],
 "objectIdField": "",
 "fields": [],
 "capabilities": "Mensuration,Image,Metadata",
 "defaultMosaicMethod": "Center",
 "allowedMosaicMethods": "",
 "sortField": "",
 "sortValue": null,
 "sortAscending": true,
 "mosaicOperator": "First",
 "defaultCompressionQuality": 75,
 "defaultResamplingMethod": "Bilinear",
 "maxImageHeight": 4100,
 "maxImageWidth": 15000,
 "allowRasterFunction": true,
 "rasterFunctionInfos": [
  {
   "name": "None",
   "description": "",
   "help": ""
  }
 ],
 "rasterTypeInfos": [
  {
   "name": "Raster Dataset",
   "description": "Supports all ArcGIS Raster Datasets",
   "help": ""
  }
 ],
 "mensurationCapabilities": "Basic",
 "hasHistograms": false,
 "hasColormap": false,
 "hasRasterAttributeTable": false,
 "minScale": 0,
 "maxScale": 0,
 "exportTilesAllowed": false,
 "supportsStatistics": false,
 "supportsAdvancedQueries": false,
 "editFieldsInfo": null,
 "ownershipBasedAccessControlForRasters": null,
 "allowComputeTiePoints": false,
 "useStandardizedQueries": true,
 "advancedQueryCapabilities": {
  "useStandardizedQueries": true,
  "supportsStatistics": false,
  "supportsOrderBy": false,
  "supportsDistinct": false,
  "supportsPagination": false
 },
 "spatialReference": {
  "wkid": 4326,
  "latestWkid": 4326
 }
}
