{
 "currentVersion": 10.91,
 "serviceDescription": "Purpose/Summary: \n\nFrom NASA Black Marble product suite, the images of nighttime lights in Hurricane Florence ROI areas are based on data captured by the Suomi NPP satellite, with an equator crossing time of approximately 1:30 am local time. The data was acquired by the Day/Night Band (DNB) of the Visible Infrared Imaging Radiometer Suite (VIIRS), which detects light in a range of wavelengths from green to near-infrared, including city lights and lights from other activity. The NASA Black Marble standard product is available on a daily basis within 3-5 hours after acquisition at 500m spatial resolution from January 2012 to present. The Black Marble high definition (HD) product is being developed at 30m spatial resolution with data from other earth observing satellites (e.g., Landsat-8, Sentinel-2) and ancillary data sources (street, building, and other GIS layers). The pre-event images for Hurricane Florence are based on the composite Black Marble images created on October 6, 2018. The Black Marble standard and HD products are continuously being produced and delivered for the latest day available.\n\nSuggested Usage: \n\nIn the aftermath of Hurricane Micahel, widespread power outages were reported in Florida's panhandle. In preparations for this event NASA\u2019s Disasters program employed one of its core capabilities, NASA\u2019s Black Marble product suite, to enable immediate access to data documenting disruptions in energy infrastructure and utility services. In these images, areas in red are in high-light condition, while areas in black are in low-light condition before the arrival of Hurricane Florence. It is recommended to use this product for mapping of power outages.\n\nSatellite/Sensor: \n\nSuomi NPP/VIIRS; 30 m resolution\n\nCredit/Acknowledgements: \n\nNASA Black Marble team\n\n\n\nLearn more about NASA Black Marble Product Suite: https://viirsland.gsfc.nasa.gov/Products/NASA/BlackMarble.html\n\nExplore the data:\n\nNASA's Worldview:\n\nhttps://worldview.earthdata.nasa.gov/?p=geographic&l=VIIRS_SNPP_CorrectedReflectance_TrueColor(hidden),MODIS_Aqua_CorrectedReflectance_TrueColor(hidden),MODIS_Terra_CorrectedReflectance_TrueColor(hidden),VIIRS_Black_Marble,Reference_Labels(hidden),Reference_Features(hidden),Coastlines(hidden),VIIRS_SNPP_DayNightBand_ENCC(hidden),VIIRS_Night_Lights(hidden)&t=2016-12-25&z=3&v=-33.8537999020307,18.157836234850183,62.19307509796927,63.20682048577659\n\nVoyager in Google Earth:\n\nhttps://earth.google.com/web/@27.44405477,-84.76930462,9.85288937a,8916363.81451868d,35y,0h,0t,0r/data=CisSKRIgMGY3ZTJkYzdlOGExMTFlNjk5MGQ2ZjgxOGQ2OWE2ZTciBWVhcnRo\n\nReferences:\n\nRomán, M.O., Wang, Z., Sun, Q., Kalb, V., Miller, S.D., Molthan, A., Schultz, L., Bell, J., Stokes, E.C., Pandey, B. and Seto, K.C., et al. (2018). NASA's Black Marble nighttime lights product suite. Remote Sensing of Environment, 210, 113-143. doi:10.1016/j.rse.2018.03.017.",
 "name": "Hurricane_Michael_2018/black_marble_hd_pre_20181006",
 "description": "Purpose/Summary: \n\nFrom NASA Black Marble product suite, the images of nighttime lights in Hurricane Florence ROI areas are based on data captured by the Suomi NPP satellite, with an equator crossing time of approximately 1:30 am local time. The data was acquired by the Day/Night Band (DNB) of the Visible Infrared Imaging Radiometer Suite (VIIRS), which detects light in a range of wavelengths from green to near-infrared, including city lights and lights from other activity. The NASA Black Marble standard product is available on a daily basis within 3-5 hours after acquisition at 500m spatial resolution from January 2012 to present. The Black Marble high definition (HD) product is being developed at 30m spatial resolution with data from other earth observing satellites (e.g., Landsat-8, Sentinel-2) and ancillary data sources (street, building, and other GIS layers). The pre-event images for Hurricane Florence are based on the composite Black Marble images created on October 6, 2018. The Black Marble standard and HD products are continuously being produced and delivered for the latest day available.\n\nSuggested Usage: \n\nIn the aftermath of Hurricane Micahel, widespread power outages were reported in Florida's panhandle. In preparations for this event NASA\u2019s Disasters program employed one of its core capabilities, NASA\u2019s Black Marble product suite, to enable immediate access to data documenting disruptions in energy infrastructure and utility services. In these images, areas in red are in high-light condition, while areas in black are in low-light condition before the arrival of Hurricane Florence. It is recommended to use this product for mapping of power outages.\n\nSatellite/Sensor: \n\nSuomi NPP/VIIRS; 30 m resolution\n\nCredit/Acknowledgements: \n\nNASA Black Marble team\n\n\n\nLearn more about NASA Black Marble Product Suite: https://viirsland.gsfc.nasa.gov/Products/NASA/BlackMarble.html\n\nExplore the data:\n\nNASA's Worldview:\n\nhttps://worldview.earthdata.nasa.gov/?p=geographic&l=VIIRS_SNPP_CorrectedReflectance_TrueColor(hidden),MODIS_Aqua_CorrectedReflectance_TrueColor(hidden),MODIS_Terra_CorrectedReflectance_TrueColor(hidden),VIIRS_Black_Marble,Reference_Labels(hidden),Reference_Features(hidden),Coastlines(hidden),VIIRS_SNPP_DayNightBand_ENCC(hidden),VIIRS_Night_Lights(hidden)&t=2016-12-25&z=3&v=-33.8537999020307,18.157836234850183,62.19307509796927,63.20682048577659\n\nVoyager in Google Earth:\n\nhttps://earth.google.com/web/@27.44405477,-84.76930462,9.85288937a,8916363.81451868d,35y,0h,0t,0r/data=CisSKRIgMGY3ZTJkYzdlOGExMTFlNjk5MGQ2ZjgxOGQ2OWE2ZTciBWVhcnRo\n\nReferences:\n\nRomán, M.O., Wang, Z., Sun, Q., Kalb, V., Miller, S.D., Molthan, A., Schultz, L., Bell, J., Stokes, E.C., Pandey, B. and Seto, K.C., et al. (2018). NASA's Black Marble nighttime lights product suite. Remote Sensing of Environment, 210, 113-143. doi:10.1016/j.rse.2018.03.017.",
 "extent": {
  "xmin": -85.74818420410156,
  "ymin": 29.880226495217357,
  "xmax": -85.34018419956556,
  "ymax": 30.289670944213867,
  "spatialReference": {
   "wkid": 4326,
   "latestWkid": 4326
  }
 },
 "initialExtent": {
  "xmin": -85.74818420410156,
  "ymin": 29.880226495217357,
  "xmax": -85.34018419956556,
  "ymax": 30.289670944213867,
  "spatialReference": {
   "wkid": 4326,
   "latestWkid": 4326
  }
 },
 "fullExtent": {
  "xmin": -85.74818420410156,
  "ymin": 29.880226495217357,
  "xmax": -85.34018419956556,
  "ymax": 30.289670944213867,
  "spatialReference": {
   "wkid": 4326,
   "latestWkid": 4326
  }
 },
 "hasMultidimensions": false,
 "pixelSizeX": 1.1111111234640703E-4,
 "pixelSizeY": 1.1111111234640703E-4,
 "datasetFormat": "AMD",
 "uncompressedSize": 54125280,
 "blockWidth": 2048,
 "blockHeight": 256,
 "compressionType": "None",
 "bandNames": [
  "Band_1"
 ],
 "allowCopy": true,
 "allowAnalysis": true,
 "bandCount": 1,
 "pixelType": "F32",
 "minPixelSize": 0,
 "maxPixelSize": 0,
 "copyrightText": "NASA Black Marble Team",
 "serviceDataType": "esriImageServiceDataTypeGeneric",
 "serviceSourceType": "esriImageServiceSourceTypeMosaicDataset",
 "minValues": [],
 "maxValues": [],
 "meanValues": [],
 "stdvValues": [],
 "objectIdField": "OBJECTID",
 "fields": [
  {
   "name": "OBJECTID",
   "type": "esriFieldTypeOID",
   "alias": "OBJECTID",
   "domain": null
  },
  {
   "name": "Shape",
   "type": "esriFieldTypeGeometry",
   "alias": "Shape",
   "domain": null
  },
  {
   "name": "Name",
   "type": "esriFieldTypeString",
   "alias": "Name",
   "domain": null,
   "length": 200
  },
  {
   "name": "MinPS",
   "type": "esriFieldTypeDouble",
   "alias": "MinPS",
   "domain": null
  },
  {
   "name": "MaxPS",
   "type": "esriFieldTypeDouble",
   "alias": "MaxPS",
   "domain": null
  },
  {
   "name": "LowPS",
   "type": "esriFieldTypeDouble",
   "alias": "LowPS",
   "domain": null
  },
  {
   "name": "HighPS",
   "type": "esriFieldTypeDouble",
   "alias": "HighPS",
   "domain": null
  },
  {
   "name": "Category",
   "type": "esriFieldTypeInteger",
   "alias": "Category",
   "domain": {
    "type": "codedValue",
    "name": "MosaicCatalogItemCategoryDomain",
    "description": "Catalog item categories.",
    "codedValues": [
     {
      "name": "Unknown",
      "code": 0
     },
     {
      "name": "Primary",
      "code": 1
     },
     {
      "name": "Overview",
      "code": 2
     },
     {
      "name": "Unprocessed Overview",
      "code": 3
     },
     {
      "name": "Partial Overview",
      "code": 4
     },
     {
      "name": "Inactive",
      "code": 5
     },
     {
      "name": "Uploaded",
      "code": 253
     },
     {
      "name": "Incomplete",
      "code": 254
     },
     {
      "name": "Custom",
      "code": 255
     }
    ],
    "mergePolicy": "esriMPTDefaultValue",
    "splitPolicy": "esriSPTDefaultValue"
   }
  },
  {
   "name": "Tag",
   "type": "esriFieldTypeString",
   "alias": "Tag",
   "domain": null,
   "length": 100
  },
  {
   "name": "GroupName",
   "type": "esriFieldTypeString",
   "alias": "GroupName",
   "domain": null,
   "length": 100
  },
  {
   "name": "ProductName",
   "type": "esriFieldTypeString",
   "alias": "ProductName",
   "domain": null,
   "length": 100
  },
  {
   "name": "CenterX",
   "type": "esriFieldTypeDouble",
   "alias": "CenterX",
   "domain": null
  },
  {
   "name": "CenterY",
   "type": "esriFieldTypeDouble",
   "alias": "CenterY",
   "domain": null
  },
  {
   "name": "ZOrder",
   "type": "esriFieldTypeInteger",
   "alias": "ZOrder",
   "domain": null
  },
  {
   "name": "Shape_Length",
   "type": "esriFieldTypeDouble",
   "alias": "Shape_Length",
   "domain": null
  },
  {
   "name": "Shape_Area",
   "type": "esriFieldTypeDouble",
   "alias": "Shape_Area",
   "domain": null
  }
 ],
 "capabilities": "Image,Metadata,Catalog,Mensuration",
 "defaultMosaicMethod": "Northwest",
 "allowedMosaicMethods": "NorthWest,Center,LockRaster,ByAttribute,Nadir,Viewpoint,Seamline,None",
 "sortField": "",
 "sortValue": null,
 "sortAscending": true,
 "mosaicOperator": "First",
 "maxDownloadSizeLimit": 2048,
 "defaultCompressionQuality": 75,
 "defaultResamplingMethod": "Bilinear",
 "maxImageHeight": 4100,
 "maxImageWidth": 15000,
 "maxRecordCount": 1000,
 "maxDownloadImageCount": 20,
 "maxMosaicImageCount": 20,
 "allowRasterFunction": true,
 "rasterFunctionInfos": [
  {
   "name": "blackmarbleHD",
   "description": "A raster function template.",
   "help": ""
  },
  {
   "name": "None",
   "description": "",
   "help": ""
  }
 ],
 "rasterTypeInfos": [
  {
   "name": "Raster Dataset",
   "description": "Supports all ArcGIS Raster Datasets",
   "help": ""
  }
 ],
 "mensurationCapabilities": "Basic",
 "hasHistograms": false,
 "hasColormap": false,
 "hasRasterAttributeTable": false,
 "minScale": 0,
 "maxScale": 0,
 "exportTilesAllowed": false,
 "supportsStatistics": true,
 "supportsAdvancedQueries": true,
 "editFieldsInfo": null,
 "ownershipBasedAccessControlForRasters": null,
 "allowComputeTiePoints": false,
 "useStandardizedQueries": true,
 "advancedQueryCapabilities": {
  "useStandardizedQueries": true,
  "supportsStatistics": true,
  "supportsOrderBy": true,
  "supportsDistinct": true,
  "supportsPagination": true
 },
 "spatialReference": {
  "wkid": 4326,
  "latestWkid": 4326
 }
}
