{
 "currentVersion": 10.91,
 "serviceDescription": "Purpose/Summary:\nThe preliminary product of Radarsat-2 amplitude based change detection map highlights areas of radar darkening mostly due to flood, as water appears darker compared to land surface. The highlighted areas show 50% lower radar brightness after the storm. These products may contain errors as radar backscatter is not solely dependent on surface water presence. Preliminary error analysis show large commission and omission errors compared to MODIS products, though that is partly due to higher resolution of the radar imagery. The imagery is radiometrically terrain corrected using SRTM 1 arcsec data, and is multilooked by 10 times (in azimuth and in range) resulting in a pixel size of about 30m.\n\nSuggested Usage:\nThe areas in red show regions with a 50% lower radar backscatter energy after the storm. This identifie locations where potential damage and/or flooding may have occured as a result of Hurricane Michael\n\nSatellite/Sensor:\nRADARSAT-2\n\nCredit/Acknowledgements:\nCopyright contains modified RADARSAT-2 data, collected through Hazards Data Distribution System (HDDS)-USGS and analyzed by NASA-Goddard Space Flight Center. RADARSAT-2 Data and Products © Maxar Technologies Ltd. (2018) - All Rights Reserved. RADARSAT is an official mark of the Canadian Space Agency.",
 "name": "Hurricane_Michael_2018/radarsat2_20181014",
 "description": "Purpose/Summary:\nThe preliminary product of Radarsat-2 amplitude based change detection map highlights areas of radar darkening mostly due to flood, as water appears darker compared to land surface. The highlighted areas show 50% lower radar brightness after the storm. These products may contain errors as radar backscatter is not solely dependent on surface water presence. Preliminary error analysis show large commission and omission errors compared to MODIS products, though that is partly due to higher resolution of the radar imagery. The imagery is radiometrically terrain corrected using SRTM 1 arcsec data, and is multilooked by 10 times (in azimuth and in range) resulting in a pixel size of about 30m.\n\nSuggested Usage:\nThe areas in red show regions with a 50% lower radar backscatter energy after the storm. This identifie locations where potential damage and/or flooding may have occured as a result of Hurricane Michael\n\nSatellite/Sensor:\nRADARSAT-2\n\nCredit/Acknowledgements:\nCopyright contains modified RADARSAT-2 data, collected through Hazards Data Distribution System (HDDS)-USGS and analyzed by NASA-Goddard Space Flight Center. RADARSAT-2 Data and Products © Maxar Technologies Ltd. (2018) - All Rights Reserved. RADARSAT is an official mark of the Canadian Space Agency.",
 "extent": {
  "xmin": -88.32925335152842,
  "ymin": 27.371654621984053,
  "xmax": -82.2090475671542,
  "ymax": 31.09677571139084,
  "spatialReference": {
   "wkid": 4326,
   "latestWkid": 4326
  }
 },
 "initialExtent": {
  "xmin": -88.32925335152842,
  "ymin": 27.371654621984053,
  "xmax": -82.2090475671542,
  "ymax": 31.09677571139084,
  "spatialReference": {
   "wkid": 4326,
   "latestWkid": 4326
  }
 },
 "fullExtent": {
  "xmin": -88.32925335152842,
  "ymin": 27.371654621984053,
  "xmax": -82.2090475671542,
  "ymax": 31.09677571139084,
  "spatialReference": {
   "wkid": 4326,
   "latestWkid": 4326
  }
 },
 "hasMultidimensions": false,
 "pixelSizeX": 2.807176306932493E-4,
 "pixelSizeY": 2.8071748978197343E-4,
 "datasetFormat": "TIFF",
 "uncompressedSize": 1157250160,
 "blockWidth": 21802,
 "blockHeight": 1,
 "compressionType": "None",
 "bandNames": [
  "Band_1",
  "Band_2",
  "Band_3",
  "Band_4"
 ],
 "allowCopy": true,
 "allowAnalysis": true,
 "bandCount": 4,
 "pixelType": "U8",
 "minPixelSize": 0,
 "maxPixelSize": 0,
 "copyrightText": "NASA Disasters Program, NASA-GSFC, MDA, Canadian Space Agency",
 "serviceDataType": "esriImageServiceDataTypeGeneric",
 "serviceSourceType": "esriImageServiceSourceTypeDataset",
 "minValues": [],
 "maxValues": [],
 "meanValues": [],
 "stdvValues": [],
 "objectIdField": "",
 "fields": [],
 "capabilities": "Image,Metadata,Mensuration",
 "defaultMosaicMethod": "Center",
 "allowedMosaicMethods": "",
 "sortField": "",
 "sortValue": null,
 "sortAscending": true,
 "mosaicOperator": "First",
 "defaultCompressionQuality": 75,
 "defaultResamplingMethod": "Bilinear",
 "maxImageHeight": 4100,
 "maxImageWidth": 15000,
 "allowRasterFunction": true,
 "rasterFunctionInfos": [
  {
   "name": "radarsat2",
   "description": "A raster function template.",
   "help": ""
  },
  {
   "name": "None",
   "description": "",
   "help": ""
  }
 ],
 "rasterTypeInfos": [
  {
   "name": "Raster Dataset",
   "description": "Supports all ArcGIS Raster Datasets",
   "help": ""
  }
 ],
 "mensurationCapabilities": "Basic",
 "hasHistograms": false,
 "hasColormap": false,
 "hasRasterAttributeTable": false,
 "minScale": 0,
 "maxScale": 0,
 "exportTilesAllowed": false,
 "supportsStatistics": false,
 "supportsAdvancedQueries": false,
 "editFieldsInfo": null,
 "ownershipBasedAccessControlForRasters": null,
 "allowComputeTiePoints": false,
 "useStandardizedQueries": true,
 "advancedQueryCapabilities": {
  "useStandardizedQueries": true,
  "supportsStatistics": false,
  "supportsOrderBy": false,
  "supportsDistinct": false,
  "supportsPagination": false
 },
 "spatialReference": {
  "wkid": 4326,
  "latestWkid": 4326
 }
}
