{
 "currentVersion": 10.91,
 "serviceDescription": "The Alaska Satellite Facility has developed a false color Red, Green, Blue (RGB) composite image of the Sentinel 1B Synthetic Aperture Radar (SAR) instrument which assigns the co- and cross-polarization information to a channel in the RGB composite. When used to support a flooding event, areas in blue denotes water present at the time of the satellite overpass prior to the landfall of Hurricane Michael. The Sentinel-1 data was acquired on October 11, 2018 at 32:29:01 UTC. \n\nSuggested Usage: \nIn this image, water appears in blue, vegetated areas in shades of green and urban areas in bright orange. It is recommended to use this product with ancillary information after the landfall of the hurricane to derive flooded areas. \n\nSatellite/Sensor: \nSynthetic Aperture Radar on European Space Agency's (ESA) Copernicus Sentinel-1B satellite; 30 m resolution",
 "name": "Hurricane_Michael_2018/sentinel1A_rgb_20181011_232901",
 "description": "The Alaska Satellite Facility has developed a false color Red, Green, Blue (RGB) composite image of the Sentinel 1B Synthetic Aperture Radar (SAR) instrument which assigns the co- and cross-polarization information to a channel in the RGB composite. When used to support a flooding event, areas in blue denotes water present at the time of the satellite overpass prior to the landfall of Hurricane Michael. The Sentinel-1 data was acquired on October 11, 2018 at 32:29:01 UTC. \n\nSuggested Usage: \nIn this image, water appears in blue, vegetated areas in shades of green and urban areas in bright orange. It is recommended to use this product with ancillary information after the landfall of the hurricane to derive flooded areas. \n\nSatellite/Sensor: \nSynthetic Aperture Radar on European Space Agency's (ESA) Copernicus Sentinel-1B satellite; 30 m resolution",
 "extent": {
  "xmin": -83.36575258118836,
  "ymin": 26.825358744821273,
  "xmax": -79.75268576219877,
  "ymax": 32.038967664787975,
  "spatialReference": {
   "wkid": 4326,
   "latestWkid": 4326
  }
 },
 "initialExtent": {
  "xmin": -83.36575258118836,
  "ymin": 26.825358744821273,
  "xmax": -79.75268576219877,
  "ymax": 32.038967664787975,
  "spatialReference": {
   "wkid": 4326,
   "latestWkid": 4326
  }
 },
 "fullExtent": {
  "xmin": -83.36575258118836,
  "ymin": 26.825358744821273,
  "xmax": -79.75268576219877,
  "ymax": 32.038967664787975,
  "spatialReference": {
   "wkid": 4326,
   "latestWkid": 4326
  }
 },
 "hasMultidimensions": false,
 "pixelSizeX": 2.961772947774075E-4,
 "pixelSizeY": 2.961772947774074E-4,
 "datasetFormat": "TIFF",
 "uncompressedSize": 644216991,
 "blockWidth": 12199,
 "blockHeight": 1,
 "compressionType": "None",
 "bandNames": [
  "Band_1",
  "Band_2",
  "Band_3"
 ],
 "allowCopy": true,
 "allowAnalysis": true,
 "bandCount": 3,
 "noDataValue": 0,
 "noDataValues": [
  0,
  0,
  0
 ],
 "pixelType": "U8",
 "minPixelSize": 0,
 "maxPixelSize": 0,
 "copyrightText": "NASA Disasters Program/MSFC/ASF, ESA Copernicus",
 "serviceDataType": "esriImageServiceDataTypeRGB",
 "serviceSourceType": "esriImageServiceSourceTypeDataset",
 "minValues": [],
 "maxValues": [],
 "meanValues": [],
 "stdvValues": [],
 "objectIdField": "",
 "fields": [],
 "capabilities": "Image,Metadata,Mensuration",
 "defaultMosaicMethod": "Center",
 "allowedMosaicMethods": "",
 "sortField": "",
 "sortValue": null,
 "sortAscending": true,
 "mosaicOperator": "First",
 "defaultCompressionQuality": 75,
 "defaultResamplingMethod": "Bilinear",
 "maxImageHeight": 4100,
 "maxImageWidth": 15000,
 "allowRasterFunction": true,
 "rasterFunctionInfos": [
  {
   "name": "None",
   "description": "",
   "help": ""
  }
 ],
 "rasterTypeInfos": [
  {
   "name": "Raster Dataset",
   "description": "Supports all ArcGIS Raster Datasets",
   "help": ""
  }
 ],
 "mensurationCapabilities": "Basic",
 "hasHistograms": false,
 "hasColormap": false,
 "hasRasterAttributeTable": false,
 "minScale": 0,
 "maxScale": 0,
 "exportTilesAllowed": false,
 "supportsStatistics": false,
 "supportsAdvancedQueries": false,
 "editFieldsInfo": null,
 "ownershipBasedAccessControlForRasters": null,
 "allowComputeTiePoints": false,
 "useStandardizedQueries": true,
 "advancedQueryCapabilities": {
  "useStandardizedQueries": true,
  "supportsStatistics": false,
  "supportsOrderBy": false,
  "supportsDistinct": false,
  "supportsPagination": false
 },
 "spatialReference": {
  "wkid": 4326,
  "latestWkid": 4326
 }
}
