{
 "currentVersion": 10.91,
 "serviceDescription": "Dates of Imagery: Pre-Event: October 6, 2018 (Note: the pre-event data is labeled as 10/9 in the map to make the time slider work properly) Post-Event: October 10-18, 2018 Purpose/Summary: NASA\u2019s Short-term Prediction Research and Transition (SPoRT) Center at Marshall produces false color composites of Suomi-NPP VIIRS instrument day night band (DNB) radiance and infrared cloud and land surface temperatures (M15). DNB imagery is assigned to red and green channels and brightness temperatures to blue shades, allowing a combined display of nighttime lights, fires, reflected moonlight and occasional lightning in shades of yellow (new moon) to white (full moon) along with blue tinting of cloud imagery. This color combination is based upon usage developed by the Naval Research Lab and shared with partners in NOAA\u2019s National Weather Service. Suggested Usage: In this image, city lights appear in bright shades of yellow to white when not obscured by clouds (shades of blue to white). Visual comparisons of pre- and post-event scenes allow for subjective identification of where lights are missing as a result of disaster impacts on local infrastructure that have caused damages to structures or utilities. Satellite/Sensor: Suomi National Polar-Orbiting Partnership (S-NPP) Visible Infrared Imaging Radiometer Suite (VIIRS) use of the day-night band and M15 thermal infrared band. S-NPP is a joint mission between NASA and NOAA. Similar capabilities are available from the NOAA-20 mission. Resolution: 750 m Credit/Acknowledgements: False color RGB products from Suomi-NPP VIIRS were generated by NASA\u2019s Short-term Prediction Research and Transition (SPoRT) Center at Marshall Space Flight Center in Huntsville, Alabama.",
 "name": "Hurricane_Michael_2018/viirs_daynightband",
 "description": "Dates of Imagery: Pre-Event: October 6, 2018 (Note: the pre-event data is labeled as 10/9 in the map to make the time slider work properly) Post-Event: October 10-18, 2018 Purpose/Summary: NASA\u2019s Short-term Prediction Research and Transition (SPoRT) Center at Marshall produces false color composites of Suomi-NPP VIIRS instrument day night band (DNB) radiance and infrared cloud and land surface temperatures (M15). DNB imagery is assigned to red and green channels and brightness temperatures to blue shades, allowing a combined display of nighttime lights, fires, reflected moonlight and occasional lightning in shades of yellow (new moon) to white (full moon) along with blue tinting of cloud imagery. This color combination is based upon usage developed by the Naval Research Lab and shared with partners in NOAA\u2019s National Weather Service. Suggested Usage: In this image, city lights appear in bright shades of yellow to white when not obscured by clouds (shades of blue to white). Visual comparisons of pre- and post-event scenes allow for subjective identification of where lights are missing as a result of disaster impacts on local infrastructure that have caused damages to structures or utilities. Satellite/Sensor: Suomi National Polar-Orbiting Partnership (S-NPP) Visible Infrared Imaging Radiometer Suite (VIIRS) use of the day-night band and M15 thermal infrared band. S-NPP is a joint mission between NASA and NOAA. Similar capabilities are available from the NOAA-20 mission. Resolution: 750 m Credit/Acknowledgements: False color RGB products from Suomi-NPP VIIRS were generated by NASA\u2019s Short-term Prediction Research and Transition (SPoRT) Center at Marshall Space Flight Center in Huntsville, Alabama.",
 "extent": {
  "xmin": -149.904052734375,
  "ymin": 14.924054223632815,
  "xmax": -54.08245273437501,
  "ymax": 54.06245422363281,
  "spatialReference": {
   "wkid": 4326,
   "latestWkid": 4326
  }
 },
 "initialExtent": {
  "xmin": -149.904052734375,
  "ymin": 14.924054223632815,
  "xmax": -54.08245273437501,
  "ymax": 54.06245422363281,
  "spatialReference": {
   "wkid": 4326,
   "latestWkid": 4326
  }
 },
 "fullExtent": {
  "xmin": -149.904052734375,
  "ymin": 14.924054223632815,
  "xmax": -54.08245273437501,
  "ymax": 54.06245422363281,
  "spatialReference": {
   "wkid": 4326,
   "latestWkid": 4326
  }
 },
 "hasMultidimensions": false,
 "timeInfo": {
  "startTimeField": "Date",
  "endTimeField": "Date",
  "timeExtent": [
   1539064800000,
   1539842400000
  ],
  "timeReference": null,
  "defaultTimeInterval": 1,
  "defaultTimeIntervalUnits": "esriTimeUnitsDays"
 },
 "pixelSizeX": 0.006748,
 "pixelSizeY": 0.006748,
 "datasetFormat": "AMD",
 "uncompressedSize": 247080000,
 "blockWidth": 2048,
 "blockHeight": 256,
 "compressionType": "None",
 "bandNames": [
  "Band_1",
  "Band_2",
  "Band_3"
 ],
 "allowCopy": true,
 "allowAnalysis": true,
 "bandCount": 3,
 "pixelType": "U8",
 "minPixelSize": 0,
 "maxPixelSize": 0,
 "copyrightText": "NASA Disasters Program, NASA MSFC-SPoRT",
 "serviceDataType": "esriImageServiceDataTypeRGB",
 "serviceSourceType": "esriImageServiceSourceTypeMosaicDataset",
 "minValues": [],
 "maxValues": [],
 "meanValues": [],
 "stdvValues": [],
 "objectIdField": "OBJECTID",
 "fields": [
  {
   "name": "OBJECTID",
   "type": "esriFieldTypeOID",
   "alias": "OBJECTID",
   "domain": null
  },
  {
   "name": "Shape",
   "type": "esriFieldTypeGeometry",
   "alias": "Shape",
   "domain": null
  },
  {
   "name": "Name",
   "type": "esriFieldTypeString",
   "alias": "Name",
   "domain": null,
   "length": 200
  },
  {
   "name": "MinPS",
   "type": "esriFieldTypeDouble",
   "alias": "MinPS",
   "domain": null
  },
  {
   "name": "MaxPS",
   "type": "esriFieldTypeDouble",
   "alias": "MaxPS",
   "domain": null
  },
  {
   "name": "LowPS",
   "type": "esriFieldTypeDouble",
   "alias": "LowPS",
   "domain": null
  },
  {
   "name": "HighPS",
   "type": "esriFieldTypeDouble",
   "alias": "HighPS",
   "domain": null
  },
  {
   "name": "Category",
   "type": "esriFieldTypeInteger",
   "alias": "Category",
   "domain": {
    "type": "codedValue",
    "name": "MosaicCatalogItemCategoryDomain",
    "description": "Catalog item categories.",
    "codedValues": [
     {
      "name": "Unknown",
      "code": 0
     },
     {
      "name": "Primary",
      "code": 1
     },
     {
      "name": "Overview",
      "code": 2
     },
     {
      "name": "Unprocessed Overview",
      "code": 3
     },
     {
      "name": "Partial Overview",
      "code": 4
     },
     {
      "name": "Inactive",
      "code": 5
     },
     {
      "name": "Uploaded",
      "code": 253
     },
     {
      "name": "Incomplete",
      "code": 254
     },
     {
      "name": "Custom",
      "code": 255
     }
    ],
    "mergePolicy": "esriMPTDefaultValue",
    "splitPolicy": "esriSPTDefaultValue"
   }
  },
  {
   "name": "Tag",
   "type": "esriFieldTypeString",
   "alias": "Tag",
   "domain": null,
   "length": 100
  },
  {
   "name": "GroupName",
   "type": "esriFieldTypeString",
   "alias": "GroupName",
   "domain": null,
   "length": 100
  },
  {
   "name": "ProductName",
   "type": "esriFieldTypeString",
   "alias": "ProductName",
   "domain": null,
   "length": 100
  },
  {
   "name": "CenterX",
   "type": "esriFieldTypeDouble",
   "alias": "CenterX",
   "domain": null
  },
  {
   "name": "CenterY",
   "type": "esriFieldTypeDouble",
   "alias": "CenterY",
   "domain": null
  },
  {
   "name": "ZOrder",
   "type": "esriFieldTypeInteger",
   "alias": "ZOrder",
   "domain": null
  },
  {
   "name": "Shape_Length",
   "type": "esriFieldTypeDouble",
   "alias": "Shape_Length",
   "domain": null
  },
  {
   "name": "Shape_Area",
   "type": "esriFieldTypeDouble",
   "alias": "Shape_Area",
   "domain": null
  },
  {
   "name": "Date",
   "type": "esriFieldTypeDate",
   "alias": "Date",
   "domain": null,
   "length": 8
  }
 ],
 "capabilities": "Image,Metadata,Catalog,Mensuration",
 "defaultMosaicMethod": "Northwest",
 "allowedMosaicMethods": "NorthWest,Center,LockRaster,ByAttribute,Nadir,Viewpoint,Seamline,None",
 "sortField": "",
 "sortValue": null,
 "sortAscending": true,
 "mosaicOperator": "First",
 "maxDownloadSizeLimit": 2048,
 "defaultCompressionQuality": 75,
 "defaultResamplingMethod": "Bilinear",
 "maxImageHeight": 4100,
 "maxImageWidth": 15000,
 "maxRecordCount": 1000,
 "maxDownloadImageCount": 20,
 "maxMosaicImageCount": 20,
 "allowRasterFunction": true,
 "rasterFunctionInfos": [
  {
   "name": "None",
   "description": "A No-Op Function.",
   "help": ""
  }
 ],
 "rasterTypeInfos": [
  {
   "name": "Raster Dataset",
   "description": "Supports all ArcGIS Raster Datasets",
   "help": ""
  }
 ],
 "mensurationCapabilities": "Basic",
 "hasHistograms": false,
 "hasColormap": false,
 "hasRasterAttributeTable": false,
 "minScale": 0,
 "maxScale": 0,
 "exportTilesAllowed": false,
 "supportsStatistics": true,
 "supportsAdvancedQueries": true,
 "editFieldsInfo": null,
 "ownershipBasedAccessControlForRasters": null,
 "allowComputeTiePoints": false,
 "useStandardizedQueries": true,
 "advancedQueryCapabilities": {
  "useStandardizedQueries": true,
  "supportsStatistics": true,
  "supportsOrderBy": true,
  "supportsDistinct": true,
  "supportsPagination": true
 },
 "spatialReference": {
  "wkid": 4326,
  "latestWkid": 4326
 }
}
