{
 "currentVersion": 10.91,
 "serviceDescription": "Date of Imagery:\n10/11/2018 at 7:06 UTC\n\n\n\nNext Estimated Update:\n10/12/2018 at 12:00pm EDT\n\n\n\nRefresh Interval:\n24 Hours\n\n\n\nPurpose/Summary:\n \nNASA\u2019s Short-term Prediction Research and Transition (SPoRT) Center at Marshall produces false color composites of Suomi-NPP VIIRS instrument day night band (DNB) radiance and infrared cloud and land surface temperatures (M15). DNB imagery is assigned to red and green channels and brightness temperatures to blue shades, allowing a combined display of nighttime lights, fires, reflected moonlight and occasional lightning in shades of yellow (new moon) to white (full moon) along with blue tinting of cloud imagery. This color combination is based upon usage developed by the Naval Research Lab and shared with partners in NOAA\u2019s National Weather Service. VIIRS DNB image produced October 10, 2018 at 07:23 UTC. \n\nSuggested Usage:\nIn this image, city lights appear in bright shades of yellow to white when not obscured by clouds (shades of blue to white). Visual comparisons of pre- and post-event scenes allow for subjective identification of where lights are missing as a result of disaster impacts on local infrastructure that have caused damages to structures or utilities. \n\nSatellite/Sensor:\nSuomi National Polar-Orbiting Partnership (S-NPP) Visible Infrared Imaging Radiometer Suite (VIIRS) use of the day-night band and M15 thermal infrared band. S-NPP is a joint mission between NASA and NOAA. Similar capabilities are available from the NOAA-20 mission. \nResolutoion: 750 m\n\nCredit/Acknowledgements: \nFalse color RGB products from Suomi-NPP VIIRS were generated by NASA\u2019s Short-term Prediction Research and Transition (SPoRT) Center at Marshall Space Flight Center in Huntsville, Alabama.",
 "name": "Hurricane_Michael_2018/viirs_dnb_20181011_0704",
 "description": "Date of Imagery:\n10/11/2018 at 7:06 UTC\n\n\n\nNext Estimated Update:\n10/12/2018 at 12:00pm EDT\n\n\n\nRefresh Interval:\n24 Hours\n\n\n\nPurpose/Summary:\n \nNASA\u2019s Short-term Prediction Research and Transition (SPoRT) Center at Marshall produces false color composites of Suomi-NPP VIIRS instrument day night band (DNB) radiance and infrared cloud and land surface temperatures (M15). DNB imagery is assigned to red and green channels and brightness temperatures to blue shades, allowing a combined display of nighttime lights, fires, reflected moonlight and occasional lightning in shades of yellow (new moon) to white (full moon) along with blue tinting of cloud imagery. This color combination is based upon usage developed by the Naval Research Lab and shared with partners in NOAA\u2019s National Weather Service. VIIRS DNB image produced October 10, 2018 at 07:23 UTC. \n\nSuggested Usage:\nIn this image, city lights appear in bright shades of yellow to white when not obscured by clouds (shades of blue to white). Visual comparisons of pre- and post-event scenes allow for subjective identification of where lights are missing as a result of disaster impacts on local infrastructure that have caused damages to structures or utilities. \n\nSatellite/Sensor:\nSuomi National Polar-Orbiting Partnership (S-NPP) Visible Infrared Imaging Radiometer Suite (VIIRS) use of the day-night band and M15 thermal infrared band. S-NPP is a joint mission between NASA and NOAA. Similar capabilities are available from the NOAA-20 mission. \nResolutoion: 750 m\n\nCredit/Acknowledgements: \nFalse color RGB products from Suomi-NPP VIIRS were generated by NASA\u2019s Short-term Prediction Research and Transition (SPoRT) Center at Marshall Space Flight Center in Huntsville, Alabama.",
 "extent": {
  "xmin": -149.904052734375,
  "ymin": 14.924054223632815,
  "xmax": -54.08245273437501,
  "ymax": 54.06245422363281,
  "spatialReference": {
   "wkid": 4326,
   "latestWkid": 4326
  }
 },
 "initialExtent": {
  "xmin": -149.904052734375,
  "ymin": 14.924054223632815,
  "xmax": -54.08245273437501,
  "ymax": 54.06245422363281,
  "spatialReference": {
   "wkid": 4326,
   "latestWkid": 4326
  }
 },
 "fullExtent": {
  "xmin": -149.904052734375,
  "ymin": 14.924054223632815,
  "xmax": -54.08245273437501,
  "ymax": 54.06245422363281,
  "spatialReference": {
   "wkid": 4326,
   "latestWkid": 4326
  }
 },
 "hasMultidimensions": false,
 "pixelSizeX": 0.006748,
 "pixelSizeY": 0.006748,
 "datasetFormat": "TIFF",
 "uncompressedSize": 247080000,
 "blockWidth": 14200,
 "blockHeight": 1,
 "compressionType": "None",
 "bandNames": [
  "Band_1",
  "Band_2",
  "Band_3"
 ],
 "allowCopy": true,
 "allowAnalysis": true,
 "bandCount": 3,
 "pixelType": "U8",
 "minPixelSize": 0,
 "maxPixelSize": 0,
 "copyrightText": "",
 "serviceDataType": "esriImageServiceDataTypeRGB",
 "serviceSourceType": "esriImageServiceSourceTypeDataset",
 "minValues": [],
 "maxValues": [],
 "meanValues": [],
 "stdvValues": [],
 "objectIdField": "",
 "fields": [],
 "capabilities": "Image,Metadata,Mensuration",
 "defaultMosaicMethod": "Center",
 "allowedMosaicMethods": "",
 "sortField": "",
 "sortValue": null,
 "sortAscending": true,
 "mosaicOperator": "First",
 "defaultCompressionQuality": 75,
 "defaultResamplingMethod": "Bilinear",
 "maxImageHeight": 4100,
 "maxImageWidth": 15000,
 "allowRasterFunction": true,
 "rasterFunctionInfos": [
  {
   "name": "viirs_dnb_nogamma",
   "description": "A raster function template.",
   "help": ""
  },
  {
   "name": "None",
   "description": "",
   "help": ""
  }
 ],
 "rasterTypeInfos": [
  {
   "name": "Raster Dataset",
   "description": "Supports all ArcGIS Raster Datasets",
   "help": ""
  }
 ],
 "mensurationCapabilities": "Basic",
 "hasHistograms": false,
 "hasColormap": false,
 "hasRasterAttributeTable": false,
 "minScale": 0,
 "maxScale": 0,
 "exportTilesAllowed": false,
 "supportsStatistics": false,
 "supportsAdvancedQueries": false,
 "editFieldsInfo": null,
 "ownershipBasedAccessControlForRasters": null,
 "allowComputeTiePoints": false,
 "useStandardizedQueries": true,
 "advancedQueryCapabilities": {
  "useStandardizedQueries": true,
  "supportsStatistics": false,
  "supportsOrderBy": false,
  "supportsDistinct": false,
  "supportsPagination": false
 },
 "spatialReference": {
  "wkid": 4326,
  "latestWkid": 4326
 }
}
