{
 "currentVersion": 10.91,
 "serviceDescription": "Date of Imagery: \n10/26/2018\n\nPurpose/Summary: \nSentinel-1 Synthetic Aperture Radar (SAR) captured the moment of landfall of the eye of Hurricane Willa on October 26, 2018 UTC. These images are composed of single band \"before\" (VH polarization) Sentinel 1 SAR data and \"during\" or immediately \"after\" SAR data. \n\nSuggested Usage:\nLand areas that changed to smoother radar reflectivity will be in various shades of red; those that are rougher will appear as blue. Data are provided at their full (~ 10 m) spatial resolution in latitude and longitude projection. These images have no interpretation attached, but are provided immediately here after creation: for end users with processing systems and expertise sufficient to perform their own interpretation of changed areas. \n\nSatellite/Sensor: \nESA Sentinel-1 Synthetic Aperture Radar (SAR)\nResolution: ~10m\n\nCredits/Acknowledgements: \nSource data are from Copernicus/ESA Sentinel Synthetic Aperture Radar (SAR); image processing was performed at the Dartmouth Flood Observatory, University of Colorado, with funding support from the NASA Applied Sciences Program.",
 "name": "Hurricane_Willa_2018/dfo_sentinel1_20181026",
 "description": "Date of Imagery: \n10/26/2018\n\nPurpose/Summary: \nSentinel-1 Synthetic Aperture Radar (SAR) captured the moment of landfall of the eye of Hurricane Willa on October 26, 2018 UTC. These images are composed of single band \"before\" (VH polarization) Sentinel 1 SAR data and \"during\" or immediately \"after\" SAR data. \n\nSuggested Usage:\nLand areas that changed to smoother radar reflectivity will be in various shades of red; those that are rougher will appear as blue. Data are provided at their full (~ 10 m) spatial resolution in latitude and longitude projection. These images have no interpretation attached, but are provided immediately here after creation: for end users with processing systems and expertise sufficient to perform their own interpretation of changed areas. \n\nSatellite/Sensor: \nESA Sentinel-1 Synthetic Aperture Radar (SAR)\nResolution: ~10m\n\nCredits/Acknowledgements: \nSource data are from Copernicus/ESA Sentinel Synthetic Aperture Radar (SAR); image processing was performed at the Dartmouth Flood Observatory, University of Colorado, with funding support from the NASA Applied Sciences Program.",
 "extent": {
  "xmin": -107.15204023410335,
  "ymin": 21.11626636147454,
  "xmax": -104.73179428410336,
  "ymax": 23.154323711474536,
  "spatialReference": {
   "wkt": "GEOGCS[\"\",DATUM[\"D_unknown\",SPHEROID[\"unretrievable_using_WGS84\",6378137.0,298.257223563]],PRIMEM[\"Greenwich\",0.0],UNIT[\"Degree\",0.0174532925199433]]"
  }
 },
 "initialExtent": {
  "xmin": -107.15204023410335,
  "ymin": 21.11626636147454,
  "xmax": -104.73179428410336,
  "ymax": 23.154323711474536,
  "spatialReference": {
   "wkt": "GEOGCS[\"\",DATUM[\"D_unknown\",SPHEROID[\"unretrievable_using_WGS84\",6378137.0,298.257223563]],PRIMEM[\"Greenwich\",0.0],UNIT[\"Degree\",0.0174532925199433]]"
  }
 },
 "fullExtent": {
  "xmin": -107.15204023410335,
  "ymin": 21.11626636147454,
  "xmax": -104.73179428410336,
  "ymax": 23.154323711474536,
  "spatialReference": {
   "wkt": "GEOGCS[\"\",DATUM[\"D_unknown\",SPHEROID[\"unretrievable_using_WGS84\",6378137.0,298.257223563]],PRIMEM[\"Greenwich\",0.0],UNIT[\"Degree\",0.0174532925199433]]"
  }
 },
 "hasMultidimensions": false,
 "pixelSizeX": 9.394999999999979E-5,
 "pixelSizeY": 9.394999999999979E-5,
 "datasetFormat": "TIFF",
 "uncompressedSize": 1676500119,
 "blockWidth": 25761,
 "blockHeight": 1,
 "compressionType": "None",
 "bandNames": [
  "Band_1",
  "Band_2",
  "Band_3"
 ],
 "allowCopy": true,
 "allowAnalysis": true,
 "bandCount": 3,
 "pixelType": "U8",
 "minPixelSize": 0,
 "maxPixelSize": 0,
 "copyrightText": "Brakenridge, G.R. and Kettner, A.J., October 24, 2018, \"DFO Flood Event 4695\", Dartmouth Flood Observatory, University of Colorado, Boulder, Colorado, USA, http://floodobservatory.colorado.edu/Events/4695/2018Mexico4695Willa.html. Use of this product should include: \"Contains modified Copernicus Sentinel data (2018) processed by ESA\"",
 "serviceDataType": "esriImageServiceDataTypeRGB",
 "serviceSourceType": "esriImageServiceSourceTypeDataset",
 "minValues": [],
 "maxValues": [],
 "meanValues": [],
 "stdvValues": [],
 "objectIdField": "",
 "fields": [],
 "capabilities": "Mensuration,Image,Metadata",
 "defaultMosaicMethod": "Center",
 "allowedMosaicMethods": "",
 "sortField": "",
 "sortValue": null,
 "sortAscending": true,
 "mosaicOperator": "First",
 "defaultCompressionQuality": 75,
 "defaultResamplingMethod": "Bilinear",
 "maxImageHeight": 4100,
 "maxImageWidth": 15000,
 "allowRasterFunction": true,
 "rasterFunctionInfos": [
  {
   "name": "None",
   "description": "",
   "help": ""
  }
 ],
 "rasterTypeInfos": [
  {
   "name": "Raster Dataset",
   "description": "Supports all ArcGIS Raster Datasets",
   "help": ""
  }
 ],
 "mensurationCapabilities": "Basic",
 "hasHistograms": false,
 "hasColormap": false,
 "hasRasterAttributeTable": false,
 "minScale": 0,
 "maxScale": 0,
 "exportTilesAllowed": false,
 "supportsStatistics": false,
 "supportsAdvancedQueries": false,
 "editFieldsInfo": null,
 "ownershipBasedAccessControlForRasters": null,
 "allowComputeTiePoints": false,
 "useStandardizedQueries": true,
 "advancedQueryCapabilities": {
  "useStandardizedQueries": true,
  "supportsStatistics": false,
  "supportsOrderBy": false,
  "supportsDistinct": false,
  "supportsPagination": false
 },
 "spatialReference": {
  "wkt": "GEOGCS[\"\",DATUM[\"D_unknown\",SPHEROID[\"unretrievable_using_WGS84\",6378137.0,298.257223563]],PRIMEM[\"Greenwich\",0.0],UNIT[\"Degree\",0.0174532925199433]]"
 }
}
