{
 "currentVersion": 10.91,
 "serviceDescription": "Date of Imagery: \n10/24/2018 at 01:06:18 UTC\n\nPurpose/Summary: \nSentinel-1 Synthetic Aperture Radar (SAR) captured the moment of landfall of the eye of Hurricane Willa on October 24, 2018 at 01:06:18 UTC. These images are composed of single band \"before\" (VH polarization) Sentinel 1 SAR data and \"during\" or immediately \"after\" SAR data. The eye of the hurricane can be seen in the darker cirlce just of of the coast of Mexico surrounded by brighter areas caused by the large, wind-driven waves. \n\nSuggested Usage:\nLand areas that changed to smoother radar reflectivity will be in various shades of red; those that are rougher will appear as blue. Data are provided at their full (~ 10 m) spatial resolution in latitude and longitude projection. These images have no interpretation attached, but are provided immediately here after creation: for end users with processing systems and expertise sufficient to perform their own interpretation of changed areas. \n\nSatellite/Sensor: \nESA Sentinel-1 Synthetic Aperture Radar (SAR)\nResolution: ~10m\n\nCredits/Acknowledgements: \nSource data are from Copernicus/ESA Sentinel Synthetic Aperture Radar (SAR); image processing was performed at the Dartmouth Flood Observatory, University of Colorado, with funding support from the NASA Applied Sciences Program.",
 "name": "Hurricane_Willa_2018/dfo_sentinel1_rgb_20181024",
 "description": "Date of Imagery: \n10/24/2018 at 01:06:18 UTC\n\nPurpose/Summary: \nSentinel-1 Synthetic Aperture Radar (SAR) captured the moment of landfall of the eye of Hurricane Willa on October 24, 2018 at 01:06:18 UTC. These images are composed of single band \"before\" (VH polarization) Sentinel 1 SAR data and \"during\" or immediately \"after\" SAR data. The eye of the hurricane can be seen in the darker cirlce just of of the coast of Mexico surrounded by brighter areas caused by the large, wind-driven waves. \n\nSuggested Usage:\nLand areas that changed to smoother radar reflectivity will be in various shades of red; those that are rougher will appear as blue. Data are provided at their full (~ 10 m) spatial resolution in latitude and longitude projection. These images have no interpretation attached, but are provided immediately here after creation: for end users with processing systems and expertise sufficient to perform their own interpretation of changed areas. \n\nSatellite/Sensor: \nESA Sentinel-1 Synthetic Aperture Radar (SAR)\nResolution: ~10m\n\nCredits/Acknowledgements: \nSource data are from Copernicus/ESA Sentinel Synthetic Aperture Radar (SAR); image processing was performed at the Dartmouth Flood Observatory, University of Colorado, with funding support from the NASA Applied Sciences Program.",
 "extent": {
  "xmin": -1.1887901661899999E7,
  "ymin": 2514595.249272339,
  "xmax": -1.1519685662631761E7,
  "ymax": 3082381.4118999997,
  "spatialReference": {
   "wkid": 102100,
   "latestWkid": 3857
  }
 },
 "initialExtent": {
  "xmin": -1.1887901661899999E7,
  "ymin": 2514595.249272339,
  "xmax": -1.1519685662631761E7,
  "ymax": 3082381.4118999997,
  "spatialReference": {
   "wkid": 102100,
   "latestWkid": 3857
  }
 },
 "fullExtent": {
  "xmin": -1.1887901661899999E7,
  "ymin": 2514595.249272339,
  "xmax": -1.1519685662631761E7,
  "ymax": 3082381.4118999997,
  "spatialReference": {
   "wkid": 102100,
   "latestWkid": 3857
  }
 },
 "hasMultidimensions": false,
 "pixelSizeX": 10.771273929157159,
 "pixelSizeY": 10.771273929157147,
 "datasetFormat": "AMD",
 "uncompressedSize": 5405981715,
 "blockWidth": 2048,
 "blockHeight": 256,
 "compressionType": "None",
 "bandNames": [
  "Band_1",
  "Band_2",
  "Band_3"
 ],
 "allowCopy": true,
 "allowAnalysis": true,
 "bandCount": 3,
 "pixelType": "U8",
 "minPixelSize": 0,
 "maxPixelSize": 0,
 "copyrightText": "Brakenridge, G.R. and Kettner, A.J., October 24, 2018, \"DFO Flood Event 4695\", Dartmouth Flood Observatory, University of Colorado, Boulder, Colorado, USA, http://floodobservatory.colorado.edu/Events/4695/2018Mexico4695Willa.html. Use of this product should include: \"Contains modified Copernicus Sentinel data (2018) processed by ESA\"",
 "serviceDataType": "esriImageServiceDataTypeRGB",
 "serviceSourceType": "esriImageServiceSourceTypeMosaicDataset",
 "minValues": [
  0,
  0,
  0
 ],
 "maxValues": [
  255,
  255,
  255
 ],
 "meanValues": [
  87.04191816903196,
  86.09094865859761,
  86.09094865859761
 ],
 "stdvValues": [
  56.69717515961507,
  55.171595386209844,
  55.171595386209844
 ],
 "objectIdField": "OBJECTID",
 "fields": [
  {
   "name": "OBJECTID",
   "type": "esriFieldTypeOID",
   "alias": "OBJECTID",
   "domain": null
  },
  {
   "name": "Shape",
   "type": "esriFieldTypeGeometry",
   "alias": "Shape",
   "domain": null
  },
  {
   "name": "Name",
   "type": "esriFieldTypeString",
   "alias": "Name",
   "domain": null,
   "length": 200
  },
  {
   "name": "MinPS",
   "type": "esriFieldTypeDouble",
   "alias": "MinPS",
   "domain": null
  },
  {
   "name": "MaxPS",
   "type": "esriFieldTypeDouble",
   "alias": "MaxPS",
   "domain": null
  },
  {
   "name": "LowPS",
   "type": "esriFieldTypeDouble",
   "alias": "LowPS",
   "domain": null
  },
  {
   "name": "HighPS",
   "type": "esriFieldTypeDouble",
   "alias": "HighPS",
   "domain": null
  },
  {
   "name": "Category",
   "type": "esriFieldTypeInteger",
   "alias": "Category",
   "domain": {
    "type": "codedValue",
    "name": "MosaicCatalogItemCategoryDomain",
    "description": "Catalog item categories.",
    "codedValues": [
     {
      "name": "Unknown",
      "code": 0
     },
     {
      "name": "Primary",
      "code": 1
     },
     {
      "name": "Overview",
      "code": 2
     },
     {
      "name": "Unprocessed Overview",
      "code": 3
     },
     {
      "name": "Partial Overview",
      "code": 4
     },
     {
      "name": "Inactive",
      "code": 5
     },
     {
      "name": "Uploaded",
      "code": 253
     },
     {
      "name": "Incomplete",
      "code": 254
     },
     {
      "name": "Custom",
      "code": 255
     }
    ],
    "mergePolicy": "esriMPTDefaultValue",
    "splitPolicy": "esriSPTDefaultValue"
   }
  },
  {
   "name": "Tag",
   "type": "esriFieldTypeString",
   "alias": "Tag",
   "domain": null,
   "length": 100
  },
  {
   "name": "GroupName",
   "type": "esriFieldTypeString",
   "alias": "GroupName",
   "domain": null,
   "length": 100
  },
  {
   "name": "ProductName",
   "type": "esriFieldTypeString",
   "alias": "ProductName",
   "domain": null,
   "length": 100
  },
  {
   "name": "CenterX",
   "type": "esriFieldTypeDouble",
   "alias": "CenterX",
   "domain": null
  },
  {
   "name": "CenterY",
   "type": "esriFieldTypeDouble",
   "alias": "CenterY",
   "domain": null
  },
  {
   "name": "ZOrder",
   "type": "esriFieldTypeInteger",
   "alias": "ZOrder",
   "domain": null
  },
  {
   "name": "Shape_Length",
   "type": "esriFieldTypeDouble",
   "alias": "Shape_Length",
   "domain": null
  },
  {
   "name": "Shape_Area",
   "type": "esriFieldTypeDouble",
   "alias": "Shape_Area",
   "domain": null
  }
 ],
 "capabilities": "Catalog,Mensuration,Image,Metadata",
 "defaultMosaicMethod": "Northwest",
 "allowedMosaicMethods": "NorthWest,Center,LockRaster,ByAttribute,Nadir,Viewpoint,Seamline,None",
 "sortField": "",
 "sortValue": null,
 "sortAscending": true,
 "mosaicOperator": "Max",
 "maxDownloadSizeLimit": 2048,
 "defaultCompressionQuality": 75,
 "defaultResamplingMethod": "Bilinear",
 "maxImageHeight": 4100,
 "maxImageWidth": 15000,
 "maxRecordCount": 1000,
 "maxDownloadImageCount": 20,
 "maxMosaicImageCount": 20,
 "allowRasterFunction": true,
 "rasterFunctionInfos": [
  {
   "name": "None",
   "description": "A No-Op Function.",
   "help": ""
  }
 ],
 "rasterTypeInfos": [
  {
   "name": "Raster Dataset",
   "description": "Supports all ArcGIS Raster Datasets",
   "help": ""
  }
 ],
 "mensurationCapabilities": "",
 "hasHistograms": true,
 "hasColormap": false,
 "hasRasterAttributeTable": false,
 "minScale": 0,
 "maxScale": 0,
 "exportTilesAllowed": false,
 "supportsStatistics": true,
 "supportsAdvancedQueries": true,
 "editFieldsInfo": null,
 "ownershipBasedAccessControlForRasters": null,
 "allowComputeTiePoints": false,
 "useStandardizedQueries": true,
 "advancedQueryCapabilities": {
  "useStandardizedQueries": true,
  "supportsStatistics": true,
  "supportsOrderBy": true,
  "supportsDistinct": true,
  "supportsPagination": true
 },
 "spatialReference": {
  "wkid": 102100,
  "latestWkid": 3857
 }
}
