{
 "currentVersion": 10.91,
 "serviceDescription": "Purpose/Summary: \n\n\nInundation Estimate from Global Flood Monitoring System (GFMS) based on surface and river routing models using NASA Global Precipitation Measurement (GPM) Integrated Multi-Satellite Retrievals for GPM (IMERG) precipitation information. GFMS covers the globe from 50N-50S. This product shows the maximum depth and extent of the flooding between 2am and 11pm EDT (8 iterations of this product occur during that time interval).\n\nThis product shows the maximum inundation estimate that occured between 10/23/2018 at 12Z and 10/25/2018 at 03Z as a result of Hurricane Willa.\n\nSuggested Usage: \n\n\nThis product can be used to estimate flood extent (and depth) and for comparison with other estimates from satellite and ground observations.\n\nSatellite/Sensor:\n\nModel calculations are at 1km resolution and 3-hours; satellite precipitation (GPM IMERG) is input to models at ~12 km and 3-hrs.\n\n\n\nCredits/Acknowledgements:\n\n\nGlobal Flood Monitoring System (GFMS), University of Maryland",
 "name": "Hurricane_Willa_2018/gfms_max_inundation_12z20181023_03z20181025",
 "description": "Purpose/Summary: \n\n\nInundation Estimate from Global Flood Monitoring System (GFMS) based on surface and river routing models using NASA Global Precipitation Measurement (GPM) Integrated Multi-Satellite Retrievals for GPM (IMERG) precipitation information. GFMS covers the globe from 50N-50S. This product shows the maximum depth and extent of the flooding between 2am and 11pm EDT (8 iterations of this product occur during that time interval).\n\nThis product shows the maximum inundation estimate that occured between 10/23/2018 at 12Z and 10/25/2018 at 03Z as a result of Hurricane Willa.\n\nSuggested Usage: \n\n\nThis product can be used to estimate flood extent (and depth) and for comparison with other estimates from satellite and ground observations.\n\nSatellite/Sensor:\n\nModel calculations are at 1km resolution and 3-hours; satellite precipitation (GPM IMERG) is input to models at ~12 km and 3-hrs.\n\n\n\nCredits/Acknowledgements:\n\n\nGlobal Flood Monitoring System (GFMS), University of Maryland",
 "extent": {
  "xmin": -110.0027335,
  "ymin": 20.9951065,
  "xmax": -97.00793350000001,
  "ymax": 28.983576499999998,
  "spatialReference": {
   "wkid": 4326,
   "latestWkid": 4326
  }
 },
 "initialExtent": {
  "xmin": -110.0027335,
  "ymin": 20.9951065,
  "xmax": -97.00793350000001,
  "ymax": 28.983576499999998,
  "spatialReference": {
   "wkid": 4326,
   "latestWkid": 4326
  }
 },
 "fullExtent": {
  "xmin": -110.0027335,
  "ymin": 20.9951065,
  "xmax": -97.00793350000001,
  "ymax": 28.983576499999998,
  "spatialReference": {
   "wkid": 4326,
   "latestWkid": 4326
  }
 },
 "hasMultidimensions": false,
 "pixelSizeX": 0.008329999999999999,
 "pixelSizeY": 0.008329999999999999,
 "datasetFormat": "TIFF",
 "uncompressedSize": 5984160,
 "blockWidth": 1560,
 "blockHeight": 1,
 "compressionType": "None",
 "bandNames": [
  "Band_1"
 ],
 "allowCopy": true,
 "allowAnalysis": true,
 "bandCount": 1,
 "noDataValue": -9999,
 "noDataValues": [
  -9999
 ],
 "pixelType": "F32",
 "minPixelSize": 0,
 "maxPixelSize": 0,
 "copyrightText": "GFMS, University of Maryland",
 "serviceDataType": "esriImageServiceDataTypeGeneric",
 "serviceSourceType": "esriImageServiceSourceTypeDataset",
 "minValues": [],
 "maxValues": [],
 "meanValues": [],
 "stdvValues": [],
 "objectIdField": "",
 "fields": [],
 "capabilities": "Mensuration,Image,Metadata",
 "defaultMosaicMethod": "Center",
 "allowedMosaicMethods": "",
 "sortField": "",
 "sortValue": null,
 "sortAscending": true,
 "mosaicOperator": "First",
 "defaultCompressionQuality": 75,
 "defaultResamplingMethod": "Nearest",
 "maxImageHeight": 4100,
 "maxImageWidth": 15000,
 "allowRasterFunction": true,
 "rasterFunctionInfos": [
  {
   "name": "None",
   "description": "Make a Raster or Raster Dataset into a Function Raster Dataset.",
   "help": ""
  },
  {
   "name": "gfms_nrt_1km",
   "description": "A raster function template.",
   "help": ""
  }
 ],
 "rasterTypeInfos": [
  {
   "name": "Raster Dataset",
   "description": "Supports all ArcGIS Raster Datasets",
   "help": ""
  }
 ],
 "mensurationCapabilities": "Basic",
 "hasHistograms": false,
 "hasColormap": false,
 "hasRasterAttributeTable": false,
 "minScale": 0,
 "maxScale": 0,
 "exportTilesAllowed": false,
 "supportsStatistics": false,
 "supportsAdvancedQueries": false,
 "editFieldsInfo": null,
 "ownershipBasedAccessControlForRasters": null,
 "allowComputeTiePoints": false,
 "useStandardizedQueries": true,
 "advancedQueryCapabilities": {
  "useStandardizedQueries": true,
  "supportsStatistics": false,
  "supportsOrderBy": false,
  "supportsDistinct": false,
  "supportsPagination": false
 },
 "spatialReference": {
  "wkid": 4326,
  "latestWkid": 4326
 }
}
