{
 "currentVersion": 10.91,
 "serviceDescription": "Kilauea_Volcano/ALOS2_Interferogram_20180512_20180120_cropped",
 "name": "Kilauea_Volcano/ALOS2_Interferogram_20180512_20180120_cropped",
 "description": "",
 "extent": {
  "xmin": 171378.78626163997,
  "ymin": 1843685.1144953545,
  "xmax": 378785.2511903778,
  "ymax": 2227956.9320088103,
  "spatialReference": {
   "wkid": 32605,
   "latestWkid": 32605
  }
 },
 "initialExtent": {
  "xmin": 171378.78626163997,
  "ymin": 1843685.1144953545,
  "xmax": 378785.2511903778,
  "ymax": 2227956.9320088103,
  "spatialReference": {
   "wkid": 32605,
   "latestWkid": 32605
  }
 },
 "fullExtent": {
  "xmin": 171378.78626163997,
  "ymin": 1843685.1144953545,
  "xmax": 378785.2511903778,
  "ymax": 2227956.9320088103,
  "spatialReference": {
   "wkid": 32605,
   "latestWkid": 32605
  }
 },
 "hasMultidimensions": false,
 "pixelSizeX": 37.41097852249961,
 "pixelSizeY": 39.08776497949912,
 "datasetFormat": "PNG",
 "uncompressedSize": 218012256,
 "blockWidth": 5544,
 "blockHeight": 1,
 "compressionType": "Deflate/Inflate",
 "bandNames": [
  "Band_1",
  "Band_2",
  "Band_3",
  "Band_4"
 ],
 "allowCopy": true,
 "allowAnalysis": true,
 "bandCount": 4,
 "pixelType": "U8",
 "minPixelSize": 0,
 "maxPixelSize": 0,
 "copyrightText": "",
 "serviceDataType": "esriImageServiceDataTypeGeneric",
 "serviceSourceType": "esriImageServiceSourceTypeDataset",
 "minValues": [
  0,
  0,
  0,
  0
 ],
 "maxValues": [
  255,
  255,
  255,
  255
 ],
 "meanValues": [
  14.09914942337,
  13.383576710703,
  13.622864100416,
  22.298507305029
 ],
 "stdvValues": [
  52.873940548034,
  50.446163615281,
  51.338416234644,
  72.033992197659
 ],
 "objectIdField": "",
 "fields": [],
 "capabilities": "Mensuration,Image,Metadata",
 "defaultMosaicMethod": "Center",
 "allowedMosaicMethods": "",
 "sortField": "",
 "sortValue": null,
 "sortAscending": true,
 "mosaicOperator": "First",
 "defaultCompressionQuality": 75,
 "defaultResamplingMethod": "Bilinear",
 "maxImageHeight": 4100,
 "maxImageWidth": 15000,
 "allowRasterFunction": true,
 "rasterFunctionInfos": [
  {
   "name": "RGB Composite",
   "description": "A raster function template.",
   "help": ""
  },
  {
   "name": "None",
   "description": "",
   "help": ""
  }
 ],
 "rasterTypeInfos": [
  {
   "name": "Raster Dataset",
   "description": "Supports all ArcGIS Raster Datasets",
   "help": ""
  }
 ],
 "mensurationCapabilities": "Basic",
 "hasHistograms": true,
 "hasColormap": false,
 "hasRasterAttributeTable": false,
 "minScale": 0,
 "maxScale": 0,
 "exportTilesAllowed": false,
 "supportsStatistics": false,
 "supportsAdvancedQueries": false,
 "editFieldsInfo": null,
 "ownershipBasedAccessControlForRasters": null,
 "allowComputeTiePoints": false,
 "useStandardizedQueries": true,
 "advancedQueryCapabilities": {
  "useStandardizedQueries": true,
  "supportsStatistics": false,
  "supportsOrderBy": false,
  "supportsDistinct": false,
  "supportsPagination": false
 },
 "spatialReference": {
  "wkid": 32605,
  "latestWkid": 32605
 }
}
