{
 "currentVersion": 10.91,
 "serviceDescription": "Satellite synthetic aperture radar interferometry (InSAR) shows dike opening in the far eastern ERZ. The interferogram observations capture the total displacement between May 8, 2018 and May 22, 2018. Other observations: seismicity, and InSAR and GPS geodetic data, suggests that most of this motion is related to the ongoing fissure eruption that started on May 3, 2018. Each color cycle is approximately 12 cm and is the projection of surface displacements into the radar line-of sight. Included in this interferogram are noise signals due to tropospheric and ionospheric atmosphere residuals. Also, a ramp in the along-track direction was removed from this interferogram. \n\nThe interferogram was produced by the ARIA project which is a joint effort of NASA's Jet Propulsion Laboratory and the California Institute of Technology using synthetic aperture radar (SAR) data from the Japanese Aerospace Exploration Agency's (JAXA) PALSAR-2 L-band radar on the ALOS-2 satellite. \n\nALOS-2 SLC data provided through RA6 AO project number P3024002. ALOS-2 processing used ISCE software processing components. Part of this research was carried out at the Jet Propulsion Laboratory, California Institute of Technology, under a contract with the National Aeronautics and Space Administration.",
 "name": "Kilauea_Volcano/ALOS2_Interferogram_20180522_20180508_cropped",
 "description": "Satellite synthetic aperture radar interferometry (InSAR) shows dike opening in the far eastern ERZ. The interferogram observations capture the total displacement between May 8, 2018 and May 22, 2018. Other observations: seismicity, and InSAR and GPS geodetic data, suggests that most of this motion is related to the ongoing fissure eruption that started on May 3, 2018. Each color cycle is approximately 12 cm and is the projection of surface displacements into the radar line-of sight. Included in this interferogram are noise signals due to tropospheric and ionospheric atmosphere residuals. Also, a ramp in the along-track direction was removed from this interferogram. \n\nThe interferogram was produced by the ARIA project which is a joint effort of NASA's Jet Propulsion Laboratory and the California Institute of Technology using synthetic aperture radar (SAR) data from the Japanese Aerospace Exploration Agency's (JAXA) PALSAR-2 L-band radar on the ALOS-2 satellite. \n\nALOS-2 SLC data provided through RA6 AO project number P3024002. ALOS-2 processing used ISCE software processing components. Part of this research was carried out at the Jet Propulsion Laboratory, California Institute of Technology, under a contract with the National Aeronautics and Space Administration.",
 "extent": {
  "xmin": -1.7265434189315174E7,
  "ymin": 2188298.515215399,
  "xmax": -1.723231453050781E7,
  "ymax": 2243480.61991033,
  "spatialReference": {
   "wkid": 102100,
   "latestWkid": 3857
  }
 },
 "initialExtent": {
  "xmin": -1.7265434189315174E7,
  "ymin": 2188298.515215399,
  "xmax": -1.723231453050781E7,
  "ymax": 2243480.61991033,
  "spatialReference": {
   "wkid": 102100,
   "latestWkid": 3857
  }
 },
 "fullExtent": {
  "xmin": -1.7265434189315174E7,
  "ymin": 2188298.515215399,
  "xmax": -1.723231453050781E7,
  "ymax": 2243480.61991033,
  "spatialReference": {
   "wkid": 102100,
   "latestWkid": 3857
  }
 },
 "hasMultidimensions": false,
 "pixelSizeX": 38.51123117135275,
 "pixelSizeY": 40.997106014064514,
 "datasetFormat": "PNG",
 "uncompressedSize": 4630240,
 "blockWidth": 860,
 "blockHeight": 1,
 "compressionType": "Deflate/Inflate",
 "bandNames": [
  "Band_1",
  "Band_2",
  "Band_3",
  "Band_4"
 ],
 "allowCopy": true,
 "allowAnalysis": true,
 "bandCount": 4,
 "pixelType": "U8",
 "minPixelSize": 0,
 "maxPixelSize": 0,
 "copyrightText": "",
 "serviceDataType": "esriImageServiceDataTypeGeneric",
 "serviceSourceType": "esriImageServiceSourceTypeDataset",
 "minValues": [],
 "maxValues": [],
 "meanValues": [],
 "stdvValues": [],
 "objectIdField": "",
 "fields": [],
 "capabilities": "Mensuration,Image,Metadata",
 "defaultMosaicMethod": "Center",
 "allowedMosaicMethods": "",
 "sortField": "",
 "sortValue": null,
 "sortAscending": true,
 "mosaicOperator": "First",
 "defaultCompressionQuality": 75,
 "defaultResamplingMethod": "Bilinear",
 "maxImageHeight": 4100,
 "maxImageWidth": 15000,
 "allowRasterFunction": true,
 "rasterFunctionInfos": [
  {
   "name": "RGB Composite",
   "description": "A raster function template.",
   "help": ""
  },
  {
   "name": "None",
   "description": "",
   "help": ""
  }
 ],
 "rasterTypeInfos": [
  {
   "name": "Raster Dataset",
   "description": "Supports all ArcGIS Raster Datasets",
   "help": ""
  }
 ],
 "mensurationCapabilities": "Basic",
 "hasHistograms": false,
 "hasColormap": false,
 "hasRasterAttributeTable": false,
 "minScale": 0,
 "maxScale": 0,
 "exportTilesAllowed": false,
 "supportsStatistics": false,
 "supportsAdvancedQueries": false,
 "editFieldsInfo": null,
 "ownershipBasedAccessControlForRasters": null,
 "allowComputeTiePoints": false,
 "useStandardizedQueries": true,
 "advancedQueryCapabilities": {
  "useStandardizedQueries": true,
  "supportsStatistics": false,
  "supportsOrderBy": false,
  "supportsDistinct": false,
  "supportsPagination": false
 },
 "spatialReference": {
  "wkid": 102100,
  "latestWkid": 3857
 }
}
