{
 "currentVersion": 10.91,
 "serviceDescription": "Kilauea_Volcano/ALOS2_Interferogram_20180526_20180512",
 "name": "Kilauea_Volcano/ALOS2_Interferogram_20180526_20180512",
 "description": "",
 "extent": {
  "xmin": 169011.91242372338,
  "ymin": 1846710.698183446,
  "xmax": 376494.7297458119,
  "ymax": 2226697.8334089085,
  "spatialReference": {
   "wkid": 32605,
   "latestWkid": 32605
  }
 },
 "initialExtent": {
  "xmin": 169011.91242372338,
  "ymin": 1846710.698183446,
  "xmax": 376494.7297458119,
  "ymax": 2226697.8334089085,
  "spatialReference": {
   "wkid": 32605,
   "latestWkid": 32605
  }
 },
 "fullExtent": {
  "xmin": 169011.91242372338,
  "ymin": 1846710.698183446,
  "xmax": 376494.7297458119,
  "ymax": 2226697.8334089085,
  "spatialReference": {
   "wkid": 32605,
   "latestWkid": 32605
  }
 },
 "hasMultidimensions": false,
 "pixelSizeX": 37.45177207979937,
 "pixelSizeY": 38.64799992122279,
 "datasetFormat": "PNG",
 "uncompressedSize": 217877120,
 "blockWidth": 5540,
 "blockHeight": 1,
 "compressionType": "Deflate/Inflate",
 "bandNames": [
  "Band_1",
  "Band_2",
  "Band_3",
  "Band_4"
 ],
 "allowCopy": true,
 "allowAnalysis": true,
 "bandCount": 4,
 "pixelType": "U8",
 "minPixelSize": 0,
 "maxPixelSize": 0,
 "copyrightText": "",
 "serviceDataType": "esriImageServiceDataTypeGeneric",
 "serviceSourceType": "esriImageServiceSourceTypeDataset",
 "minValues": [],
 "maxValues": [],
 "meanValues": [],
 "stdvValues": [],
 "objectIdField": "",
 "fields": [],
 "capabilities": "Mensuration,Image,Metadata",
 "defaultMosaicMethod": "Center",
 "allowedMosaicMethods": "",
 "sortField": "",
 "sortValue": null,
 "sortAscending": true,
 "mosaicOperator": "First",
 "defaultCompressionQuality": 75,
 "defaultResamplingMethod": "Bilinear",
 "maxImageHeight": 4100,
 "maxImageWidth": 15000,
 "allowRasterFunction": true,
 "rasterFunctionInfos": [
  {
   "name": "RGB Composite",
   "description": "A raster function template.",
   "help": ""
  },
  {
   "name": "None",
   "description": "",
   "help": ""
  }
 ],
 "rasterTypeInfos": [
  {
   "name": "Raster Dataset",
   "description": "Supports all ArcGIS Raster Datasets",
   "help": ""
  }
 ],
 "mensurationCapabilities": "Basic",
 "hasHistograms": false,
 "hasColormap": false,
 "hasRasterAttributeTable": false,
 "minScale": 0,
 "maxScale": 0,
 "exportTilesAllowed": false,
 "supportsStatistics": false,
 "supportsAdvancedQueries": false,
 "editFieldsInfo": null,
 "ownershipBasedAccessControlForRasters": null,
 "allowComputeTiePoints": false,
 "useStandardizedQueries": true,
 "advancedQueryCapabilities": {
  "useStandardizedQueries": true,
  "supportsStatistics": false,
  "supportsOrderBy": false,
  "supportsDistinct": false,
  "supportsPagination": false
 },
 "spatialReference": {
  "wkid": 32605,
  "latestWkid": 32605
 }
}
