{
 "currentVersion": 10.91,
 "serviceDescription": "Kilauea_Volcano/ALOS2_Interferogram_20180605_20171219_cropped",
 "name": "Kilauea_Volcano/ALOS2_Interferogram_20180605_20171219_cropped",
 "description": "",
 "extent": {
  "xmin": -155.476389,
  "ymin": 19.154721999999992,
  "xmax": -154.87138899999997,
  "ymax": 19.863333000000008,
  "spatialReference": {
   "wkid": 4326,
   "latestWkid": 4326,
   "vcsWkid": 5773,
   "latestVcsWkid": 5773
  }
 },
 "initialExtent": {
  "xmin": -155.476389,
  "ymin": 19.154721999999992,
  "xmax": -154.87138899999997,
  "ymax": 19.863333000000008,
  "spatialReference": {
   "wkid": 4326,
   "latestWkid": 4326,
   "vcsWkid": 5773,
   "latestVcsWkid": 5773
  }
 },
 "fullExtent": {
  "xmin": -155.476389,
  "ymin": 19.154721999999992,
  "xmax": -154.87138899999997,
  "ymax": 19.863333000000008,
  "spatialReference": {
   "wkid": 4326,
   "latestWkid": 4326,
   "vcsWkid": 5773,
   "latestVcsWkid": 5773
  }
 },
 "heightModelInfo": {
  "heightModel": "gravity_related_height",
  "vertCRS": "EGM96_Geoid",
  "heightUnit": "meter"
 },
 "hasMultidimensions": false,
 "pixelSizeX": 3.471026965003136E-4,
 "pixelSizeY": 3.4701811949070297E-4,
 "datasetFormat": "PNG",
 "uncompressedSize": 14236824,
 "blockWidth": 1743,
 "blockHeight": 1,
 "compressionType": "Deflate/Inflate",
 "bandNames": [
  "Band_1",
  "Band_2",
  "Band_3",
  "Band_4"
 ],
 "allowCopy": true,
 "allowAnalysis": true,
 "bandCount": 4,
 "pixelType": "U8",
 "minPixelSize": 0,
 "maxPixelSize": 0,
 "copyrightText": "",
 "serviceDataType": "esriImageServiceDataTypeGeneric",
 "serviceSourceType": "esriImageServiceSourceTypeDataset",
 "minValues": [],
 "maxValues": [],
 "meanValues": [],
 "stdvValues": [],
 "objectIdField": "",
 "fields": [],
 "capabilities": "Mensuration,Image,Metadata",
 "defaultMosaicMethod": "Center",
 "allowedMosaicMethods": "",
 "sortField": "",
 "sortValue": null,
 "sortAscending": true,
 "mosaicOperator": "First",
 "defaultCompressionQuality": 75,
 "defaultResamplingMethod": "Bilinear",
 "maxImageHeight": 4100,
 "maxImageWidth": 15000,
 "allowRasterFunction": true,
 "rasterFunctionInfos": [
  {
   "name": "RGB Composite",
   "description": "A raster function template.",
   "help": ""
  },
  {
   "name": "None",
   "description": "",
   "help": ""
  }
 ],
 "rasterTypeInfos": [
  {
   "name": "Raster Dataset",
   "description": "Supports all ArcGIS Raster Datasets",
   "help": ""
  }
 ],
 "mensurationCapabilities": "Basic",
 "hasHistograms": false,
 "hasColormap": false,
 "hasRasterAttributeTable": false,
 "minScale": 0,
 "maxScale": 0,
 "exportTilesAllowed": false,
 "supportsStatistics": false,
 "supportsAdvancedQueries": false,
 "editFieldsInfo": null,
 "ownershipBasedAccessControlForRasters": null,
 "allowComputeTiePoints": false,
 "useStandardizedQueries": true,
 "advancedQueryCapabilities": {
  "useStandardizedQueries": true,
  "supportsStatistics": false,
  "supportsOrderBy": false,
  "supportsDistinct": false,
  "supportsPagination": false
 },
 "spatialReference": {
  "wkid": 4326,
  "latestWkid": 4326,
  "vcsWkid": 5773,
  "latestVcsWkid": 5773
 }
}
