{
 "currentVersion": 10.91,
 "serviceDescription": "Kilauea_Volcano/ALOS2_Interferogram_20180623_20180609_cropped",
 "name": "Kilauea_Volcano/ALOS2_Interferogram_20180623_20180609_cropped",
 "description": "",
 "extent": {
  "xmin": -156.107778,
  "ymin": 16.699167,
  "xmax": -154.18444399999998,
  "ymax": 20.112777999999995,
  "spatialReference": {
   "wkid": 4326,
   "latestWkid": 4326,
   "vcsWkid": 5773,
   "latestVcsWkid": 5773
  }
 },
 "initialExtent": {
  "xmin": -156.107778,
  "ymin": 16.699167,
  "xmax": -154.18444399999998,
  "ymax": 20.112777999999995,
  "spatialReference": {
   "wkid": 4326,
   "latestWkid": 4326,
   "vcsWkid": 5773,
   "latestVcsWkid": 5773
  }
 },
 "fullExtent": {
  "xmin": -156.107778,
  "ymin": 16.699167,
  "xmax": -154.18444399999998,
  "ymax": 20.112777999999995,
  "spatialReference": {
   "wkid": 4326,
   "latestWkid": 4326,
   "vcsWkid": 5773,
   "latestVcsWkid": 5773
  }
 },
 "heightModelInfo": {
  "heightModel": "gravity_related_height",
  "vertCRS": "EGM96_Geoid",
  "heightUnit": "meter"
 },
 "hasMultidimensions": false,
 "pixelSizeX": 3.47172202166067E-4,
 "pixelSizeY": 3.4719395850284744E-4,
 "datasetFormat": "PNG",
 "uncompressedSize": 217877120,
 "blockWidth": 5540,
 "blockHeight": 1,
 "compressionType": "Deflate/Inflate",
 "bandNames": [
  "Band_1",
  "Band_2",
  "Band_3",
  "Band_4"
 ],
 "allowCopy": true,
 "allowAnalysis": true,
 "bandCount": 4,
 "pixelType": "U8",
 "minPixelSize": 0,
 "maxPixelSize": 0,
 "copyrightText": "",
 "serviceDataType": "esriImageServiceDataTypeGeneric",
 "serviceSourceType": "esriImageServiceSourceTypeDataset",
 "minValues": [],
 "maxValues": [],
 "meanValues": [],
 "stdvValues": [],
 "objectIdField": "",
 "fields": [],
 "capabilities": "Mensuration,Image,Metadata",
 "defaultMosaicMethod": "Center",
 "allowedMosaicMethods": "",
 "sortField": "",
 "sortValue": null,
 "sortAscending": true,
 "mosaicOperator": "First",
 "defaultCompressionQuality": 75,
 "defaultResamplingMethod": "Bilinear",
 "maxImageHeight": 4100,
 "maxImageWidth": 15000,
 "allowRasterFunction": true,
 "rasterFunctionInfos": [
  {
   "name": "RGB Composite",
   "description": "A raster function template.",
   "help": ""
  },
  {
   "name": "None",
   "description": "",
   "help": ""
  }
 ],
 "rasterTypeInfos": [
  {
   "name": "Raster Dataset",
   "description": "Supports all ArcGIS Raster Datasets",
   "help": ""
  }
 ],
 "mensurationCapabilities": "Basic",
 "hasHistograms": false,
 "hasColormap": false,
 "hasRasterAttributeTable": false,
 "minScale": 0,
 "maxScale": 0,
 "exportTilesAllowed": false,
 "supportsStatistics": false,
 "supportsAdvancedQueries": false,
 "editFieldsInfo": null,
 "ownershipBasedAccessControlForRasters": null,
 "allowComputeTiePoints": false,
 "useStandardizedQueries": true,
 "advancedQueryCapabilities": {
  "useStandardizedQueries": true,
  "supportsStatistics": false,
  "supportsOrderBy": false,
  "supportsDistinct": false,
  "supportsPagination": false
 },
 "spatialReference": {
  "wkid": 4326,
  "latestWkid": 4326,
  "vcsWkid": 5773,
  "latestVcsWkid": 5773
 }
}
