{
 "currentVersion": 10.91,
 "serviceDescription": " Purpose/Summary:<\/b>\nASTER images produced from data acquired on May 6 at 20:58 UTC. Visible-near infrared and thermal infrared multispectral bands show different aspects of the eruption\n\nSensor:<\/b>\nAdvanced Spaceborne Thermal Emission and Reflection Radiometer (ASTER) on NASA's Terra platform\n\nResolution:<\/b>\n15m for isible-near IR; 90m for thermal bands\n\nFurther Reference:<\/b>",
 "name": "Kilauea_Volcano/ASTER_SO2_Kilauea_20180506",
 "description": " Purpose/Summary:<\/b>\nASTER images produced from data acquired on May 6 at 20:58 UTC. Visible-near infrared and thermal infrared multispectral bands show different aspects of the eruption\n\nSensor:<\/b>\nAdvanced Spaceborne Thermal Emission and Reflection Radiometer (ASTER) on NASA's Terra platform\n\nResolution:<\/b>\n15m for isible-near IR; 90m for thermal bands\n\nFurther Reference:<\/b>",
 "extent": {
  "xmin": -155.53197898035899,
  "ymin": 18.98616639626116,
  "xmax": -154.72548925622772,
  "ymax": 19.663601801310328,
  "spatialReference": {
   "wkid": 4326,
   "latestWkid": 4326
  }
 },
 "initialExtent": {
  "xmin": -155.53197898035899,
  "ymin": 18.98616639626116,
  "xmax": -154.72548925622772,
  "ymax": 19.663601801310328,
  "spatialReference": {
   "wkid": 4326,
   "latestWkid": 4326
  }
 },
 "fullExtent": {
  "xmin": -155.53197898035899,
  "ymin": 18.98616639626116,
  "xmax": -154.72548925622772,
  "ymax": 19.663601801310328,
  "spatialReference": {
   "wkid": 4326,
   "latestWkid": 4326
  }
 },
 "hasMultidimensions": false,
 "pixelSizeX": 9.488114401544328E-4,
 "pixelSizeY": 9.487890827019141E-4,
 "datasetFormat": "TIFF",
 "uncompressedSize": 3641400,
 "blockWidth": 128,
 "blockHeight": 128,
 "compressionType": "None",
 "bandNames": [
  "Band_1",
  "Band_2",
  "Band_3"
 ],
 "allowCopy": true,
 "allowAnalysis": true,
 "bandCount": 3,
 "noDataValue": 256,
 "noDataValues": [
  256,
  256,
  256
 ],
 "pixelType": "U16",
 "minPixelSize": 0,
 "maxPixelSize": 0,
 "copyrightText": "NASA/METI/AIST/Japan Space Systems and US/Japan ASTER Science Team",
 "serviceDataType": "esriImageServiceDataTypeGeneric",
 "serviceSourceType": "esriImageServiceSourceTypeDataset",
 "minValues": [
  0,
  0,
  0
 ],
 "maxValues": [
  255,
  255,
  255
 ],
 "meanValues": [
  60.658772033809,
  66.367466120327,
  78.845838822447
 ],
 "stdvValues": [
  35.78583735795,
  35.955710166582,
  50.960358885642
 ],
 "objectIdField": "",
 "fields": [],
 "capabilities": "Mensuration,Image,Metadata",
 "defaultMosaicMethod": "Center",
 "allowedMosaicMethods": "",
 "sortField": "",
 "sortValue": null,
 "sortAscending": true,
 "mosaicOperator": "First",
 "defaultCompressionQuality": 75,
 "defaultResamplingMethod": "Bilinear",
 "maxImageHeight": 4100,
 "maxImageWidth": 15000,
 "allowRasterFunction": true,
 "rasterFunctionInfos": [
  {
   "name": "None",
   "description": "",
   "help": ""
  }
 ],
 "rasterTypeInfos": [
  {
   "name": "Raster Dataset",
   "description": "Supports all ArcGIS Raster Datasets",
   "help": ""
  }
 ],
 "mensurationCapabilities": "Basic",
 "hasHistograms": true,
 "hasColormap": false,
 "hasRasterAttributeTable": false,
 "minScale": 0,
 "maxScale": 0,
 "exportTilesAllowed": false,
 "supportsStatistics": false,
 "supportsAdvancedQueries": false,
 "editFieldsInfo": null,
 "ownershipBasedAccessControlForRasters": null,
 "allowComputeTiePoints": false,
 "useStandardizedQueries": true,
 "advancedQueryCapabilities": {
  "useStandardizedQueries": true,
  "supportsStatistics": false,
  "supportsOrderBy": false,
  "supportsDistinct": false,
  "supportsPagination": false
 },
 "spatialReference": {
  "wkid": 4326,
  "latestWkid": 4326
 }
}
