{
 "currentVersion": 10.91,
 "serviceDescription": "ARIA Interferogram by ESA Copernicus Sentinel 1 Radar. Fringes show deflation of Kilauea caldera (bulls-eye pattern to the left). east rift zone (ERZ) subsidence in the center, and incoherence to the right in the eastern ERZ where the fissure eruption is located. Fringes closer to the south coast are partially related to the M6.9 earthquake or other fault slip.",
 "name": "Kilauea_Volcano/IFG_20180411_20180505_cropped",
 "description": "ARIA Interferogram by ESA Copernicus Sentinel 1 Radar. Fringes show deflation of Kilauea caldera (bulls-eye pattern to the left). east rift zone (ERZ) subsidence in the center, and incoherence to the right in the eastern ERZ where the fissure eruption is located. Fringes closer to the south coast are partially related to the M6.9 earthquake or other fault slip.",
 "extent": {
  "xmin": -155.6299925723311,
  "ymin": 18.47105573322455,
  "xmax": -154.39084670406362,
  "ymax": 20.160686585589104,
  "spatialReference": {
   "wkid": 4326,
   "latestWkid": 4326
  }
 },
 "initialExtent": {
  "xmin": -155.6299925723311,
  "ymin": 18.47105573322455,
  "xmax": -154.39084670406362,
  "ymax": 20.160686585589104,
  "spatialReference": {
   "wkid": 4326,
   "latestWkid": 4326
  }
 },
 "fullExtent": {
  "xmin": -155.6299925723311,
  "ymin": 18.47105573322455,
  "xmax": -154.39084670406362,
  "ymax": 20.160686585589104,
  "spatialReference": {
   "wkid": 4326,
   "latestWkid": 4326
  }
 },
 "hasMultidimensions": false,
 "pixelSizeX": 3.472942455906629E-4,
 "pixelSizeY": 3.4737476405521283E-4,
 "datasetFormat": "TIFF",
 "uncompressedSize": 69419008,
 "blockWidth": 128,
 "blockHeight": 128,
 "compressionType": "None",
 "bandNames": [
  "Band_1",
  "Band_2",
  "Band_3",
  "Band_4"
 ],
 "allowCopy": true,
 "allowAnalysis": true,
 "bandCount": 4,
 "noDataValue": 0,
 "noDataValues": [
  0,
  0,
  0,
  0
 ],
 "pixelType": "U8",
 "minPixelSize": 0,
 "maxPixelSize": 0,
 "copyrightText": "Sentinel-1 data, Contains modified ESA Copernicus Sentinel data (2018). Data process on NASA/JPL/ARIA",
 "serviceDataType": "esriImageServiceDataTypeGeneric",
 "serviceSourceType": "esriImageServiceSourceTypeDataset",
 "minValues": [
  1,
  1,
  1,
  255
 ],
 "maxValues": [
  255,
  255,
  255,
  255
 ],
 "meanValues": [
  93.918716548452,
  94.52495307949,
  93.808278546747,
  255
 ],
 "stdvValues": [
  66.309166956879,
  66.606522153917,
  66.06521058324,
  0
 ],
 "objectIdField": "",
 "fields": [],
 "capabilities": "Mensuration,Image,Metadata",
 "defaultMosaicMethod": "Center",
 "allowedMosaicMethods": "",
 "sortField": "",
 "sortValue": null,
 "sortAscending": true,
 "mosaicOperator": "First",
 "defaultCompressionQuality": 75,
 "defaultResamplingMethod": "Bilinear",
 "maxImageHeight": 4100,
 "maxImageWidth": 15000,
 "allowRasterFunction": true,
 "rasterFunctionInfos": [
  {
   "name": "None",
   "description": "",
   "help": ""
  }
 ],
 "rasterTypeInfos": [
  {
   "name": "Raster Dataset",
   "description": "Supports all ArcGIS Raster Datasets",
   "help": ""
  }
 ],
 "mensurationCapabilities": "Basic",
 "hasHistograms": true,
 "hasColormap": false,
 "hasRasterAttributeTable": false,
 "minScale": 0,
 "maxScale": 0,
 "exportTilesAllowed": false,
 "supportsStatistics": false,
 "supportsAdvancedQueries": false,
 "editFieldsInfo": null,
 "ownershipBasedAccessControlForRasters": null,
 "allowComputeTiePoints": false,
 "useStandardizedQueries": true,
 "advancedQueryCapabilities": {
  "useStandardizedQueries": true,
  "supportsStatistics": false,
  "supportsOrderBy": false,
  "supportsDistinct": false,
  "supportsPagination": false
 },
 "spatialReference": {
  "wkid": 4326,
  "latestWkid": 4326
 }
}
