{
 "currentVersion": 10.91,
 "serviceDescription": "Purpose/Summary:\nMODIS Thermal Infrared (TIR) color composite. Volcanic SO2 plumes are shown in yellow.\n\nSuggested Usage:\nIdentifying plume locations\n\nSatellite/Sensor:\nMODIS-Terra Channels 29, 31, and 32\n\nResolution:\n1 km at nadir\n\nCredits/Acknowledgements:\nNASA, JPL, California Institute of Technology",
 "name": "Kilauea_Volcano/MOD_20180506_2100_DS3",
 "description": "Purpose/Summary:\nMODIS Thermal Infrared (TIR) color composite. Volcanic SO2 plumes are shown in yellow.\n\nSuggested Usage:\nIdentifying plume locations\n\nSatellite/Sensor:\nMODIS-Terra Channels 29, 31, and 32\n\nResolution:\n1 km at nadir\n\nCredits/Acknowledgements:\nNASA, JPL, California Institute of Technology",
 "extent": {
  "xmin": -128301.79099999997,
  "ymin": 1793357.148,
  "xmax": 581414.209,
  "ymax": 2475084.348,
  "spatialReference": {
   "wkid": 32605,
   "latestWkid": 32605
  }
 },
 "initialExtent": {
  "xmin": -128301.79099999997,
  "ymin": 1793357.148,
  "xmax": 581414.209,
  "ymax": 2475084.348,
  "spatialReference": {
   "wkid": 32605,
   "latestWkid": 32605
  }
 },
 "fullExtent": {
  "xmin": -128301.79099999997,
  "ymin": 1793357.148,
  "xmax": 581414.209,
  "ymax": 2475084.348,
  "spatialReference": {
   "wkid": 32605,
   "latestWkid": 32605
  }
 },
 "hasMultidimensions": false,
 "pixelSizeX": 999.6,
 "pixelSizeY": 999.6000000000003,
 "datasetFormat": "TIFF",
 "uncompressedSize": 1452660,
 "blockWidth": 710,
 "blockHeight": 1,
 "compressionType": "None",
 "bandNames": [
  "Band_1",
  "Band_2",
  "Band_3"
 ],
 "allowCopy": true,
 "allowAnalysis": true,
 "bandCount": 3,
 "pixelType": "U8",
 "minPixelSize": 0,
 "maxPixelSize": 0,
 "copyrightText": "NASA, JPL, California Institute of Technology",
 "serviceDataType": "esriImageServiceDataTypeRGB",
 "serviceSourceType": "esriImageServiceSourceTypeDataset",
 "minValues": [],
 "maxValues": [],
 "meanValues": [],
 "stdvValues": [],
 "objectIdField": "",
 "fields": [],
 "capabilities": "Mensuration,Image,Metadata",
 "defaultMosaicMethod": "Center",
 "allowedMosaicMethods": "",
 "sortField": "",
 "sortValue": null,
 "sortAscending": true,
 "mosaicOperator": "First",
 "defaultCompressionQuality": 75,
 "defaultResamplingMethod": "Bilinear",
 "maxImageHeight": 4100,
 "maxImageWidth": 15000,
 "allowRasterFunction": true,
 "rasterFunctionInfos": [
  {
   "name": "None",
   "description": "",
   "help": ""
  }
 ],
 "rasterTypeInfos": [
  {
   "name": "Raster Dataset",
   "description": "Supports all ArcGIS Raster Datasets",
   "help": ""
  }
 ],
 "mensurationCapabilities": "Basic",
 "hasHistograms": false,
 "hasColormap": false,
 "hasRasterAttributeTable": false,
 "minScale": 0,
 "maxScale": 0,
 "exportTilesAllowed": false,
 "supportsStatistics": false,
 "supportsAdvancedQueries": false,
 "editFieldsInfo": null,
 "ownershipBasedAccessControlForRasters": null,
 "allowComputeTiePoints": false,
 "useStandardizedQueries": true,
 "advancedQueryCapabilities": {
  "useStandardizedQueries": true,
  "supportsStatistics": false,
  "supportsOrderBy": false,
  "supportsDistinct": false,
  "supportsPagination": false
 },
 "spatialReference": {
  "wkid": 32605,
  "latestWkid": 32605
 }
}
