{ "currentVersion": 10.91, "serviceDescription": "
Purpose/Summary:<\/span><\/p> OMI (Ozone Monitoring Instrument) total column sulfur dioxide (SO2). SO2 is toxic air pollutant, causes acid rain and main precursor to sulfate aerosols and volcanic smog (vog). At high altitudes SO2 is proxy for transient volcanic ash clouds, which are hazardous to aviation.<\/span><\/p> Suggested Usage:<\/span><\/p> Identifying SO2 plume locations, concentrations, and SO2 emissions.<\/span><\/p> Satellite/Sensor/Resolution:<\/span><\/p> SNPP/OMPS (Suomi National Polar-orbiting Partnership/Ozone Mapping and Profiler Suite); 50 km at nadir<\/span><\/p> Credit/Acknowledgments:<\/span><\/p> NASA SNPP/OMPS ozone processing team<\/span><\/p> <\/p><\/div><\/div><\/div>",
"name": "Kilauea_Volcano/OMPS_TRL",
"description": " Purpose/Summary:<\/span><\/p> OMI (Ozone Monitoring Instrument) total column sulfur dioxide (SO2). SO2 is toxic air pollutant, causes acid rain and main precursor to sulfate aerosols and volcanic smog (vog). At high altitudes SO2 is proxy for transient volcanic ash clouds, which are hazardous to aviation.<\/span><\/p> Suggested Usage:<\/span><\/p> Identifying SO2 plume locations, concentrations, and SO2 emissions.<\/span><\/p> Satellite/Sensor/Resolution:<\/span><\/p> SNPP/OMPS (Suomi National Polar-orbiting Partnership/Ozone Mapping and Profiler Suite); 50 km at nadir<\/span><\/p> Credit/Acknowledgments:<\/span><\/p> NASA SNPP/OMPS ozone processing team<\/span><\/p> <\/p><\/div><\/div><\/div>",
"extent": {
"xmin": -175.48,
"ymin": 0.01999999999999602,
"xmax": -135.51999999999998,
"ymax": 39.98,
"spatialReference": {
"wkid": 4326,
"latestWkid": 4326
}
},
"initialExtent": {
"xmin": -175.48,
"ymin": 0.01999999999999602,
"xmax": -135.51999999999998,
"ymax": 39.98,
"spatialReference": {
"wkid": 4326,
"latestWkid": 4326
}
},
"fullExtent": {
"xmin": -175.48,
"ymin": 0.01999999999999602,
"xmax": -135.51999999999998,
"ymax": 39.98,
"spatialReference": {
"wkid": 4326,
"latestWkid": 4326
}
},
"hasMultidimensions": false,
"timeInfo": {
"startTimeField": "Date",
"endTimeField": "Date",
"timeExtent": [
1525813698000,
1526965200000
],
"timeReference": null
},
"pixelSizeX": 0.03996000000000001,
"pixelSizeY": 0.03996,
"datasetFormat": "AMD",
"uncompressedSize": 4000000,
"blockWidth": 2048,
"blockHeight": 256,
"compressionType": "None",
"bandNames": [
"Band_1"
],
"allowCopy": true,
"allowAnalysis": true,
"bandCount": 1,
"pixelType": "F32",
"minPixelSize": 0,
"maxPixelSize": 0,
"copyrightText": "NASA SNPP/OMPS ozone processing team",
"serviceDataType": "esriImageServiceDataTypeGeneric",
"serviceSourceType": "esriImageServiceSourceTypeMosaicDataset",
"minValues": [],
"maxValues": [],
"meanValues": [],
"stdvValues": [],
"objectIdField": "OBJECTID",
"fields": [
{
"name": "OBJECTID",
"type": "esriFieldTypeOID",
"alias": "OBJECTID",
"domain": null
},
{
"name": "Shape",
"type": "esriFieldTypeGeometry",
"alias": "Shape",
"domain": null
},
{
"name": "Name",
"type": "esriFieldTypeString",
"alias": "Name",
"domain": null,
"length": 200
},
{
"name": "MinPS",
"type": "esriFieldTypeDouble",
"alias": "MinPS",
"domain": null
},
{
"name": "MaxPS",
"type": "esriFieldTypeDouble",
"alias": "MaxPS",
"domain": null
},
{
"name": "LowPS",
"type": "esriFieldTypeDouble",
"alias": "LowPS",
"domain": null
},
{
"name": "HighPS",
"type": "esriFieldTypeDouble",
"alias": "HighPS",
"domain": null
},
{
"name": "Category",
"type": "esriFieldTypeInteger",
"alias": "Category",
"domain": {
"type": "codedValue",
"name": "MosaicCatalogItemCategoryDomain",
"description": "Catalog item categories.",
"codedValues": [
{
"name": "Unknown",
"code": 0
},
{
"name": "Primary",
"code": 1
},
{
"name": "Overview",
"code": 2
},
{
"name": "Unprocessed Overview",
"code": 3
},
{
"name": "Partial Overview",
"code": 4
},
{
"name": "Inactive",
"code": 5
},
{
"name": "Uploaded",
"code": 253
},
{
"name": "Incomplete",
"code": 254
},
{
"name": "Custom",
"code": 255
}
],
"mergePolicy": "esriMPTDefaultValue",
"splitPolicy": "esriSPTDefaultValue"
}
},
{
"name": "Tag",
"type": "esriFieldTypeString",
"alias": "Tag",
"domain": null,
"length": 100
},
{
"name": "GroupName",
"type": "esriFieldTypeString",
"alias": "GroupName",
"domain": null,
"length": 100
},
{
"name": "ProductName",
"type": "esriFieldTypeString",
"alias": "ProductName",
"domain": null,
"length": 100
},
{
"name": "CenterX",
"type": "esriFieldTypeDouble",
"alias": "CenterX",
"domain": null
},
{
"name": "CenterY",
"type": "esriFieldTypeDouble",
"alias": "CenterY",
"domain": null
},
{
"name": "ZOrder",
"type": "esriFieldTypeInteger",
"alias": "ZOrder",
"domain": null
},
{
"name": "Shape_Length",
"type": "esriFieldTypeDouble",
"alias": "Shape_Length",
"domain": null
},
{
"name": "Shape_Area",
"type": "esriFieldTypeDouble",
"alias": "Shape_Area",
"domain": null
},
{
"name": "Date",
"type": "esriFieldTypeDate",
"alias": "Date",
"domain": null,
"length": 8
}
],
"capabilities": "Catalog,Mensuration,Image,Metadata",
"defaultMosaicMethod": "Northwest",
"allowedMosaicMethods": "NorthWest,Center,LockRaster,ByAttribute,Nadir,Viewpoint,Seamline,None",
"sortField": "",
"sortValue": null,
"sortAscending": true,
"mosaicOperator": "First",
"maxDownloadSizeLimit": 2048,
"defaultCompressionQuality": 75,
"defaultResamplingMethod": "Bilinear",
"maxImageHeight": 4100,
"maxImageWidth": 15000,
"maxRecordCount": 1000,
"maxDownloadImageCount": 20,
"maxMosaicImageCount": 20,
"allowRasterFunction": true,
"rasterFunctionInfos": [
{
"name": "HIGH_LOW",
"description": "A raster function template.",
"help": ""
},
{
"name": "None",
"description": "A No-Op Function.",
"help": ""
}
],
"rasterTypeInfos": [
{
"name": "Raster Dataset",
"description": "Supports all ArcGIS Raster Datasets",
"help": ""
}
],
"mensurationCapabilities": "Basic",
"hasHistograms": false,
"hasColormap": false,
"hasRasterAttributeTable": false,
"minScale": 0,
"maxScale": 0,
"exportTilesAllowed": false,
"supportsStatistics": true,
"supportsAdvancedQueries": true,
"editFieldsInfo": null,
"ownershipBasedAccessControlForRasters": null,
"allowComputeTiePoints": false,
"useStandardizedQueries": true,
"advancedQueryCapabilities": {
"useStandardizedQueries": true,
"supportsStatistics": true,
"supportsOrderBy": true,
"supportsDistinct": true,
"supportsPagination": true
},
"spatialReference": {
"wkid": 4326,
"latestWkid": 4326
}
}