{
 "currentVersion": 10.91,
 "serviceDescription": "Purpose/Summary:<\/b>\n\nASTER images produced from data acquired on May 6 at 20:58 UTC. Visible-near infrared and thermal infrared multispectral bands show different aspects of the eruption\n\n\n\nSensor:\n<\/b>\nAdvanced Spaceborne Thermal Emission and Reflection Radiometer (ASTER) on NASA's Terra platform\n\n\n\nResolution:<\/b>\n\n15m for isible-near IR; 90m for thermal bands\n\n\n\nFurther Reference:<\/b>",
 "name": "Kilauea_Volcano/Pahoa_vis_hotspot_20180506",
 "description": "Purpose/Summary:<\/b>\n\nASTER images produced from data acquired on May 6 at 20:58 UTC. Visible-near infrared and thermal infrared multispectral bands show different aspects of the eruption\n\n\n\nSensor:\n<\/b>\nAdvanced Spaceborne Thermal Emission and Reflection Radiometer (ASTER) on NASA's Terra platform\n\n\n\nResolution:<\/b>\n\n15m for isible-near IR; 90m for thermal bands\n\n\n\nFurther Reference:<\/b>",
 "extent": {
  "xmin": -155.53103427336063,
  "ymin": 18.98624013886172,
  "xmax": -154.7261666364246,
  "ymax": 19.66412477111959,
  "spatialReference": {
   "wkid": 4326,
   "latestWkid": 4326
  }
 },
 "initialExtent": {
  "xmin": -155.53103427336063,
  "ymin": 18.98624013886172,
  "xmax": -154.7261666364246,
  "ymax": 19.66412477111959,
  "spatialReference": {
   "wkid": 4326,
   "latestWkid": 4326
  }
 },
 "fullExtent": {
  "xmin": -155.53103427336063,
  "ymin": 18.98624013886172,
  "xmax": -154.7261666364246,
  "ymax": 19.66412477111959,
  "spatialReference": {
   "wkid": 4326,
   "latestWkid": 4326
  }
 },
 "hasMultidimensions": false,
 "pixelSizeX": 1.577553188820117E-4,
 "pixelSizeY": 1.6533771518484585E-4,
 "datasetFormat": "TIFF",
 "uncompressedSize": 125509200,
 "blockWidth": 128,
 "blockHeight": 128,
 "compressionType": "None",
 "bandNames": [
  "Band_1",
  "Band_2",
  "Band_3"
 ],
 "allowCopy": true,
 "allowAnalysis": true,
 "bandCount": 3,
 "noDataValue": 256,
 "noDataValues": [
  256,
  256,
  256
 ],
 "pixelType": "U16",
 "minPixelSize": 0,
 "maxPixelSize": 0,
 "copyrightText": "NASA/METI/AIST/Japan Space Systems and US/Japan ASTER Science Team",
 "serviceDataType": "esriImageServiceDataTypeGeneric",
 "serviceSourceType": "esriImageServiceSourceTypeDataset",
 "minValues": [
  0,
  0,
  0
 ],
 "maxValues": [
  255,
  255,
  255
 ],
 "meanValues": [
  65.858081762451,
  70.902448148327,
  116.32093628353
 ],
 "stdvValues": [
  84.445366577145,
  80.638149165783,
  76.451325331707
 ],
 "objectIdField": "",
 "fields": [],
 "capabilities": "Mensuration,Image,Metadata",
 "defaultMosaicMethod": "Center",
 "allowedMosaicMethods": "",
 "sortField": "",
 "sortValue": null,
 "sortAscending": true,
 "mosaicOperator": "First",
 "defaultCompressionQuality": 75,
 "defaultResamplingMethod": "Bilinear",
 "maxImageHeight": 4100,
 "maxImageWidth": 15000,
 "allowRasterFunction": true,
 "rasterFunctionInfos": [
  {
   "name": "None",
   "description": "",
   "help": ""
  }
 ],
 "rasterTypeInfos": [
  {
   "name": "Raster Dataset",
   "description": "Supports all ArcGIS Raster Datasets",
   "help": ""
  }
 ],
 "mensurationCapabilities": "Basic",
 "hasHistograms": true,
 "hasColormap": false,
 "hasRasterAttributeTable": false,
 "minScale": 0,
 "maxScale": 0,
 "exportTilesAllowed": false,
 "supportsStatistics": false,
 "supportsAdvancedQueries": false,
 "editFieldsInfo": null,
 "ownershipBasedAccessControlForRasters": null,
 "allowComputeTiePoints": false,
 "useStandardizedQueries": true,
 "advancedQueryCapabilities": {
  "useStandardizedQueries": true,
  "supportsStatistics": false,
  "supportsOrderBy": false,
  "supportsDistinct": false,
  "supportsPagination": false
 },
 "spatialReference": {
  "wkid": 4326,
  "latestWkid": 4326
 }
}
