{
 "currentVersion": 10.91,
 "serviceDescription": "Purpose/Summary:\nBrightness Temperature Difference (BTD). The BTD is a proxy for SO2 absorption. Higher concentrations of SO2 result in larger (absolute) BTD values.\n\nSuggested Usage:\nIdentifying plume locations and relative concentrations of SO2\n\nSatellite/Sensor:\nVIIRS-VMAE Channel 14 (centered at 8.6 microns)\n\nResolution:\n750m at nadir\n\nCredits/Acknowledgements:\nNASA, JPL, California Institute of Technology",
 "name": "Kilauea_Volcano/VMAE_20180506_1142_BTD",
 "description": "Purpose/Summary:\nBrightness Temperature Difference (BTD). The BTD is a proxy for SO2 absorption. Higher concentrations of SO2 result in larger (absolute) BTD values.\n\nSuggested Usage:\nIdentifying plume locations and relative concentrations of SO2\n\nSatellite/Sensor:\nVIIRS-VMAE Channel 14 (centered at 8.6 microns)\n\nResolution:\n750m at nadir\n\nCredits/Acknowledgements:\nNASA, JPL, California Institute of Technology",
 "extent": {
  "xmin": 38179.82799999998,
  "ymin": 1960836.7229999998,
  "xmax": 534590.4280000001,
  "ymax": 2388069.1229999997,
  "spatialReference": {
   "wkid": 32605,
   "latestWkid": 32605
  }
 },
 "initialExtent": {
  "xmin": 38179.82799999998,
  "ymin": 1960836.7229999998,
  "xmax": 534590.4280000001,
  "ymax": 2388069.1229999997,
  "spatialReference": {
   "wkid": 32605,
   "latestWkid": 32605
  }
 },
 "fullExtent": {
  "xmin": 38179.82799999998,
  "ymin": 1960836.7229999998,
  "xmax": 534590.4280000001,
  "ymax": 2388069.1229999997,
  "spatialReference": {
   "wkid": 32605,
   "latestWkid": 32605
  }
 },
 "hasMultidimensions": false,
 "pixelSizeX": 760.2000000000002,
 "pixelSizeY": 760.1999999999998,
 "datasetFormat": "TIFF",
 "uncompressedSize": 1100958,
 "blockWidth": 653,
 "blockHeight": 1,
 "compressionType": "None",
 "bandNames": [
  "Band_1",
  "Band_2",
  "Band_3"
 ],
 "allowCopy": true,
 "allowAnalysis": true,
 "bandCount": 3,
 "pixelType": "U8",
 "minPixelSize": 0,
 "maxPixelSize": 0,
 "copyrightText": "NASA, JPL, California Institute of Technology",
 "serviceDataType": "esriImageServiceDataTypeRGB",
 "serviceSourceType": "esriImageServiceSourceTypeDataset",
 "minValues": [],
 "maxValues": [],
 "meanValues": [],
 "stdvValues": [],
 "objectIdField": "",
 "fields": [],
 "capabilities": "Mensuration,Image,Metadata",
 "defaultMosaicMethod": "Center",
 "allowedMosaicMethods": "",
 "sortField": "",
 "sortValue": null,
 "sortAscending": true,
 "mosaicOperator": "First",
 "defaultCompressionQuality": 75,
 "defaultResamplingMethod": "Bilinear",
 "maxImageHeight": 4100,
 "maxImageWidth": 15000,
 "allowRasterFunction": true,
 "rasterFunctionInfos": [
  {
   "name": "VMAE_BTD",
   "description": "A raster function template.",
   "help": ""
  },
  {
   "name": "None",
   "description": "",
   "help": ""
  }
 ],
 "rasterTypeInfos": [
  {
   "name": "Raster Dataset",
   "description": "Supports all ArcGIS Raster Datasets",
   "help": ""
  }
 ],
 "mensurationCapabilities": "Basic",
 "hasHistograms": false,
 "hasColormap": false,
 "hasRasterAttributeTable": false,
 "minScale": 0,
 "maxScale": 0,
 "exportTilesAllowed": false,
 "supportsStatistics": false,
 "supportsAdvancedQueries": false,
 "editFieldsInfo": null,
 "ownershipBasedAccessControlForRasters": null,
 "allowComputeTiePoints": false,
 "useStandardizedQueries": true,
 "advancedQueryCapabilities": {
  "useStandardizedQueries": true,
  "supportsStatistics": false,
  "supportsOrderBy": false,
  "supportsDistinct": false,
  "supportsPagination": false
 },
 "spatialReference": {
  "wkid": 32605,
  "latestWkid": 32605
 }
}
