{
 "currentVersion": 10.91,
 "serviceDescription": "Sentinel 1 RGB (Red, Green, Blue) Composite where blue denotes water",
 "name": "MidWestFLooding_Feb2018/S1A_20180228_22355_RGB_MidwestFlooding",
 "description": "Sentinel 1 RGB (Red, Green, Blue) Composite where blue denotes water",
 "extent": {
  "xmin": 86745,
  "ymin": 3872945,
  "xmax": 453315,
  "ymax": 4599935,
  "spatialReference": {
   "wkid": 32616,
   "latestWkid": 32616
  }
 },
 "initialExtent": {
  "xmin": 86745,
  "ymin": 3872945,
  "xmax": 453315,
  "ymax": 4599935,
  "spatialReference": {
   "wkid": 32616,
   "latestWkid": 32616
  }
 },
 "fullExtent": {
  "xmin": 86745,
  "ymin": 3872945,
  "xmax": 453315,
  "ymax": 4599935,
  "spatialReference": {
   "wkid": 32616,
   "latestWkid": 32616
  }
 },
 "hasMultidimensions": false,
 "pixelSizeX": 30,
 "pixelSizeY": 30,
 "datasetFormat": "TIFF",
 "uncompressedSize": 888309081,
 "blockWidth": 128,
 "blockHeight": 128,
 "compressionType": "LZW",
 "bandNames": [
  "Band_1",
  "Band_2",
  "Band_3"
 ],
 "allowCopy": true,
 "allowAnalysis": true,
 "bandCount": 3,
 "noDataValue": 256,
 "noDataValues": [
  256,
  256,
  256
 ],
 "pixelType": "U8",
 "minPixelSize": 0,
 "maxPixelSize": 0,
 "copyrightText": "NASA MSFC",
 "serviceDataType": "esriImageServiceDataTypeRGB",
 "serviceSourceType": "esriImageServiceSourceTypeDataset",
 "minValues": [
  0,
  0,
  0
 ],
 "maxValues": [
  255,
  255,
  255
 ],
 "meanValues": [
  45.557648797683,
  82.274047900898,
  19.496229388434
 ],
 "stdvValues": [
  62.298954834122,
  71.063766029815,
  42.292168929063
 ],
 "objectIdField": "",
 "fields": [],
 "capabilities": "Mensuration,Image,Metadata",
 "defaultMosaicMethod": "Center",
 "allowedMosaicMethods": "",
 "sortField": "",
 "sortValue": null,
 "sortAscending": true,
 "mosaicOperator": "First",
 "defaultCompressionQuality": 75,
 "defaultResamplingMethod": "Bilinear",
 "maxImageHeight": 4100,
 "maxImageWidth": 15000,
 "allowRasterFunction": true,
 "rasterFunctionInfos": [
  {
   "name": "None",
   "description": "Make a Raster or Raster Dataset into a Function Raster Dataset.",
   "help": ""
  },
  {
   "name": "MSFC_SARRGBcomposite",
   "description": "A raster function template.",
   "help": ""
  }
 ],
 "rasterTypeInfos": [
  {
   "name": "Raster Dataset",
   "description": "Supports all ArcGIS Raster Datasets",
   "help": ""
  }
 ],
 "mensurationCapabilities": "Basic",
 "hasHistograms": false,
 "hasColormap": false,
 "hasRasterAttributeTable": false,
 "minScale": 0,
 "maxScale": 0,
 "exportTilesAllowed": false,
 "supportsStatistics": false,
 "supportsAdvancedQueries": false,
 "editFieldsInfo": null,
 "ownershipBasedAccessControlForRasters": null,
 "allowComputeTiePoints": false,
 "useStandardizedQueries": true,
 "advancedQueryCapabilities": {
  "useStandardizedQueries": true,
  "supportsStatistics": false,
  "supportsOrderBy": false,
  "supportsDistinct": false,
  "supportsPagination": false
 },
 "spatialReference": {
  "wkid": 32616,
  "latestWkid": 32616
 }
}
