{
 "currentVersion": 10.91,
 "serviceDescription": "On May 2, 2017, the Moderate Resolution Imaging Spectroradiometer (MODIS) on NASA\u2019s Terra satellite acquired this false-color image of flooding along several tributaries of Mississippi River. Flood water appears blue and black; forested areas are green. Fields without much vegetation are brown. For comparison, the image at the top shows these watersheds on April 25, 2017, under more typical conditions for the season. Turn on the image comparison tool to see the changes.",
 "name": "Missouri_Flood_17/mississippi_tmo_2017122_geo",
 "description": "On May 2, 2017, the Moderate Resolution Imaging Spectroradiometer (MODIS) on NASA\u2019s Terra satellite acquired this false-color image of flooding along several tributaries of Mississippi River. Flood water appears blue and black; forested areas are green. Fields without much vegetation are brown. For comparison, the image at the top shows these watersheds on April 25, 2017, under more typical conditions for the season. Turn on the image comparison tool to see the changes.",
 "extent": {
  "xmin": -94.83300879373616,
  "ymin": 30.224306917256946,
  "xmax": -83.79393584921745,
  "ymax": 41.31610379225694,
  "spatialReference": {
   "wkid": 4326,
   "latestWkid": 4326
  }
 },
 "initialExtent": {
  "xmin": -94.83300879373616,
  "ymin": 30.224306917256946,
  "xmax": -83.79393584921745,
  "ymax": 41.31610379225694,
  "spatialReference": {
   "wkid": 4326,
   "latestWkid": 4326
  }
 },
 "fullExtent": {
  "xmin": -94.83300879373616,
  "ymin": 30.224306917256946,
  "xmax": -83.79393584921745,
  "ymax": 41.31610379225694,
  "spatialReference": {
   "wkid": 4326,
   "latestWkid": 4326
  }
 },
 "hasMultidimensions": false,
 "pixelSizeX": 0.002196830436720141,
 "pixelSizeY": 0.0021968304367201413,
 "datasetFormat": "TIFF",
 "uncompressedSize": 76113675,
 "blockWidth": 5025,
 "blockHeight": 17,
 "compressionType": "LZW",
 "bandNames": [
  "Band_1",
  "Band_2",
  "Band_3"
 ],
 "allowCopy": true,
 "allowAnalysis": true,
 "bandCount": 3,
 "pixelType": "U8",
 "minPixelSize": 0,
 "maxPixelSize": 0,
 "copyrightText": "NASA Earth Observatory images by Joshua Stevens, using MODIS data from LANCE/EOSDIS Rapid Response. Caption by Adam Voiland. ",
 "serviceDataType": "esriImageServiceDataTypeRGB",
 "serviceSourceType": "esriImageServiceSourceTypeDataset",
 "minValues": [],
 "maxValues": [],
 "meanValues": [],
 "stdvValues": [],
 "objectIdField": "",
 "fields": [],
 "capabilities": "Mensuration,Image,Metadata",
 "defaultMosaicMethod": "Center",
 "allowedMosaicMethods": "",
 "sortField": "",
 "sortValue": null,
 "sortAscending": true,
 "mosaicOperator": "First",
 "defaultCompressionQuality": 75,
 "defaultResamplingMethod": "Bilinear",
 "maxImageHeight": 4100,
 "maxImageWidth": 15000,
 "allowRasterFunction": true,
 "rasterFunctionInfos": [
  {
   "name": "None",
   "description": "",
   "help": ""
  }
 ],
 "rasterTypeInfos": [
  {
   "name": "Raster Dataset",
   "description": "Supports all ArcGIS Raster Datasets",
   "help": ""
  }
 ],
 "mensurationCapabilities": "Basic",
 "hasHistograms": false,
 "hasColormap": false,
 "hasRasterAttributeTable": false,
 "minScale": 0,
 "maxScale": 0,
 "exportTilesAllowed": false,
 "supportsStatistics": false,
 "supportsAdvancedQueries": false,
 "editFieldsInfo": null,
 "ownershipBasedAccessControlForRasters": null,
 "allowComputeTiePoints": false,
 "useStandardizedQueries": true,
 "advancedQueryCapabilities": {
  "useStandardizedQueries": true,
  "supportsStatistics": false,
  "supportsOrderBy": false,
  "supportsDistinct": false,
  "supportsPagination": false
 },
 "spatialReference": {
  "wkid": 4326,
  "latestWkid": 4326
 }
}
