{ "currentVersion": 10.91, "serviceDescription": "
Background<\/span>:<\/span><\/p> Land Information System (LIS) Soil Moisture from NASA\u2019s SPoRT Center The NASA Short-term Prediction Research and Transition (SPoRT) Center runs a real-time version of the Noah land surface model at ~3-km resolution over the Continental U.S. The simulations run the NASA Land Information System(LIS) software, incorporating real-time Suomi-NPP green vegetation fraction, radar/gauge-derived precipitation estimates and atmospheric analysis fields to generate daily modeled analyses of soil moisture at prescribed layers within the Noah model soil column. Relative Soil Moisture (0% wilting, 100% saturation) in the 0-2m (total column) layers. The near-surface layer responds quickly to heavy rainfall and indicates near-saturated conditions conducive to significant runoff and flash/river flooding, while the deeper column layers represent longer-term water storage via infiltration from upper layers. The Image Service is published using a Raster Mosaic populated with GeoTiffs collected from the Global Hydrology Resource Center (GHRC) SPoRT FTP site daily. <\/span><\/p> Data Visualization:<\/span><\/p> Relative Soil Moisture (RSM) is shown using a Classified Color Ramp (Multi-Color, 20 classes). Each class represents percentage of volumetric soil moisture. Values at 0% indicate no moisture in soil, inversely values of 100% indicate complete saturation. <\/span><\/p> Update Frequency:<\/span><\/p> Daily<\/span><\/p> Suggested Usage:<\/span><\/p> Estimating ground water saturation levels during/after heavy rain events.<\/span><\/p> Further Reference:<\/span><\/p> Download LIS Soil Moisture Quick Guide<\/span><\/p> Download LIS Brief Product Overview<\/span><\/p> Learn more about NASA SPoRT program<\/span><\/p><\/div><\/div><\/div>",
"name": "NRT/lis_ak_green_veg_fraction",
"description": " Background<\/span>:<\/span><\/p> Land Information System (LIS) Soil Moisture from NASA\u2019s SPoRT Center The NASA Short-term Prediction Research and Transition (SPoRT) Center runs a real-time version of the Noah land surface model at ~3-km resolution over the Continental U.S. The simulations run the NASA Land Information System(LIS) software, incorporating real-time Suomi-NPP green vegetation fraction, radar/gauge-derived precipitation estimates and atmospheric analysis fields to generate daily modeled analyses of soil moisture at prescribed layers within the Noah model soil column. Relative Soil Moisture (0% wilting, 100% saturation) in the 0-2m (total column) layers. The near-surface layer responds quickly to heavy rainfall and indicates near-saturated conditions conducive to significant runoff and flash/river flooding, while the deeper column layers represent longer-term water storage via infiltration from upper layers. The Image Service is published using a Raster Mosaic populated with GeoTiffs collected from the Global Hydrology Resource Center (GHRC) SPoRT FTP site daily. <\/span><\/p> Data Visualization:<\/span><\/p> Relative Soil Moisture (RSM) is shown using a Classified Color Ramp (Multi-Color, 20 classes). Each class represents percentage of volumetric soil moisture. Values at 0% indicate no moisture in soil, inversely values of 100% indicate complete saturation. <\/span><\/p> Update Frequency:<\/span><\/p> Daily<\/span><\/p> Suggested Usage:<\/span><\/p> Estimating ground water saturation levels during/after heavy rain events.<\/span><\/p> Further Reference:<\/span><\/p> Download LIS Soil Moisture Quick Guide<\/span><\/p> Download LIS Brief Product Overview<\/span><\/p> Learn more about NASA SPoRT program<\/span><\/p><\/div><\/div><\/div>",
"extent": {
"xmin": -168.001,
"ymin": 54.77999999999999,
"xmax": -129.99099999999999,
"ymax": 71.1,
"spatialReference": {
"wkid": 4326,
"latestWkid": 4326
}
},
"initialExtent": {
"xmin": -168.001,
"ymin": 54.77999999999999,
"xmax": -129.99099999999999,
"ymax": 71.1,
"spatialReference": {
"wkid": 4326,
"latestWkid": 4326
}
},
"fullExtent": {
"xmin": -168.001,
"ymin": 54.77999999999999,
"xmax": -129.99099999999999,
"ymax": 71.1,
"spatialReference": {
"wkid": 4326,
"latestWkid": 4326
}
},
"hasMultidimensions": false,
"timeInfo": {
"startTimeField": "Date",
"endTimeField": null,
"timeExtent": [
1759536000000,
1760054400000
],
"timeReference": null,
"defaultTimeInterval": 1,
"defaultTimeIntervalUnits": "esriTimeUnitsDays"
},
"pixelSizeX": 0.030000000000000016,
"pixelSizeY": 0.030000000000000013,
"datasetFormat": "AMD",
"uncompressedSize": 5513984,
"blockWidth": 2048,
"blockHeight": 256,
"compressionType": "None",
"bandNames": [
"Band_1"
],
"allowCopy": true,
"allowAnalysis": true,
"bandCount": 1,
"noDataValue": 9999,
"noDataValues": [
9999
],
"pixelType": "F64",
"minPixelSize": 0,
"maxPixelSize": 0,
"copyrightText": "NASA, MSFC SPoRT Center",
"serviceDataType": "esriImageServiceDataTypeGeneric",
"serviceSourceType": "esriImageServiceSourceTypeMosaicDataset",
"minValues": [
0.16962890326976776
],
"maxValues": [
9979.470703125
],
"meanValues": [
907.1499033749268
],
"stdvValues": [
1881.250381649365
],
"objectIdField": "OBJECTID",
"fields": [
{
"name": "OBJECTID",
"type": "esriFieldTypeOID",
"alias": "OBJECTID",
"domain": null
},
{
"name": "Shape",
"type": "esriFieldTypeGeometry",
"alias": "Shape",
"domain": null
},
{
"name": "Name",
"type": "esriFieldTypeString",
"alias": "Name",
"domain": null,
"length": 200
},
{
"name": "MinPS",
"type": "esriFieldTypeDouble",
"alias": "MinPS",
"domain": null
},
{
"name": "MaxPS",
"type": "esriFieldTypeDouble",
"alias": "MaxPS",
"domain": null
},
{
"name": "LowPS",
"type": "esriFieldTypeDouble",
"alias": "LowPS",
"domain": null
},
{
"name": "HighPS",
"type": "esriFieldTypeDouble",
"alias": "HighPS",
"domain": null
},
{
"name": "Category",
"type": "esriFieldTypeInteger",
"alias": "Category",
"domain": {
"type": "codedValue",
"name": "MosaicCatalogItemCategoryDomain",
"description": "Catalog item categories.",
"codedValues": [
{
"name": "Unknown",
"code": 0
},
{
"name": "Primary",
"code": 1
},
{
"name": "Overview",
"code": 2
},
{
"name": "Unprocessed Overview",
"code": 3
},
{
"name": "Partial Overview",
"code": 4
},
{
"name": "Inactive",
"code": 5
},
{
"name": "Uploaded",
"code": 253
},
{
"name": "Incomplete",
"code": 254
},
{
"name": "Custom",
"code": 255
}
],
"mergePolicy": "esriMPTDefaultValue",
"splitPolicy": "esriSPTDefaultValue"
}
},
{
"name": "ProductName",
"type": "esriFieldTypeString",
"alias": "ProductName",
"domain": null,
"length": 100
},
{
"name": "DateTXT",
"type": "esriFieldTypeString",
"alias": "DateTXT",
"domain": null,
"length": 50
},
{
"name": "Date",
"type": "esriFieldTypeDate",
"alias": "Date",
"domain": null,
"length": 8
}
],
"capabilities": "Catalog,Mensuration,Image,Metadata",
"defaultMosaicMethod": "Center",
"allowedMosaicMethods": "Center,NorthWest,LockRaster,ByAttribute,Nadir,Viewpoint,Seamline,None",
"sortField": "",
"sortValue": null,
"sortAscending": true,
"mosaicOperator": "First",
"maxDownloadSizeLimit": 2048,
"defaultCompressionQuality": 75,
"defaultResamplingMethod": "Nearest",
"maxImageHeight": 4100,
"maxImageWidth": 15000,
"maxRecordCount": 1000,
"maxDownloadImageCount": 20,
"maxMosaicImageCount": 20,
"allowRasterFunction": true,
"rasterFunctionInfos": [
{
"name": "lis_ak_green_veg_fraction_arcmap",
"description": "A raster function template.",
"help": ""
},
{
"name": "None",
"description": "",
"help": ""
}
],
"rasterTypeInfos": [
{
"name": "Raster Dataset",
"description": "Supports all ArcGIS Raster Datasets",
"help": ""
}
],
"mensurationCapabilities": "Basic",
"hasHistograms": true,
"hasColormap": false,
"hasRasterAttributeTable": false,
"minScale": 0,
"maxScale": 0,
"exportTilesAllowed": false,
"supportsStatistics": true,
"supportsAdvancedQueries": true,
"editFieldsInfo": null,
"ownershipBasedAccessControlForRasters": null,
"allowComputeTiePoints": false,
"useStandardizedQueries": true,
"advancedQueryCapabilities": {
"useStandardizedQueries": true,
"supportsStatistics": true,
"supportsOrderBy": true,
"supportsDistinct": true,
"supportsPagination": true
},
"spatialReference": {
"wkid": 4326,
"latestWkid": 4326
}
}