{ "currentVersion": 10.91, "serviceDescription": "

Background<\/span>:<\/span><\/p>
Land Information System (LIS) Relative Soil Moisture (RSM) from NASA\u2019s SPoRT Center.<\/span><\/p>
<\/span><\/p>
The NASA Short-term Prediction Research and Transition (SPoRT) Center runs the Alaska LIS (LIS-AK), a near-real-time version of the Noah land surface model at 0.03 degree resolution utilizing the NASA Land Information System (LIS) software.  The model input is the Global Data Assimilation (GDAS) forcing dataset, which is a near-real-time analysis of various observational data (ground, radar, satellite) consisting of surface meteorology (temperature, humidity, pressure, winds, precipitation) and downwelling long- and short-wave radiation.  Within LIS, the Noah model is forced by this input data and produces analyses of soil temperature and moisture in 4 layers plus the snow state and fluxes of energy and water at the surface.<\/span><\/p>
<\/span><\/p>
RSM provides a measure of the soil saturation without having to consider the variation in soil type.  RSM is analogous to relative humidity for air saturation.  Thus, RSM provides an easy measure of the level of saturation as opposed to a volumetric value where the differing amounts of space between soil particles causes inconsistent volumetric maxima per soil type.  The water in the soil can be in liquid or frozen form.<\/span><\/a><\/p>
The near-surface layer responds quickly to heavy rainfall and indicates near-saturated conditions conducive to significant runoff and river flooding, while the deeper column layers represent longer-term water storage via infiltration from upper layers.  These values can also be used as fire risk indicators since vegetation water is dependent on soil moisture, and the near-surface layer can be a proxy for moisture in surface fuels (duff or litter).<\/span><\/p>
The Image Service is published using a Raster Mosaic populated with GeoTiffs collected from a SPoRT FTP site daily.<\/span><\/a><\/p>
<\/span><\/a><\/p>
Data Visualization:<\/span><\/p>
Relative Soil Moisture (RSM) is shown using a Classified Color Ramp (Multi-Color, 20-<\/a><\/span>classes). Values represent soil moisture scaled from 0% (wilting point, generally the lowest possible value) to 100% (full saturation) at each grid point.<\/span><\/p>
Limitations:<\/span><\/b><\/a><\/p>
Inaccuracies in the forcing data will result in inaccuracies in model data.  Large portions of the state are data-sparse so the GDAS forcing data, and hence the LIS output, may be subject to larger errors than usual. <\/span><\/p>
Update Frequency:<\/span><\/p>
Daily<\/span><\/p>
Suggested Usage:<\/span><\/p>
Drought assessment, fire risk assessment, potential for flood hazards in periods of snow melt or heavy precipitation.  In steep terrain, near-saturated soil moisture can be associated with debris flows.<\/span><\/p>
Further Reference:<\/span><\/p>
NASA SPoRT Land Information System for Alaska - Starter Guide<\/a>
<\/p>
Learn more about NASA SPoRT program<\/a>
<\/p><\/div>", "name": "NRT/lis_ak_rsm_10cm", "description": "

Background<\/span>:<\/span><\/p>
Land Information System (LIS) Relative Soil Moisture (RSM) from NASA\u2019s SPoRT Center.<\/span><\/p>
<\/span><\/p>
The NASA Short-term Prediction Research and Transition (SPoRT) Center runs the Alaska LIS (LIS-AK), a near-real-time version of the Noah land surface model at 0.03 degree resolution utilizing the NASA Land Information System (LIS) software.  The model input is the Global Data Assimilation (GDAS) forcing dataset, which is a near-real-time analysis of various observational data (ground, radar, satellite) consisting of surface meteorology (temperature, humidity, pressure, winds, precipitation) and downwelling long- and short-wave radiation.  Within LIS, the Noah model is forced by this input data and produces analyses of soil temperature and moisture in 4 layers plus the snow state and fluxes of energy and water at the surface.<\/span><\/p>
<\/span><\/p>
RSM provides a measure of the soil saturation without having to consider the variation in soil type.  RSM is analogous to relative humidity for air saturation.  Thus, RSM provides an easy measure of the level of saturation as opposed to a volumetric value where the differing amounts of space between soil particles causes inconsistent volumetric maxima per soil type.  The water in the soil can be in liquid or frozen form.<\/span><\/a><\/p>
The near-surface layer responds quickly to heavy rainfall and indicates near-saturated conditions conducive to significant runoff and river flooding, while the deeper column layers represent longer-term water storage via infiltration from upper layers.  These values can also be used as fire risk indicators since vegetation water is dependent on soil moisture, and the near-surface layer can be a proxy for moisture in surface fuels (duff or litter).<\/span><\/p>
The Image Service is published using a Raster Mosaic populated with GeoTiffs collected from a SPoRT FTP site daily.<\/span><\/a><\/p>
<\/span><\/a><\/p>
Data Visualization:<\/span><\/p>
Relative Soil Moisture (RSM) is shown using a Classified Color Ramp (Multi-Color, 20-<\/a><\/span>classes). Values represent soil moisture scaled from 0% (wilting point, generally the lowest possible value) to 100% (full saturation) at each grid point.<\/span><\/p>
Limitations:<\/span><\/b><\/a><\/p>
Inaccuracies in the forcing data will result in inaccuracies in model data.  Large portions of the state are data-sparse so the GDAS forcing data, and hence the LIS output, may be subject to larger errors than usual. <\/span><\/p>
Update Frequency:<\/span><\/p>
Daily<\/span><\/p>
Suggested Usage:<\/span><\/p>
Drought assessment, fire risk assessment, potential for flood hazards in periods of snow melt or heavy precipitation.  In steep terrain, near-saturated soil moisture can be associated with debris flows.<\/span><\/p>
Further Reference:<\/span><\/p>
NASA SPoRT Land Information System for Alaska - Starter Guide<\/a>
<\/p>
Learn more about NASA SPoRT program<\/a>
<\/p><\/div>", "extent": { "xmin": -168.001, "ymin": 54.77999999999999, "xmax": -129.99099999999999, "ymax": 71.1, "spatialReference": { "wkid": 4326, "latestWkid": 4326 } }, "initialExtent": { "xmin": -168.001, "ymin": 54.77999999999999, "xmax": -129.99099999999999, "ymax": 71.1, "spatialReference": { "wkid": 4326, "latestWkid": 4326 } }, "fullExtent": { "xmin": -168.001, "ymin": 54.77999999999999, "xmax": -129.99099999999999, "ymax": 71.1, "spatialReference": { "wkid": 4326, "latestWkid": 4326 } }, "hasMultidimensions": false, "timeInfo": { "startTimeField": "Date", "endTimeField": null, "timeExtent": [ 1759536000000, 1760054400000 ], "timeReference": null, "defaultTimeInterval": 1, "defaultTimeIntervalUnits": "esriTimeUnitsDays" }, "pixelSizeX": 0.030000000000000016, "pixelSizeY": 0.030000000000000013, "datasetFormat": "AMD", "uncompressedSize": 5513984, "blockWidth": 2048, "blockHeight": 256, "compressionType": "None", "bandNames": [ "Band_1" ], "allowCopy": true, "allowAnalysis": true, "bandCount": 1, "noDataValue": 9999, "noDataValues": [ 9999 ], "pixelType": "F64", "minPixelSize": 0, "maxPixelSize": 0, "copyrightText": "NASA, MSFC SPoRT Center", "serviceDataType": "esriImageServiceDataTypeGeneric", "serviceSourceType": "esriImageServiceSourceTypeMosaicDataset", "minValues": [ 17.114204708486795 ], "maxValues": [ 9979.470703125 ], "meanValues": [ 913.7229866410285 ], "stdvValues": [ 1878.2407174806492 ], "objectIdField": "OBJECTID", "fields": [ { "name": "OBJECTID", "type": "esriFieldTypeOID", "alias": "OBJECTID", "domain": null }, { "name": "Shape", "type": "esriFieldTypeGeometry", "alias": "Shape", "domain": null }, { "name": "Name", "type": "esriFieldTypeString", "alias": "Name", "domain": null, "length": 200 }, { "name": "MinPS", "type": "esriFieldTypeDouble", "alias": "MinPS", "domain": null }, { "name": "MaxPS", "type": "esriFieldTypeDouble", "alias": "MaxPS", "domain": null }, { "name": "LowPS", "type": "esriFieldTypeDouble", "alias": "LowPS", "domain": null }, { "name": "HighPS", "type": "esriFieldTypeDouble", "alias": "HighPS", "domain": null }, { "name": "Category", "type": "esriFieldTypeInteger", "alias": "Category", "domain": { "type": "codedValue", "name": "MosaicCatalogItemCategoryDomain", "description": "Catalog item categories.", "codedValues": [ { "name": "Unknown", "code": 0 }, { "name": "Primary", "code": 1 }, { "name": "Overview", "code": 2 }, { "name": "Unprocessed Overview", "code": 3 }, { "name": "Partial Overview", "code": 4 }, { "name": "Inactive", "code": 5 }, { "name": "Uploaded", "code": 253 }, { "name": "Incomplete", "code": 254 }, { "name": "Custom", "code": 255 } ], "mergePolicy": "esriMPTDefaultValue", "splitPolicy": "esriSPTDefaultValue" } }, { "name": "Tag", "type": "esriFieldTypeString", "alias": "Tag", "domain": null, "length": 100 }, { "name": "GroupName", "type": "esriFieldTypeString", "alias": "GroupName", "domain": null, "length": 100 }, { "name": "ProductName", "type": "esriFieldTypeString", "alias": "ProductName", "domain": null, "length": 100 }, { "name": "CenterX", "type": "esriFieldTypeDouble", "alias": "CenterX", "domain": null }, { "name": "CenterY", "type": "esriFieldTypeDouble", "alias": "CenterY", "domain": null }, { "name": "ZOrder", "type": "esriFieldTypeInteger", "alias": "ZOrder", "domain": null }, { "name": "DateTXT", "type": "esriFieldTypeString", "alias": "DateTXT", "domain": null, "length": 50 }, { "name": "Date", "type": "esriFieldTypeDate", "alias": "Date", "domain": null, "length": 8 }, { "name": "Shape_Length", "type": "esriFieldTypeDouble", "alias": "Shape_Length", "domain": null }, { "name": "Shape_Area", "type": "esriFieldTypeDouble", "alias": "Shape_Area", "domain": null } ], "capabilities": "Catalog,Mensuration,Image,Metadata", "defaultMosaicMethod": "Center", "allowedMosaicMethods": "Center,NorthWest,LockRaster,ByAttribute,Nadir,Viewpoint,Seamline,None", "sortField": "", "sortValue": null, "sortAscending": true, "mosaicOperator": "First", "maxDownloadSizeLimit": 2048, "defaultCompressionQuality": 75, "defaultResamplingMethod": "Nearest", "maxImageHeight": 4100, "maxImageWidth": 15000, "maxRecordCount": 1000, "maxDownloadImageCount": 20, "maxMosaicImageCount": 20, "allowRasterFunction": true, "rasterFunctionInfos": [ { "name": "lis_rsm", "description": "A raster function template.", "help": "" }, { "name": "None", "description": "Make a Raster or Raster Dataset into a Function Raster Dataset.", "help": "" } ], "rasterTypeInfos": [ { "name": "Raster Dataset", "description": "Supports all ArcGIS Raster Datasets", "help": "" } ], "mensurationCapabilities": "Basic", "hasHistograms": true, "hasColormap": false, "hasRasterAttributeTable": false, "minScale": 0, "maxScale": 0, "exportTilesAllowed": false, "supportsStatistics": true, "supportsAdvancedQueries": true, "editFieldsInfo": null, "ownershipBasedAccessControlForRasters": null, "allowComputeTiePoints": false, "useStandardizedQueries": true, "advancedQueryCapabilities": { "useStandardizedQueries": true, "supportsStatistics": true, "supportsOrderBy": true, "supportsDistinct": true, "supportsPagination": true }, "spatialReference": { "wkid": 4326, "latestWkid": 4326 } }