{ "currentVersion": 10.91, "serviceDescription": "

Background<\/span>:<\/span><\/p>
Land Information System (LIS) Snow Depth from NASA\u2019s SPoRT Center.<\/span><\/p>
The NASA Short-term Prediction Research and Transition (SPoRT) Center runs the Alaska LIS (LIS-AK), a near-real-time version of the Noah land surface model at 0.03 degree resolution utilizing the NASA Land Information System (LIS) software.  The model input is the Global Data Assimilation (GDAS) forcing dataset, which is a near-real-time analysis of various observational data (ground, radar, satellite) consisting of surface meteorology (temperature, humidity, pressure, winds, precipitation) and downwelling long- and short-wave radiation. <\/span><\/p>
Within LIS, the Noah Land Surface Model (LSM) is forced by this input data and produces analyses of soil temperature and moisture in 4 layers plus the snow state and fluxes of energy and water at the surface.  The Noah LSM accounts for snow accumulation based on the current LIS snow values in the continuous run and the forcing data from the atmospheric model.  Forcing variables influencing the snow depth in LIS include precipitation, air temperature, solar radiation.  Relevant modeled processes include compaction of snow, sublimation, and melting.<\/span><\/p>
<\/span><\/p>
The Image Service is published using a Raster <\/span>Mosaic<\/span> populated with GeoTiffs collected from the Short-term Prediction and Research Transition (SPoRT) FTP sire daily<\/span><\/font><\/p>
Data Visualization:<\/span><\/p>
Snow Depth is shown using a Classified Color Ramp<\/a><\/span> <\/span><\/span><\/font>(Multi-Color, 16 classes). Snow depth units are inches.<\/font><\/span><\/span><\/p>
<\/div><\/div>
Limitations:<\/span><\/b><\/a><\/p>
<\/div><\/div><\/div><\/div><\/div>
Inaccuracies in the forcing data will result in inaccuracies in model data.  Large portions of the state are data-sparse so the GDAS forcing data, and hence the LIS output, may be subject to larger errors than usual.  Snow depth in coastal areas is subject to higher error and is often underestimated.  In some high-altitude, permanently glaciated areas, the model may accumulate too much snow.  The Noah (LSM) used within LIS does not represent snow removal or transport from wind scouring.  <\/span><\/p>
Update Frequency:<\/span><\/p>
Daily<\/span><\/p>
Suggested Usage:<\/span><\/p>
Estimating snow depth.  Determining snow-free regions.  Informing forecasts of future soil moisture, ground water, and streamflow.<\/span><\/p>
Further Reference:<\/span><\/p>
NASA SPoRT Land Information System for Alaska - Starter Guide<\/a>
<\/p>
Learn more about NASA SPoRT program<\/a>
<\/p><\/div>", "name": "NRT/lis_ak_snow_depth", "description": "

Background<\/span>:<\/span><\/p>
Land Information System (LIS) Snow Depth from NASA\u2019s SPoRT Center.<\/span><\/p>
The NASA Short-term Prediction Research and Transition (SPoRT) Center runs the Alaska LIS (LIS-AK), a near-real-time version of the Noah land surface model at 0.03 degree resolution utilizing the NASA Land Information System (LIS) software.  The model input is the Global Data Assimilation (GDAS) forcing dataset, which is a near-real-time analysis of various observational data (ground, radar, satellite) consisting of surface meteorology (temperature, humidity, pressure, winds, precipitation) and downwelling long- and short-wave radiation. <\/span><\/p>
Within LIS, the Noah Land Surface Model (LSM) is forced by this input data and produces analyses of soil temperature and moisture in 4 layers plus the snow state and fluxes of energy and water at the surface.  The Noah LSM accounts for snow accumulation based on the current LIS snow values in the continuous run and the forcing data from the atmospheric model.  Forcing variables influencing the snow depth in LIS include precipitation, air temperature, solar radiation.  Relevant modeled processes include compaction of snow, sublimation, and melting.<\/span><\/p>
<\/span><\/p>
The Image Service is published using a Raster <\/span>Mosaic<\/span> populated with GeoTiffs collected from the Short-term Prediction and Research Transition (SPoRT) FTP sire daily<\/span><\/font><\/p>
Data Visualization:<\/span><\/p>
Snow Depth is shown using a Classified Color Ramp<\/a><\/span> <\/span><\/span><\/font>(Multi-Color, 16 classes). Snow depth units are inches.<\/font><\/span><\/span><\/p>
<\/div><\/div>
Limitations:<\/span><\/b><\/a><\/p>
<\/div><\/div><\/div><\/div><\/div>
Inaccuracies in the forcing data will result in inaccuracies in model data.  Large portions of the state are data-sparse so the GDAS forcing data, and hence the LIS output, may be subject to larger errors than usual.  Snow depth in coastal areas is subject to higher error and is often underestimated.  In some high-altitude, permanently glaciated areas, the model may accumulate too much snow.  The Noah (LSM) used within LIS does not represent snow removal or transport from wind scouring.  <\/span><\/p>
Update Frequency:<\/span><\/p>
Daily<\/span><\/p>
Suggested Usage:<\/span><\/p>
Estimating snow depth.  Determining snow-free regions.  Informing forecasts of future soil moisture, ground water, and streamflow.<\/span><\/p>
Further Reference:<\/span><\/p>
NASA SPoRT Land Information System for Alaska - Starter Guide<\/a>
<\/p>
Learn more about NASA SPoRT program<\/a>
<\/p><\/div>", "extent": { "xmin": -168.001, "ymin": 54.77999999999999, "xmax": -129.99099999999999, "ymax": 71.1, "spatialReference": { "wkid": 4326, "latestWkid": 4326 } }, "initialExtent": { "xmin": -168.001, "ymin": 54.77999999999999, "xmax": -129.99099999999999, "ymax": 71.1, "spatialReference": { "wkid": 4326, "latestWkid": 4326 } }, "fullExtent": { "xmin": -168.001, "ymin": 54.77999999999999, "xmax": -129.99099999999999, "ymax": 71.1, "spatialReference": { "wkid": 4326, "latestWkid": 4326 } }, "hasMultidimensions": false, "timeInfo": { "startTimeField": "Date", "endTimeField": null, "timeExtent": [ 1759536000000, 1760054400000 ], "timeReference": null, "defaultTimeInterval": 1, "defaultTimeIntervalUnits": "esriTimeUnitsDays" }, "pixelSizeX": 0.030000000000000016, "pixelSizeY": 0.030000000000000013, "datasetFormat": "AMD", "uncompressedSize": 5513984, "blockWidth": 2048, "blockHeight": 256, "compressionType": "None", "bandNames": [ "Band_1" ], "allowCopy": true, "allowAnalysis": true, "bandCount": 1, "noDataValue": 9999, "noDataValues": [ 9999 ], "pixelType": "F64", "minPixelSize": 0, "maxPixelSize": 0, "copyrightText": "NASA, MSFC SPoRT Center", "serviceDataType": "esriImageServiceDataTypeGeneric", "serviceSourceType": "esriImageServiceSourceTypeMosaicDataset", "minValues": [ 7.663001856803893 ], "maxValues": [ 9979.470703125 ], "meanValues": [ 909.0685098500662 ], "stdvValues": [ 1880.9947073761748 ], "objectIdField": "OBJECTID", "fields": [ { "name": "OBJECTID", "type": "esriFieldTypeOID", "alias": "OBJECTID", "domain": null }, { "name": "Shape", "type": "esriFieldTypeGeometry", "alias": "Shape", "domain": null }, { "name": "Name", "type": "esriFieldTypeString", "alias": "Name", "domain": null, "length": 200 }, { "name": "MinPS", "type": "esriFieldTypeDouble", "alias": "MinPS", "domain": null }, { "name": "MaxPS", "type": "esriFieldTypeDouble", "alias": "MaxPS", "domain": null }, { "name": "LowPS", "type": "esriFieldTypeDouble", "alias": "LowPS", "domain": null }, { "name": "HighPS", "type": "esriFieldTypeDouble", "alias": "HighPS", "domain": null }, { "name": "Category", "type": "esriFieldTypeInteger", "alias": "Category", "domain": { "type": "codedValue", "name": "MosaicCatalogItemCategoryDomain", "description": "Catalog item categories.", "codedValues": [ { "name": "Unknown", "code": 0 }, { "name": "Primary", "code": 1 }, { "name": "Overview", "code": 2 }, { "name": "Unprocessed Overview", "code": 3 }, { "name": "Partial Overview", "code": 4 }, { "name": "Inactive", "code": 5 }, { "name": "Uploaded", "code": 253 }, { "name": "Incomplete", "code": 254 }, { "name": "Custom", "code": 255 } ], "mergePolicy": "esriMPTDefaultValue", "splitPolicy": "esriSPTDefaultValue" } }, { "name": "ProductName", "type": "esriFieldTypeString", "alias": "ProductName", "domain": null, "length": 100 }, { "name": "DateTXT", "type": "esriFieldTypeString", "alias": "DateTXT", "domain": null, "length": 50 }, { "name": "Date", "type": "esriFieldTypeDate", "alias": "Date", "domain": null, "length": 8 } ], "capabilities": "Catalog,Mensuration,Image,Metadata", "defaultMosaicMethod": "Center", "allowedMosaicMethods": "Center,NorthWest,LockRaster,ByAttribute,Nadir,Viewpoint,Seamline,None", "sortField": "", "sortValue": null, "sortAscending": true, "mosaicOperator": "First", "maxDownloadSizeLimit": 2048, "defaultCompressionQuality": 75, "defaultResamplingMethod": "Nearest", "maxImageHeight": 4100, "maxImageWidth": 15000, "maxRecordCount": 1000, "maxDownloadImageCount": 20, "maxMosaicImageCount": 20, "allowRasterFunction": true, "rasterFunctionInfos": [ { "name": "lis_ak_snow_depth", "description": "A raster function template.", "help": "" }, { "name": "lis_ak_snow_depth", "description": "A raster function template.", "help": "" }, { "name": "None", "description": "A No-Op Function.", "help": "" } ], "rasterTypeInfos": [ { "name": "Raster Dataset", "description": "Supports all ArcGIS Raster Datasets", "help": "" } ], "mensurationCapabilities": "Basic", "hasHistograms": true, "hasColormap": false, "hasRasterAttributeTable": false, "minScale": 0, "maxScale": 0, "exportTilesAllowed": false, "supportsStatistics": true, "supportsAdvancedQueries": true, "editFieldsInfo": null, "ownershipBasedAccessControlForRasters": null, "allowComputeTiePoints": false, "useStandardizedQueries": true, "advancedQueryCapabilities": { "useStandardizedQueries": true, "supportsStatistics": true, "supportsOrderBy": true, "supportsDistinct": true, "supportsPagination": true }, "spatialReference": { "wkid": 4326, "latestWkid": 4326 } }