{ "currentVersion": 10.91, "serviceDescription": "

Update Frequency:<\/span><\/p>
Daily<\/span><\/p>
Summary<\/span>:<\/span><\/p>
Land Information System (LIS) 0-10 cm layer Soil Moisture Percentile generated by the NASA SPoRT Center over a Contiguous United States domain.<\/span><\/p>
The NASA Land Information System (LIS) is a high-performance land surface modeling and data assimilation system used to characterize land surface states and fluxes by integrating satellite-derived datasets, ground-based observations, and model re-analyses. The NASA SPoRT Center at MSFC developed a real-time configuration of the LIS (\u201cSPoRT-LIS\u201d), which is designed for use in experimental operations by domestic and international users. SPoRT-LIS is an observations-driven, historical and real-time modeling setup that runs the Noah land surface model over a full CONUS domain. It provides soil moisture estimates at approximately 3-km horizontal grid spacing over a 2-meter-deep soil column and has been validated for regional applications and against U.S. Drought Monitor products.<\/span><\/p>
SPoRT-LIS consists of a 33-year soil moisture climatology spanning from 1981 to 2013, which is extended to the present time and forced by atmospheric analyses from the operational North American Land Data Assimilation System-Phase 2 through 4 days prior to the current time, and by the National Centers for Environmental Prediction Global Data Assimilation System in combination with hourly Multi-Radar Multi-Sensor precipitation estimates from 4 days ago to the present time. A unique feature of SPoRT-LIS is the incorporation of daily, real-time satellite retrievals of VIIRS Green Vegetation Fraction since 2012, which results in more representative evapotranspiration and ultimately soil moisture estimates than using a fixed seasonal depiction of vegetation in the model. <\/span><\/p>
The 33-year soil moisture climatology also provides the database for real-time soil moisture percentiles evaluated for all U.S. counties and at each modeled grid point. The present-day soil moisture analyses are compared to daily historical distributions to determine the soil wet/dry anomalies for the specific day of the year. Soil moisture percentile maps are constructed for the model layers, and these data are frequently referenced by scientists and operational agencies contributing to the weekly U.S. Drought Monitor product.<\/span><\/p>
Suggested Use: <\/span><\/p>
This product can be used for drought assessment, fire risk assessment, potential for flooding hazards associated with heavy precipitation and high percentiles; contextualizing soil moisture content to historical values. <\/span><\/p>
Soil moisture percentiles are shown using a Classified Color Ramp (Multi-Color, 11-classes) that colorize the low percentile categories (≤ 30th) as shown in the U.S. Drought Monitor weekly products, ranging from yellow to dark red. The high percentile categories (≥ 70th) are colorized with increasing blue intensity. Intermediate percentiles in the 30th to 70th range are assigned a nominal gray shade.<\/span><\/p>
The top layer 0-10 cm adjust very rapidly to precipitation episodes or the lack thereof, so these shallow soil moisture percentile can change rapidly from day to day.<\/span><\/p>
Data Caveats:<\/span><\/p>
The SPoRT-LIS is as good as the input forcing analyses, so occasional soil moisture artifacts may appear in the horizontal maps related to quality-control issues of the input datasets. These can be manifested with unusually low or high percentiles, especially along international borders, coastlines, and isolated dry \u201cbulls-eyes\u201d at rain gauge with quality issues.<\/span><\/p>
Data Visualization:<\/span><\/p>
The Soil Moisture Percentile is the histogram rank of the current day\u2019s soil moisture value compared to the 33-year climatology for the present day. The percentile places into historical context the soil moisture to determine how unusually wet or dry, or typical the conditions are. Percentile thresholds as established by the drought community are used to categorize soil moisture dry anomalies as follows:<\/span><\/p>
Percentile threshold Category Category description<\/span><\/p>
≤ 2nd D4 Exceptional drought<\/span><\/p>
≤ 5th D3 Extreme drought<\/span><\/p>
≤ 10th D2 Severe drought<\/span><\/p>
≤ 20th D1 Moderate drought<\/span><\/p>
≤ 30th D0 Unusually dry<\/span><\/p>
30th < percentile < 70th \u2014 (Intermediate soil moisture values)<\/span><\/p>
≥ 70th W0 Unusually wet<\/span><\/p>
≥ 80th W1 Moderate wetness<\/span><\/p>
≥ 90th W2 Severe wetness<\/span><\/p>
≥ 95th W3 Extreme wetness<\/span><\/p>
≥ 98th W4 Exceptional wetness<\/span><\/p>
Further Reference:<\/span><\/p>
NASA SPoRT project page: <\/span>https://weather.ndc.nasa.gov/sport/ <\/span><\/a><\/p>
Real-time SPoRT-LIS viewer: <\/span>https://weather.ndc.nasa.gov/sport/viewer/?dataset=lis_conus<\/span><\/a><\/p>
Access to real-time rolling archive of digital data and in various formats: <\/span>https://geo.nsstc.nasa.gov/SPoRT/modeling/lis/conus3km/<\/span><\/a><\/p>
Daily animations of experimental 2-week forecasts of SPoRT-LIS soil moisture percentiles: <\/span>https://geo.nsstc.nasa.gov/SPoRT/modeling/lis/conus3km/forecasts/<\/span><\/a><\/p>
NASA Land Information System project page: <\/span>https://lis.gsfc.nasa.gov/<\/span><\/a><\/p>
U.S. Drought Monitor page: <\/span>https://droughtmonitor.unl.edu/<\/span><\/a><\/p>
<\/p><\/div><\/div><\/div>", "name": "NRT/lis_vsm_percentile_10cm", "description": "

Update Frequency:<\/span><\/p>
Daily<\/span><\/p>
Summary<\/span>:<\/span><\/p>
Land Information System (LIS) 0-10 cm layer Soil Moisture Percentile generated by the NASA SPoRT Center over a Contiguous United States domain.<\/span><\/p>
The NASA Land Information System (LIS) is a high-performance land surface modeling and data assimilation system used to characterize land surface states and fluxes by integrating satellite-derived datasets, ground-based observations, and model re-analyses. The NASA SPoRT Center at MSFC developed a real-time configuration of the LIS (\u201cSPoRT-LIS\u201d), which is designed for use in experimental operations by domestic and international users. SPoRT-LIS is an observations-driven, historical and real-time modeling setup that runs the Noah land surface model over a full CONUS domain. It provides soil moisture estimates at approximately 3-km horizontal grid spacing over a 2-meter-deep soil column and has been validated for regional applications and against U.S. Drought Monitor products.<\/span><\/p>
SPoRT-LIS consists of a 33-year soil moisture climatology spanning from 1981 to 2013, which is extended to the present time and forced by atmospheric analyses from the operational North American Land Data Assimilation System-Phase 2 through 4 days prior to the current time, and by the National Centers for Environmental Prediction Global Data Assimilation System in combination with hourly Multi-Radar Multi-Sensor precipitation estimates from 4 days ago to the present time. A unique feature of SPoRT-LIS is the incorporation of daily, real-time satellite retrievals of VIIRS Green Vegetation Fraction since 2012, which results in more representative evapotranspiration and ultimately soil moisture estimates than using a fixed seasonal depiction of vegetation in the model. <\/span><\/p>
The 33-year soil moisture climatology also provides the database for real-time soil moisture percentiles evaluated for all U.S. counties and at each modeled grid point. The present-day soil moisture analyses are compared to daily historical distributions to determine the soil wet/dry anomalies for the specific day of the year. Soil moisture percentile maps are constructed for the model layers, and these data are frequently referenced by scientists and operational agencies contributing to the weekly U.S. Drought Monitor product.<\/span><\/p>
Suggested Use: <\/span><\/p>
This product can be used for drought assessment, fire risk assessment, potential for flooding hazards associated with heavy precipitation and high percentiles; contextualizing soil moisture content to historical values. <\/span><\/p>
Soil moisture percentiles are shown using a Classified Color Ramp (Multi-Color, 11-classes) that colorize the low percentile categories (≤ 30th) as shown in the U.S. Drought Monitor weekly products, ranging from yellow to dark red. The high percentile categories (≥ 70th) are colorized with increasing blue intensity. Intermediate percentiles in the 30th to 70th range are assigned a nominal gray shade.<\/span><\/p>
The top layer 0-10 cm adjust very rapidly to precipitation episodes or the lack thereof, so these shallow soil moisture percentile can change rapidly from day to day.<\/span><\/p>
Data Caveats:<\/span><\/p>
The SPoRT-LIS is as good as the input forcing analyses, so occasional soil moisture artifacts may appear in the horizontal maps related to quality-control issues of the input datasets. These can be manifested with unusually low or high percentiles, especially along international borders, coastlines, and isolated dry \u201cbulls-eyes\u201d at rain gauge with quality issues.<\/span><\/p>
Data Visualization:<\/span><\/p>
The Soil Moisture Percentile is the histogram rank of the current day\u2019s soil moisture value compared to the 33-year climatology for the present day. The percentile places into historical context the soil moisture to determine how unusually wet or dry, or typical the conditions are. Percentile thresholds as established by the drought community are used to categorize soil moisture dry anomalies as follows:<\/span><\/p>
Percentile threshold Category Category description<\/span><\/p>
≤ 2nd D4 Exceptional drought<\/span><\/p>
≤ 5th D3 Extreme drought<\/span><\/p>
≤ 10th D2 Severe drought<\/span><\/p>
≤ 20th D1 Moderate drought<\/span><\/p>
≤ 30th D0 Unusually dry<\/span><\/p>
30th < percentile < 70th \u2014 (Intermediate soil moisture values)<\/span><\/p>
≥ 70th W0 Unusually wet<\/span><\/p>
≥ 80th W1 Moderate wetness<\/span><\/p>
≥ 90th W2 Severe wetness<\/span><\/p>
≥ 95th W3 Extreme wetness<\/span><\/p>
≥ 98th W4 Exceptional wetness<\/span><\/p>
Further Reference:<\/span><\/p>
NASA SPoRT project page: <\/span>https://weather.ndc.nasa.gov/sport/ <\/span><\/a><\/p>
Real-time SPoRT-LIS viewer: <\/span>https://weather.ndc.nasa.gov/sport/viewer/?dataset=lis_conus<\/span><\/a><\/p>
Access to real-time rolling archive of digital data and in various formats: <\/span>https://geo.nsstc.nasa.gov/SPoRT/modeling/lis/conus3km/<\/span><\/a><\/p>
Daily animations of experimental 2-week forecasts of SPoRT-LIS soil moisture percentiles: <\/span>https://geo.nsstc.nasa.gov/SPoRT/modeling/lis/conus3km/forecasts/<\/span><\/a><\/p>
NASA Land Information System project page: <\/span>https://lis.gsfc.nasa.gov/<\/span><\/a><\/p>
U.S. Drought Monitor page: <\/span>https://droughtmonitor.unl.edu/<\/span><\/a><\/p>
<\/p><\/div><\/div><\/div>", "extent": { "xmin": -124.94000000000003, "ymin": 25.060000000000006, "xmax": -67.07000000000005, "ymax": 52.92999999999999, "spatialReference": { "wkid": 4326, "latestWkid": 4326 } }, "initialExtent": { "xmin": -124.94000000000003, "ymin": 25.060000000000006, "xmax": -67.07000000000005, "ymax": 52.92999999999999, "spatialReference": { "wkid": 4326, "latestWkid": 4326 } }, "fullExtent": { "xmin": -124.94000000000003, "ymin": 25.060000000000006, "xmax": -67.07000000000005, "ymax": 52.92999999999999, "spatialReference": { "wkid": 4326, "latestWkid": 4326 } }, "hasMultidimensions": false, "timeInfo": { "startTimeField": "Date", "endTimeField": null, "timeExtent": [ 1757548800000, 1760054400000 ], "timeReference": null, "defaultTimeInterval": 1, "defaultTimeIntervalUnits": "esriTimeUnitsDays" }, "pixelSizeX": 0.02999999999999999, "pixelSizeY": 0.029999999999999985, "datasetFormat": "AMD", "uncompressedSize": 14336328, "blockWidth": 2048, "blockHeight": 256, "compressionType": "None", "bandNames": [ "Band_1" ], "allowCopy": true, "allowAnalysis": true, "bandCount": 1, "noDataValue": 9999, "noDataValues": [ 9999 ], "pixelType": "F64", "minPixelSize": 0, "maxPixelSize": 0, "copyrightText": "NASA, MSFC SPoRT Center, NASA Land Information System", "serviceDataType": "esriImageServiceDataTypeGeneric", "serviceSourceType": "esriImageServiceSourceTypeMosaicDataset", "minValues": [ -27.098456844687462 ], "maxValues": [ 9979.47154863365 ], "meanValues": [ 1129.1861972555953 ], "stdvValues": [ 2123.0870502019575 ], "objectIdField": "OBJECTID", "fields": [ { "name": "OBJECTID", "type": "esriFieldTypeOID", "alias": "OBJECTID", "domain": null }, { "name": "Shape", "type": "esriFieldTypeGeometry", "alias": "Shape", "domain": null }, { "name": "Name", "type": "esriFieldTypeString", "alias": "Name", "domain": null, "length": 200 }, { "name": "Category", "type": "esriFieldTypeInteger", "alias": "Category", "domain": { "type": "codedValue", "name": "MosaicCatalogItemCategoryDomain", "description": "Catalog item categories.", "codedValues": [ { "name": "Unknown", "code": 0 }, { "name": "Primary", "code": 1 }, { "name": "Overview", "code": 2 }, { "name": "Unprocessed Overview", "code": 3 }, { "name": "Partial Overview", "code": 4 }, { "name": "Inactive", "code": 5 }, { "name": "Uploaded", "code": 253 }, { "name": "Incomplete", "code": 254 }, { "name": "Custom", "code": 255 } ], "mergePolicy": "esriMPTDefaultValue", "splitPolicy": "esriSPTDefaultValue" } }, { "name": "ProductName", "type": "esriFieldTypeString", "alias": "ProductName", "domain": null, "length": 100 }, { "name": "Date", "type": "esriFieldTypeDate", "alias": "Date", "domain": null, "length": 8 } ], "capabilities": "Catalog,Mensuration,Image,Metadata", "defaultMosaicMethod": "ByAttribute", "allowedMosaicMethods": "ByAttribute", "sortField": "Date", "sortValue": "0", "sortAscending": false, "mosaicOperator": "Last", "maxDownloadSizeLimit": 2048, "defaultCompressionQuality": 75, "defaultResamplingMethod": "Nearest", "maxImageHeight": 4100, "maxImageWidth": 15000, "maxRecordCount": 1000, "maxDownloadImageCount": 20, "maxMosaicImageCount": 20, "allowRasterFunction": true, "rasterFunctionInfos": [ { "name": "lis_percentile_red-blue", "description": "A raster function template.", "help": "" }, { "name": "None", "description": "", "help": "" } ], "rasterTypeInfos": [ { "name": "Raster Dataset", "description": "Supports all ArcGIS Raster Datasets", "help": "" } ], "mensurationCapabilities": "Basic", "hasHistograms": true, "hasColormap": false, "hasRasterAttributeTable": false, "minScale": 0, "maxScale": 0, "exportTilesAllowed": false, "supportsStatistics": true, "supportsAdvancedQueries": true, "editFieldsInfo": null, "ownershipBasedAccessControlForRasters": null, "allowComputeTiePoints": false, "useStandardizedQueries": true, "advancedQueryCapabilities": { "useStandardizedQueries": true, "supportsStatistics": true, "supportsOrderBy": true, "supportsDistinct": true, "supportsPagination": true }, "spatialReference": { "wkid": 4326, "latestWkid": 4326 } }