{ "currentVersion": 10.91, "serviceDescription": "
Dates Available:<\/span>
<\/div>
Last 30 days
<\/div>
<\/div>
Update Frequency:<\/span><\/div>
Daily<\/div>
<\/span><\/div>Bandwidth Use:<\/span>
High - zoom in to reduce loading time
<\/div>
<\/div>
Suggested Usage:<\/span><\/div>
Flood detection and showing areas of surface water inundation.<\/div><\/div>
<\/span><\/div>
Summary:<\/span><\/div><\/span>MODIS\n Flood 1 Day Observations is a collection of GeoTiffs representing 1D1OS\n WMP : 1 Day imagery, 1 Observations required, Terrain & Cloud \nShadow Masking.<\/span>
NASA Goddard's Hydrology Laboratory is \nworking to operationalize near real-time global flood mapping using \navailable satellite data resources -- currently the twice daily overpass\n of the MODIS instrument, on the Terra and Aqua satellites. We are \nworking to include additional data sources, such as Landsat and radar, \nto improve coverage and accuracy.<\/span><\/p>
This work builds on\n the long-time expertise and efforts of the Dartmouth Flood Observatory \n(DFO) to map floodwater extent in detail for active floods. The DFO \nwebsite provides additional detail, additional products, and archives of\n historical flood maps. This NASA website provides links and information\n about the automated daily flood and surface water products produced at \nNASA Goddard.<\/span><\/p>
Note:<\/span><\/p>
The\n MODIS Flood 3 Day Image Service is the representing the MODIS Water \nProduct (combines both MFW and MSW, raster only). There is no indication\n provided of where there is insufficient clear data in the given product\n to determine water extent. Thus, these products only indicate where \nwater has been detected, but the absence of a water polygon cannot be \ninterpreted to mean there was no water present in a given area; it may \nsimply have been sufficiently cloudy over the composite period for the \nrequired number of water observations to be met (the Y in composite \nindicator XDYO). The MWP product (below) attempts to address this \ndeficiency, and may eventually replace MFW and MSW. These vector \nproducts can also be extremely resource intensive to generate from the \nsource raster; a partly cloudy scene over water, or a tile over \nmountains with terrain shadow issues, can have tens of thousands of \npolygons, if we were to convert to shapefile or KMZ. Thus, we typically \nskip vector product generation if the number of polygons is greater than\n 20000. Currently delivered only in geotiff raster format.<\/span><\/p>
We\n detect water using an algorithm developed by Bob Brakenridge of the \nDartmouth Flood Observatory. This algorithm uses a ratio of MODIS Band 1\n and Band 2, and a threshold on Band 7 to provisionally identify pixels \nas water. We then composite the water detections over the product window\n (2 days, typically). If a pixel is identified as water over several (2 \nor more) observations during the product window, it is then definitively\n marked as water, and output in the MSW, or "MODIS Surface Water" \nproduct. 2 (or more) observations are required because cloud shadow can \nappear quite spectrally similar to water.<\/span><\/p>
In cases \nwhere cloud shadow occurs in the same spot in 2 observations, the \nproduct may incorrectly flag such areas as water. A 3 observation \nrequirement helps further, but also increases latency of the product. At\n the moment, we are using the 2 observation requirement as a balance \nbetween accuracy and timeliness. Finally, the detected water is compared\n to a reference water layer that shows "normal" water extent, and any \npixels found outside the normal water extent are marked as flood, and \noutput in the MFW ("MODIS Flood Water") products.<\/span><\/p>
The\n Image Service is published using a Raster Mosaic populated with \u201cMWP\u201d \nGeoTiffs collected from the NRT Global Flood Mapping Data Viewer site.<\/span><\/p>
Data Visualization:<\/span><\/p>
MODIS Flood layer is represented using Unique Values Ranging from 0-3.<\/span><\/p>
0 : Insufficient data to make water determination (cloudy, missing images, swath gaps, or bad data values).<\/span><\/p>
1 : No water detected.<\/span><\/p>
2 : Water detected AND coinciding with reference water (e.g., not flood).<\/span><\/p>
3 : Water detected, beyond reference water, so may be flood.<\/span><\/p>
Further Reference:<\/span><\/p>
Learn more about MODIS Flood Products<\/span><\/p>
Purpose/Summary:<\/span><\/p>
Flood Detection Map, MODIS Flood 1 Day (1D1OS), Updated Daily<\/span><\/p><\/div><\/div><\/div>", "name": "NRT/modis_flood_1_day", "description": "

Dates Available:<\/span>
<\/div>
Last 30 days
<\/div>
<\/div>
Update Frequency:<\/span><\/div>
Daily<\/div>
<\/span><\/div>Bandwidth Use:<\/span>
High - zoom in to reduce loading time
<\/div>
<\/div>
Suggested Usage:<\/span><\/div>
Flood detection and showing areas of surface water inundation.<\/div><\/div>
<\/span>
Product Information:<\/span><\/div>
The MODIS NRT Global Flood product (MCDWD) reports flood and surface water detected by NASA's MODIS optical instrument. This instrument is carried on two NASA satellites, Terra and Aqua, and thus provides twice-daily near-global observations. It is an optical instrument so cannot see through clouds.<\/span><\/p>
The product is delivered as 1, 2, and 3-day composites. These alternatives are provided to minimize the influence of clouds on the product: clouds will block the satellite view of the surface (potentially causing false-negatives where the product does not detect water), and cloud shadows can be erroneously detected as water (potentially causing false-positives where the product predicts water or flood occurrence when there is none).<\/span><\/p>
The 1-day product only uses observations from the product date, and will report water if it is detected by any single observation (in general over one day, there will be two observations, one from each satellite).<\/span><\/p>
The 2- and 3-day products combine observations over the current plus previous day (2-day), or current plus two previous days (3-day), and require multiple water detections before a pixel is marked as water in the output. This can dramatically reduce false-positives from cloud-shadows, and may permit flooding to be observed when clouds move out of the way. But they may also not be as up-to-date as the 1-day product.<\/span><\/p>
Link to 2-day product: <\/span>https://maps.disasters.nasa.gov/arcgis/home/item.html?id=f7178cdbcc434ff09538999ab5ce8d83<\/a><\/p>
Link to 3-day product: https://maps.disasters.nasa.gov/arcgis/home/item.html?id=b33741d95e924507b75b334f16ec23f1<\/a>
<\/span><\/p>
Please refer to the User Guide for additional details and notes on usage. It is available on the project website:<\/span><\/p>
https://www.earthdata.nasa.gov/global-flood-product<\/span><\/a><\/span><\/u><\/p>
Resolution:
<\/b>~250 meters<\/div>
<\/div>
Credits:<\/b><\/div>
National Aeronautics and Space Administration (NASA), Goddard Space Flight Center's (GSFC), LANCE (https://www.earthdata.nasa.gov/data/projects/lance<\/font>)<\/font><\/div><\/div>", "extent": { "xmin": -180, "ymin": -60, "xmax": 180, "ymax": 70, "spatialReference": { "wkid": 4326, "latestWkid": 4326 } }, "initialExtent": { "xmin": -180, "ymin": -60, "xmax": 180, "ymax": 70, "spatialReference": { "wkid": 4326, "latestWkid": 4326 } }, "fullExtent": { "xmin": -180, "ymin": -60, "xmax": 180, "ymax": 70, "spatialReference": { "wkid": 4326, "latestWkid": 4326 } }, "hasMultidimensions": false, "timeInfo": { "startTimeField": "date", "endTimeField": "date", "timeExtent": [ 1758412800000, 1760918400000 ], "timeReference": null, "defaultTimeInterval": 1, "defaultTimeIntervalUnits": "esriTimeUnitsDays" }, "pixelSizeX": 0.0020833333333333333, "pixelSizeY": 0.0020833333333333333, "datasetFormat": "AMD", "uncompressedSize": 10782720000, "blockWidth": 2048, "blockHeight": 256, "compressionType": "None", "bandNames": [ "Band_1" ], "allowCopy": true, "allowAnalysis": true, "bandCount": 1, "pixelType": "U8", "minPixelSize": 0, "maxPixelSize": 0, "copyrightText": "National Aeronautics and Space Administration (NASA), Goddard Space Flight Center's (GSFC), LANCE (https://www.earthdata.nasa.gov/data/projects/lance)", "serviceDataType": "esriImageServiceDataTypeGeneric", "serviceSourceType": "esriImageServiceSourceTypeMosaicDataset", "minValues": [ 0 ], "maxValues": [ 3 ], "meanValues": [ 0.4461794710259682 ], "stdvValues": [ 0.5480811757925587 ], "objectIdField": "OBJECTID", "fields": [ { "name": "OBJECTID", "type": "esriFieldTypeOID", "alias": "OBJECTID", "domain": null }, { "name": "Shape", "type": "esriFieldTypeGeometry", "alias": "Shape", "domain": null }, { "name": "Name", "type": "esriFieldTypeString", "alias": "Name", "domain": null, "length": 200 }, { "name": "MinPS", "type": "esriFieldTypeDouble", "alias": "MinPS", "domain": null }, { "name": "MaxPS", "type": "esriFieldTypeDouble", "alias": "MaxPS", "domain": null }, { "name": "LowPS", "type": "esriFieldTypeDouble", "alias": "LowPS", "domain": null }, { "name": "HighPS", "type": "esriFieldTypeDouble", "alias": "HighPS", "domain": null }, { "name": "Category", "type": "esriFieldTypeInteger", "alias": "Category", "domain": { "type": "codedValue", "name": "MosaicCatalogItemCategoryDomain", "description": "Catalog item categories.", "codedValues": [ { "name": "Unknown", "code": 0 }, { "name": "Primary", "code": 1 }, { "name": "Overview", "code": 2 }, { "name": "Unprocessed Overview", "code": 3 }, { "name": "Partial Overview", "code": 4 }, { "name": "Inactive", "code": 5 }, { "name": "Uploaded", "code": 253 }, { "name": "Incomplete", "code": 254 }, { "name": "Custom", "code": 255 } ], "mergePolicy": "esriMPTDefaultValue", "splitPolicy": "esriSPTDefaultValue" } }, { "name": "Tag", "type": "esriFieldTypeString", "alias": "Tag", "domain": null, "length": 100 }, { "name": "GroupName", "type": "esriFieldTypeString", "alias": "GroupName", "domain": null, "length": 100 }, { "name": "ProductName", "type": "esriFieldTypeString", "alias": "ProductName", "domain": null, "length": 100 }, { "name": "CenterX", "type": "esriFieldTypeDouble", "alias": "CenterX", "domain": null }, { "name": "CenterY", "type": "esriFieldTypeDouble", "alias": "CenterY", "domain": null }, { "name": "ZOrder", "type": "esriFieldTypeInteger", "alias": "ZOrder", "domain": null }, { "name": "date", "type": "esriFieldTypeDate", "alias": "date", "domain": null, "length": 8 }, { "name": "dateTXT", "type": "esriFieldTypeString", "alias": "dateTXT", "domain": null, "length": 50 }, { "name": "tile", "type": "esriFieldTypeString", "alias": "tile", "domain": null, "length": 50 }, { "name": "Product", "type": "esriFieldTypeString", "alias": "Product", "domain": null, "length": 50 }, { "name": "Shape_Length", "type": "esriFieldTypeDouble", "alias": "Shape_Length", "domain": null }, { "name": "Shape_Area", "type": "esriFieldTypeDouble", "alias": "Shape_Area", "domain": null } ], "capabilities": "Catalog,Mensuration,Image,Metadata", "defaultMosaicMethod": "ByAttribute", "allowedMosaicMethods": "ByAttribute", "sortField": "date", "sortValue": "0", "sortAscending": true, "mosaicOperator": "Last", "maxDownloadSizeLimit": 2048, "defaultCompressionQuality": 75, "defaultResamplingMethod": "Nearest", "maxImageHeight": 4100, "maxImageWidth": 15000, "maxRecordCount": 1000, "maxDownloadImageCount": 20, "maxMosaicImageCount": 20, "allowRasterFunction": true, "rasterFunctionInfos": [ { "name": "modis_flood_lance", "description": "A raster function template.", "help": "" }, { "name": "modis_flood_lance", "description": "A raster function template.", "help": "" }, { "name": "None", "description": "Make a Raster or Raster Dataset into a Function Raster Dataset.", "help": "" } ], "rasterTypeInfos": [ { "name": "Raster Dataset", "description": "Supports all ArcGIS Raster Datasets", "help": "" } ], "mensurationCapabilities": "Basic", "hasHistograms": true, "hasColormap": false, "hasRasterAttributeTable": false, "minScale": 0, "maxScale": 0, "exportTilesAllowed": false, "supportsStatistics": true, "supportsAdvancedQueries": true, "editFieldsInfo": null, "ownershipBasedAccessControlForRasters": null, "allowComputeTiePoints": false, "useStandardizedQueries": true, "advancedQueryCapabilities": { "useStandardizedQueries": true, "supportsStatistics": true, "supportsOrderBy": true, "supportsDistinct": true, "supportsPagination": true }, "spatialReference": { "wkid": 4326, "latestWkid": 4326 } }