{
 "currentVersion": 10.91,
 "serviceDescription": "The ARIA data system triggered on the M7.2 earthquake in Oaxaca, Mexico on 2/16/2108 and processed the Copernicus Sentinel-1 data acquired to 2/17/2018 automatically.The pattern of contours is consistent with slip on the main subduction megathrust directly beneath the coast. This shows how the preliminary USGS epicenters are biased about 30 km to the northeast in this area, similar to what foundings for the M6.1 Ixtepec Earthquake in Oaxaca last September. ",
 "name": "Oaxaca_Earthquake_18/ARIA_Interferogram_Oaxaca_Earthquake",
 "description": "The ARIA data system triggered on the M7.2 earthquake in Oaxaca, Mexico on 2/16/2108 and processed the Copernicus Sentinel-1 data acquired to 2/17/2018 automatically.The pattern of contours is consistent with slip on the main subduction megathrust directly beneath the coast. This shows how the preliminary USGS epicenters are biased about 30 km to the northeast in this area, similar to what foundings for the M6.1 Ixtepec Earthquake in Oaxaca last September. ",
 "extent": {
  "xmin": -99.11740422679996,
  "ymin": 15.486217862520618,
  "xmax": -96.05270022679996,
  "ymax": 19.23104186252062,
  "spatialReference": {
   "wkid": 4326,
   "latestWkid": 4326
  }
 },
 "initialExtent": {
  "xmin": -99.11740422679996,
  "ymin": 15.486217862520618,
  "xmax": -96.05270022679996,
  "ymax": 19.23104186252062,
  "spatialReference": {
   "wkid": 4326,
   "latestWkid": 4326
  }
 },
 "fullExtent": {
  "xmin": -99.11740422679996,
  "ymin": 15.486217862520618,
  "xmax": -96.05270022679996,
  "ymax": 19.23104186252062,
  "spatialReference": {
   "wkid": 4326,
   "latestWkid": 4326
  }
 },
 "hasMultidimensions": false,
 "pixelSizeX": 3.470000000000007E-4,
 "pixelSizeY": 3.4700000000000014E-4,
 "datasetFormat": "TIFF",
 "uncompressedSize": 762519552,
 "blockWidth": 128,
 "blockHeight": 128,
 "compressionType": "None",
 "bandNames": [
  "Band_1",
  "Band_2",
  "Band_3",
  "Band_4"
 ],
 "allowCopy": true,
 "allowAnalysis": true,
 "bandCount": 4,
 "noDataValue": 256,
 "noDataValues": [
  256,
  256,
  256,
  256
 ],
 "pixelType": "U16",
 "minPixelSize": 0,
 "maxPixelSize": 0,
 "copyrightText": "ARIA/JPL-Caltech/NASA",
 "serviceDataType": "esriImageServiceDataTypeGeneric",
 "serviceSourceType": "esriImageServiceSourceTypeDataset",
 "minValues": [
  0,
  0,
  0,
  0
 ],
 "maxValues": [
  255,
  255,
  255,
  255
 ],
 "meanValues": [
  77.113726589118,
  77.467144462401,
  73.653637821678,
  159.23891872331
 ],
 "stdvValues": [
  88.622774708592,
  88.593838726834,
  85.720947913067,
  123.48640086381
 ],
 "objectIdField": "",
 "fields": [],
 "capabilities": "Mensuration,Image,Metadata",
 "defaultMosaicMethod": "Center",
 "allowedMosaicMethods": "",
 "sortField": "",
 "sortValue": null,
 "sortAscending": true,
 "mosaicOperator": "First",
 "defaultCompressionQuality": 75,
 "defaultResamplingMethod": "Bilinear",
 "maxImageHeight": 4100,
 "maxImageWidth": 15000,
 "allowRasterFunction": true,
 "rasterFunctionInfos": [
  {
   "name": "None",
   "description": "Make a Raster or Raster Dataset into a Function Raster Dataset.",
   "help": ""
  },
  {
   "name": "RGB Composite",
   "description": "A raster function template.",
   "help": ""
  }
 ],
 "rasterTypeInfos": [
  {
   "name": "Raster Dataset",
   "description": "Supports all ArcGIS Raster Datasets",
   "help": ""
  }
 ],
 "mensurationCapabilities": "Basic",
 "hasHistograms": true,
 "hasColormap": false,
 "hasRasterAttributeTable": false,
 "minScale": 0,
 "maxScale": 0,
 "exportTilesAllowed": false,
 "supportsStatistics": false,
 "supportsAdvancedQueries": false,
 "editFieldsInfo": null,
 "ownershipBasedAccessControlForRasters": null,
 "allowComputeTiePoints": false,
 "useStandardizedQueries": true,
 "advancedQueryCapabilities": {
  "useStandardizedQueries": true,
  "supportsStatistics": false,
  "supportsOrderBy": false,
  "supportsDistinct": false,
  "supportsPagination": false
 },
 "spatialReference": {
  "wkid": 4326,
  "latestWkid": 4326
 }
}
