{ "currentVersion": 10.91, "serviceDescription": "
Summary<\/SPAN>:<\/SPAN><\/P> The Advanced Rapid Imaging and Analysis (ARIA) team at NASA's Jet Propulsion Laboratory and California Institute of Technology, both in Pasadena, California, created this decorrelation map that shows surface disturbance and rupture caused by the recent major earthquakes in California, including the M6.4 (July 4, 2019) and the M7.1 (July 5, 2019) events. The decorrelation map is derived from synthetic aperture radar (SAR) images from the ALOS-2 satellite, operated by the Japan Aerospace Exploration Agency (JAXA). The images were taken before (April 16, 2018) and after (July 8, 2019) the sequence of earthquakes. <\/SPAN><\/P> Suggested Use:<\/SPAN><\/P> Areas that experienced surface disturbance and/or ruptures due to the earthquakes are shown in red. These areas are potentially the most affected areas within the satellite image.<\/SPAN><\/P> Satellite/Sensor:<\/SPAN><\/P> JAXA ALOS-2 Syntetic Aperture Radar (SAR); 30 meter resolution<\/SPAN><\/P> Credits:<\/SPAN><\/P> The ALOS-2 data were provided by JAXA. This task is funded by NASA's Disasters Program.The products (KMZ and GeoTIFF files) are available to download at aria-share.jpl.nasa.gov/20190704-California_EQFor more information about ARIA, visit: http://aria.jpl.nasa.gov<\/SPAN><\/P><\/DIV><\/DIV><\/DIV>",
"name": "ca_earthquake_072019/alos2_ariaphsig_20190708",
"description": " Summary<\/SPAN>:<\/SPAN><\/P> The Advanced Rapid Imaging and Analysis (ARIA) team at NASA's Jet Propulsion Laboratory and California Institute of Technology, both in Pasadena, California, created this decorrelation map that shows surface disturbance and rupture caused by the recent major earthquakes in California, including the M6.4 (July 4, 2019) and the M7.1 (July 5, 2019) events. The decorrelation map is derived from synthetic aperture radar (SAR) images from the ALOS-2 satellite, operated by the Japan Aerospace Exploration Agency (JAXA). The images were taken before (April 16, 2018) and after (July 8, 2019) the sequence of earthquakes. <\/SPAN><\/P> Suggested Use:<\/SPAN><\/P> Areas that experienced surface disturbance and/or ruptures due to the earthquakes are shown in red. These areas are potentially the most affected areas within the satellite image.<\/SPAN><\/P> Satellite/Sensor:<\/SPAN><\/P> JAXA ALOS-2 Syntetic Aperture Radar (SAR); 30 meter resolution<\/SPAN><\/P> Credits:<\/SPAN><\/P> The ALOS-2 data were provided by JAXA. This task is funded by NASA's Disasters Program.The products (KMZ and GeoTIFF files) are available to download at aria-share.jpl.nasa.gov/20190704-California_EQFor more information about ARIA, visit: http://aria.jpl.nasa.gov<\/SPAN><\/P><\/DIV><\/DIV><\/DIV>",
"extent": {
"xmin": -117.8995792,
"ymin": 34.99538321082017,
"xmax": -117.098607,
"ymax": 36.1863554,
"spatialReference": {
"wkid": 4326,
"latestWkid": 4326
}
},
"initialExtent": {
"xmin": -117.8995792,
"ymin": 34.99538321082017,
"xmax": -117.098607,
"ymax": 36.1863554,
"spatialReference": {
"wkid": 4326,
"latestWkid": 4326
}
},
"fullExtent": {
"xmin": -117.8995792,
"ymin": 34.99538321082017,
"xmax": -117.098607,
"ymax": 36.1863554,
"spatialReference": {
"wkid": 4326,
"latestWkid": 4326
}
},
"hasMultidimensions": false,
"pixelSizeX": 1.3888888503554777E-4,
"pixelSizeY": 1.38888885035548E-4,
"datasetFormat": "TIFF",
"uncompressedSize": 98886900,
"blockWidth": 128,
"blockHeight": 128,
"compressionType": "None",
"bandNames": [
"Band_1"
],
"allowCopy": true,
"allowAnalysis": true,
"bandCount": 1,
"noDataValue": 256,
"noDataValues": [
256
],
"pixelType": "U16",
"minPixelSize": 0,
"maxPixelSize": 0,
"copyrightText": "NASA, JPL-CalTech, ARIA Team, JAXA",
"serviceDataType": "esriImageServiceDataTypeGeneric",
"serviceSourceType": "esriImageServiceSourceTypeDataset",
"minValues": [
0
],
"maxValues": [
255
],
"meanValues": [
8.2714085823587
],
"stdvValues": [
39.927514329067
],
"objectIdField": "",
"fields": [],
"capabilities": "Image,Metadata,Mensuration",
"defaultMosaicMethod": "Center",
"allowedMosaicMethods": "",
"sortField": "",
"sortValue": null,
"sortAscending": true,
"mosaicOperator": "First",
"defaultCompressionQuality": 75,
"defaultResamplingMethod": "Bilinear",
"maxImageHeight": 4100,
"maxImageWidth": 15000,
"allowRasterFunction": true,
"rasterFunctionInfos": [
{
"name": "aria_phsig_interferogram",
"description": "A raster function template.",
"help": ""
},
{
"name": "None",
"description": "",
"help": ""
}
],
"rasterTypeInfos": [
{
"name": "Raster Dataset",
"description": "Supports all ArcGIS Raster Datasets",
"help": ""
}
],
"mensurationCapabilities": "Basic",
"hasHistograms": true,
"hasColormap": false,
"hasRasterAttributeTable": false,
"minScale": 0,
"maxScale": 0,
"exportTilesAllowed": false,
"supportsStatistics": false,
"supportsAdvancedQueries": false,
"editFieldsInfo": null,
"ownershipBasedAccessControlForRasters": null,
"allowComputeTiePoints": false,
"useStandardizedQueries": true,
"advancedQueryCapabilities": {
"useStandardizedQueries": true,
"supportsStatistics": false,
"supportsOrderBy": false,
"supportsDistinct": false,
"supportsPagination": false
},
"spatialReference": {
"wkid": 4326,
"latestWkid": 4326
}
}