{
 "currentVersion": 10.91,
 "serviceDescription": "Summary:The Advanced Rapid Imaging and Analysis (ARIA) team at NASA's Jet Propulsion Laboratory and California Institute of Technology, both in Pasadena, California, created this coseismic Interferometric Synthetic Aperture Radar (InSAR) map that shows surface displacement (wrapped interferogram) caused by the recent major earthquakes in California, including the M6.4 (July 4, 2019) and the M7.1 (July 5, 2019) events.The interferogram is derived from synthetic aperture radar (SAR) images from the ALOS-2 satellite, operated by the Japan Aerospace Exploration Agency (JAXA). The images were taken before (April 16, 2018) and after (July 8, 2019) the sequence of earthquakes. Each color cycle represents 11.45 cm (4.5 inches) of ground displacement in the radar line-of-sight (LOS, 28 degrees from vertical and roughly east). The image covers an area of 50 by 125 kilometers (31 by 78 miles), and each pixel measures about 90 meters across. No filter was applied during the processing. The linear features that cut the color fringes in the southeast indicate likely locations of surface rupture caused by the earthquakes, and the noisy areas in the northwest may indicate locations where ground surface was disturbed by the earthquakes.Suggested Use:Each color cycle (ie. red to red) represents 4.5 inches of ground movement. The ground has moved more in areas where the color contour lines are closer together. Satellite/Sensor:Resolution: 30 metersCredits:Contains modified JAXA ALOS-2 data (2019) processed by NASA-JPL/Caltech ARIA Team, JAXAFor more information about ARIA, visit: http://aria.jpl.nasa.govESRI REST Endpoint:See URL on Right Side of the PageWMS Endpoint:\n\nCredits:\n\nNASA, JPL-Caltech, ARIA Product, JAXA\n",
 "name": "ca_earthquake_072019/aria_interferogram_20190708",
 "description": "Summary:The Advanced Rapid Imaging and Analysis (ARIA) team at NASA's Jet Propulsion Laboratory and California Institute of Technology, both in Pasadena, California, created this coseismic Interferometric Synthetic Aperture Radar (InSAR) map that shows surface displacement (wrapped interferogram) caused by the recent major earthquakes in California, including the M6.4 (July 4, 2019) and the M7.1 (July 5, 2019) events.The interferogram is derived from synthetic aperture radar (SAR) images from the ALOS-2 satellite, operated by the Japan Aerospace Exploration Agency (JAXA). The images were taken before (April 16, 2018) and after (July 8, 2019) the sequence of earthquakes. Each color cycle represents 11.45 cm (4.5 inches) of ground displacement in the radar line-of-sight (LOS, 28 degrees from vertical and roughly east). The image covers an area of 50 by 125 kilometers (31 by 78 miles), and each pixel measures about 90 meters across. No filter was applied during the processing. The linear features that cut the color fringes in the southeast indicate likely locations of surface rupture caused by the earthquakes, and the noisy areas in the northwest may indicate locations where ground surface was disturbed by the earthquakes.Suggested Use:Each color cycle (ie. red to red) represents 4.5 inches of ground movement. The ground has moved more in areas where the color contour lines are closer together. Satellite/Sensor:Resolution: 30 metersCredits:Contains modified JAXA ALOS-2 data (2019) processed by NASA-JPL/Caltech ARIA Team, JAXAFor more information about ARIA, visit: http://aria.jpl.nasa.govESRI REST Endpoint:See URL on Right Side of the PageWMS Endpoint:\n\nCredits:\n\nNASA, JPL-Caltech, ARIA Product, JAXA\n",
 "extent": {
  "xmin": -117.8987171,
  "ymin": 34.9960499,
  "xmax": -117.0987171,
  "ymax": 36.1860499,
  "spatialReference": {
   "wkid": 4326,
   "latestWkid": 4326
  }
 },
 "initialExtent": {
  "xmin": -117.8987171,
  "ymin": 34.9960499,
  "xmax": -117.0987171,
  "ymax": 36.1860499,
  "spatialReference": {
   "wkid": 4326,
   "latestWkid": 4326
  }
 },
 "fullExtent": {
  "xmin": -117.8987171,
  "ymin": 34.9960499,
  "xmax": -117.0987171,
  "ymax": 36.1860499,
  "spatialReference": {
   "wkid": 4326,
   "latestWkid": 4326
  }
 },
 "hasMultidimensions": false,
 "pixelSizeX": 8.324661810613914E-4,
 "pixelSizeY": 8.327501749475142E-4,
 "datasetFormat": "TIFF",
 "uncompressedSize": 5493076,
 "blockWidth": 961,
 "blockHeight": 2,
 "compressionType": "None",
 "bandNames": [
  "Band_1",
  "Band_2",
  "Band_3",
  "Band_4"
 ],
 "allowCopy": true,
 "allowAnalysis": true,
 "bandCount": 4,
 "noDataValue": 129,
 "noDataValues": [
  129,
  129,
  129,
  129
 ],
 "pixelType": "U8",
 "minPixelSize": 0,
 "maxPixelSize": 0,
 "copyrightText": "NASA, JPL-Caltech, ARIA Product, JAXA",
 "serviceDataType": "esriImageServiceDataTypeGeneric",
 "serviceSourceType": "esriImageServiceSourceTypeDataset",
 "minValues": [],
 "maxValues": [],
 "meanValues": [],
 "stdvValues": [],
 "objectIdField": "",
 "fields": [],
 "capabilities": "Mensuration,Image,Metadata",
 "defaultMosaicMethod": "Center",
 "allowedMosaicMethods": "",
 "sortField": "",
 "sortValue": null,
 "sortAscending": true,
 "mosaicOperator": "First",
 "defaultCompressionQuality": 75,
 "defaultResamplingMethod": "Bilinear",
 "maxImageHeight": 4100,
 "maxImageWidth": 15000,
 "allowRasterFunction": true,
 "rasterFunctionInfos": [
  {
   "name": "None",
   "description": "",
   "help": ""
  }
 ],
 "rasterTypeInfos": [
  {
   "name": "Raster Dataset",
   "description": "Supports all ArcGIS Raster Datasets",
   "help": ""
  }
 ],
 "mensurationCapabilities": "Basic",
 "hasHistograms": false,
 "hasColormap": false,
 "hasRasterAttributeTable": false,
 "minScale": 0,
 "maxScale": 0,
 "exportTilesAllowed": false,
 "supportsStatistics": false,
 "supportsAdvancedQueries": false,
 "editFieldsInfo": null,
 "ownershipBasedAccessControlForRasters": null,
 "allowComputeTiePoints": false,
 "useStandardizedQueries": true,
 "advancedQueryCapabilities": {
  "useStandardizedQueries": true,
  "supportsStatistics": false,
  "supportsOrderBy": false,
  "supportsDistinct": false,
  "supportsPagination": false
 },
 "spatialReference": {
  "wkid": 4326,
  "latestWkid": 4326
 }
}
