{
 "currentVersion": 10.91,
 "serviceDescription": "Summary:\n\nThe Advanced Rapid Imaging and Analysis (ARIA) data system at NASA's Jet Propulsion Laboratory in Pasadena, California, automatically processed this interferogram or difference between two radar images. The maps were derived from synthetic aperture radar (SAR) data acquired on July 4 and July 10, 2019 (at 01:50 Universal Time) by the Copernicus Sentinel-1 satellites operated by the European Space Agency (ESA). The map covers an area of 90 by 170 kilometers. The processing averaged the pixels to about 30 meters. The ground deformation measured down or up by the satellite in this map is shown as blue to red. \n\nSuggested Use:\n\nThis interferogram shows permanent ground movement down or up due to the earthquakes as blue to red.\n\nSatellite/Sensor:\n\nCopernicus Sentinel-1 Sythetic Aperture Radar (SAR)\n\nResolution: 30 meters; not all of the resolution is maintained by the conversion to KMZ file.\n\nCredits:\n\nContains modified Copernicus Sentinel data, processed by ESA. Analyzed by the NASA-JPL/Caltech ARIA team. This task was carried out at JPL funded by NASA.\n\nESRI REST Endpoint:\n\nSee URL on Right Side of the Page\n\n\nWMS Endpoint:\n\nhttps://maps.disasters.nasa.gov/ags03/services/ca_earthquake_072019/aria_s1_unwrappedinterferogram_20190710/ImageServer/WMSServer",
 "name": "ca_earthquake_072019/aria_s1_unwrappedinterferogram_20190710",
 "description": "Summary:\n\nThe Advanced Rapid Imaging and Analysis (ARIA) data system at NASA's Jet Propulsion Laboratory in Pasadena, California, automatically processed this interferogram or difference between two radar images. The maps were derived from synthetic aperture radar (SAR) data acquired on July 4 and July 10, 2019 (at 01:50 Universal Time) by the Copernicus Sentinel-1 satellites operated by the European Space Agency (ESA). The map covers an area of 90 by 170 kilometers. The processing averaged the pixels to about 30 meters. The ground deformation measured down or up by the satellite in this map is shown as blue to red. \n\nSuggested Use:\n\nThis interferogram shows permanent ground movement down or up due to the earthquakes as blue to red.\n\nSatellite/Sensor:\n\nCopernicus Sentinel-1 Sythetic Aperture Radar (SAR)\n\nResolution: 30 meters; not all of the resolution is maintained by the conversion to KMZ file.\n\nCredits:\n\nContains modified Copernicus Sentinel data, processed by ESA. Analyzed by the NASA-JPL/Caltech ARIA team. This task was carried out at JPL funded by NASA.\n\nESRI REST Endpoint:\n\nSee URL on Right Side of the Page\n\n\nWMS Endpoint:\n\nhttps://maps.disasters.nasa.gov/ags03/services/ca_earthquake_072019/aria_s1_unwrappedinterferogram_20190710/ImageServer/WMSServer",
 "extent": {
  "xmin": -119.465,
  "ymin": 33.843333333333334,
  "xmax": -116.01833333333333,
  "ymax": 36.885,
  "spatialReference": {
   "wkid": 4326,
   "latestWkid": 4326
  }
 },
 "initialExtent": {
  "xmin": -119.465,
  "ymin": 33.843333333333334,
  "xmax": -116.01833333333333,
  "ymax": 36.885,
  "spatialReference": {
   "wkid": 4326,
   "latestWkid": 4326
  }
 },
 "fullExtent": {
  "xmin": -119.465,
  "ymin": 33.843333333333334,
  "xmax": -116.01833333333333,
  "ymax": 36.885,
  "spatialReference": {
   "wkid": 4326,
   "latestWkid": 4326
  }
 },
 "hasMultidimensions": false,
 "pixelSizeX": 8.333333333333348E-4,
 "pixelSizeY": 8.333333333333327E-4,
 "datasetFormat": "TIFF",
 "uncompressedSize": 60385600,
 "blockWidth": 4136,
 "blockHeight": 1,
 "compressionType": "None",
 "bandNames": [
  "Band_1"
 ],
 "allowCopy": true,
 "allowAnalysis": true,
 "bandCount": 1,
 "noDataValue": "NaN",
 "noDataValues": [
  "NaN"
 ],
 "pixelType": "F32",
 "minPixelSize": 0,
 "maxPixelSize": 0,
 "copyrightText": "NASA, NASA-JPL/Caltech, Copernicus Sentinel-1",
 "serviceDataType": "esriImageServiceDataTypeGeneric",
 "serviceSourceType": "esriImageServiceSourceTypeDataset",
 "minValues": [],
 "maxValues": [],
 "meanValues": [],
 "stdvValues": [],
 "objectIdField": "",
 "fields": [],
 "capabilities": "Image,Metadata,Mensuration",
 "defaultMosaicMethod": "Center",
 "allowedMosaicMethods": "",
 "sortField": "",
 "sortValue": null,
 "sortAscending": true,
 "mosaicOperator": "First",
 "defaultCompressionQuality": 75,
 "defaultResamplingMethod": "Bilinear",
 "maxImageHeight": 4100,
 "maxImageWidth": 15000,
 "allowRasterFunction": true,
 "rasterFunctionInfos": [
  {
   "name": "aria_interferogram_unwrapped_caearthquake2019",
   "description": "A raster function template.",
   "help": ""
  },
  {
   "name": "None",
   "description": "",
   "help": ""
  }
 ],
 "rasterTypeInfos": [
  {
   "name": "Raster Dataset",
   "description": "Supports all ArcGIS Raster Datasets",
   "help": ""
  }
 ],
 "mensurationCapabilities": "Basic",
 "hasHistograms": false,
 "hasColormap": false,
 "hasRasterAttributeTable": false,
 "minScale": 0,
 "maxScale": 0,
 "exportTilesAllowed": false,
 "supportsStatistics": false,
 "supportsAdvancedQueries": false,
 "editFieldsInfo": null,
 "ownershipBasedAccessControlForRasters": null,
 "allowComputeTiePoints": false,
 "useStandardizedQueries": true,
 "advancedQueryCapabilities": {
  "useStandardizedQueries": true,
  "supportsStatistics": false,
  "supportsOrderBy": false,
  "supportsDistinct": false,
  "supportsPagination": false
 },
 "spatialReference": {
  "wkid": 4326,
  "latestWkid": 4326
 }
}
