{ "currentVersion": 10.91, "serviceDescription": "
Summary:<\/SPAN><\/P> The Advanced Rapid Imaging and Analysis (ARIA) data system at NASA's Jet Propulsion Laboratory in Pasadena, California, automatically processed this interferogram or difference between two radar images. The maps were derived from synthetic aperture radar (SAR) data acquired on July 4 and July 10, 2019 (at 01:50 Universal Time) by the Copernicus Sentinel-1 satellites operated by the European Space Agency (ESA). The map covers an area of 90 by 170 kilometers. The processing averaged the pixels to about 30 meters across but not all of the resolution is maintained by the conversion to KMZ file. <\/SPAN><\/P> The ground deformation measured by the satellite in this map is shown by color contours. Each color contour (blue to blue) indicates 2.8 cm (1.2 inches) of permanent ground motion in the direction towards the satellite (up and west). The wide zone of confused contours in the northwestern part of the rupture indicates complete ground motion, probably block rotation within the fault zone. Discontinuities in the color contours are nearly all due to faults, but there are some small magnitude but long discontinuities between the Sentinel-1 radar bursts because of the large north-south motion of the ground surface. Disregard any discontinuities that are exactly parallel to the top and bottom edges of the image.<\/SPAN><\/P> Suggested Use:<\/SPAN><\/P> This interferogram shows permant ground movement/deformation due to the recent earthquakes. Each color contour (blue to blue) indicates 2.8 cm (1.2 inches) of permanent ground motion.<\/SPAN><\/P> Satellite/Sensor:<\/SPAN><\/P> Copernicus Sentinel-1 Sythetic Aperture Radar (SAR)<\/SPAN><\/P> Resolution: 30 meters; not all of the resolution is maintained by the conversion to KMZ file.<\/SPAN><\/P> Credits:<\/SPAN><\/P> Contains modified Copernicus Sentinel data, processed by ESA. Analyzed by the NASA-JPL/Caltech ARIA team. This task was carried out at JPL funded by NASA.<\/SPAN><\/P><\/DIV><\/DIV><\/DIV>",
"name": "ca_earthquake_072019/aria_sentinel1_interferogram_20190710",
"description": " Summary:<\/SPAN><\/P> The Advanced Rapid Imaging and Analysis (ARIA) data system at NASA's Jet Propulsion Laboratory in Pasadena, California, automatically processed this interferogram or difference between two radar images. The maps were derived from synthetic aperture radar (SAR) data acquired on July 4 and July 10, 2019 (at 01:50 Universal Time) by the Copernicus Sentinel-1 satellites operated by the European Space Agency (ESA). The map covers an area of 90 by 170 kilometers. The processing averaged the pixels to about 30 meters across but not all of the resolution is maintained by the conversion to KMZ file. <\/SPAN><\/P> The ground deformation measured by the satellite in this map is shown by color contours. Each color contour (blue to blue) indicates 2.8 cm (1.2 inches) of permanent ground motion in the direction towards the satellite (up and west). The wide zone of confused contours in the northwestern part of the rupture indicates complete ground motion, probably block rotation within the fault zone. Discontinuities in the color contours are nearly all due to faults, but there are some small magnitude but long discontinuities between the Sentinel-1 radar bursts because of the large north-south motion of the ground surface. Disregard any discontinuities that are exactly parallel to the top and bottom edges of the image.<\/SPAN><\/P> Suggested Use:<\/SPAN><\/P> This interferogram shows permant ground movement/deformation due to the recent earthquakes. Each color contour (blue to blue) indicates 2.8 cm (1.2 inches) of permanent ground motion.<\/SPAN><\/P> Satellite/Sensor:<\/SPAN><\/P> Copernicus Sentinel-1 Sythetic Aperture Radar (SAR)<\/SPAN><\/P> Resolution: 30 meters; not all of the resolution is maintained by the conversion to KMZ file.<\/SPAN><\/P> Credits:<\/SPAN><\/P> Contains modified Copernicus Sentinel data, processed by ESA. Analyzed by the NASA-JPL/Caltech ARIA team. This task was carried out at JPL funded by NASA.<\/SPAN><\/P><\/DIV><\/DIV><\/DIV>",
"extent": {
"xmin": -118.51388900000003,
"ymin": 35.03611099999999,
"xmax": -117.02249999999998,
"ymax": 36.715833000000025,
"spatialReference": {
"wkid": 4326,
"latestWkid": 4326,
"vcsWkid": 5773,
"latestVcsWkid": 5773
}
},
"initialExtent": {
"xmin": -118.51388900000003,
"ymin": 35.03611099999999,
"xmax": -117.02249999999998,
"ymax": 36.715833000000025,
"spatialReference": {
"wkid": 4326,
"latestWkid": 4326,
"vcsWkid": 5773,
"latestVcsWkid": 5773
}
},
"fullExtent": {
"xmin": -118.51388900000003,
"ymin": 35.03611099999999,
"xmax": -117.02249999999998,
"ymax": 36.715833000000025,
"spatialReference": {
"wkid": 4326,
"latestWkid": 4326,
"vcsWkid": 5773,
"latestVcsWkid": 5773
}
},
"heightModelInfo": {
"heightModel": "gravity_related_height",
"vertCRS": "EGM96_Geoid",
"heightUnit": "meter"
},
"hasMultidimensions": false,
"pixelSizeX": 2.778295454545557E-4,
"pixelSizeY": 2.777318121693177E-4,
"datasetFormat": "PNG",
"uncompressedSize": 129862656,
"blockWidth": 5368,
"blockHeight": 1,
"compressionType": "Deflate/Inflate",
"bandNames": [
"Band_1",
"Band_2",
"Band_3",
"Band_4"
],
"allowCopy": true,
"allowAnalysis": true,
"bandCount": 4,
"pixelType": "U8",
"minPixelSize": 0,
"maxPixelSize": 0,
"copyrightText": "NASA-JPL/Caltech ARIA Team, ESA, Copernicus",
"serviceDataType": "esriImageServiceDataTypeGeneric",
"serviceSourceType": "esriImageServiceSourceTypeDataset",
"minValues": [],
"maxValues": [],
"meanValues": [],
"stdvValues": [],
"objectIdField": "",
"fields": [],
"capabilities": "Image,Metadata,Mensuration",
"defaultMosaicMethod": "Center",
"allowedMosaicMethods": "",
"sortField": "",
"sortValue": null,
"sortAscending": true,
"mosaicOperator": "First",
"defaultCompressionQuality": 75,
"defaultResamplingMethod": "Bilinear",
"maxImageHeight": 4100,
"maxImageWidth": 15000,
"allowRasterFunction": true,
"rasterFunctionInfos": [
{
"name": "None",
"description": "",
"help": ""
}
],
"rasterTypeInfos": [
{
"name": "Raster Dataset",
"description": "Supports all ArcGIS Raster Datasets",
"help": ""
}
],
"mensurationCapabilities": "Basic",
"hasHistograms": false,
"hasColormap": false,
"hasRasterAttributeTable": false,
"minScale": 0,
"maxScale": 0,
"exportTilesAllowed": false,
"supportsStatistics": false,
"supportsAdvancedQueries": false,
"editFieldsInfo": null,
"ownershipBasedAccessControlForRasters": null,
"allowComputeTiePoints": false,
"useStandardizedQueries": true,
"advancedQueryCapabilities": {
"useStandardizedQueries": true,
"supportsStatistics": false,
"supportsOrderBy": false,
"supportsDistinct": false,
"supportsPagination": false
},
"spatialReference": {
"wkid": 4326,
"latestWkid": 4326,
"vcsWkid": 5773,
"latestVcsWkid": 5773
}
}