{
 "currentVersion": 10.91,
 "serviceDescription": "Background:\n\nMODIS Flood 1 Day Observations is a collection of GeoTiffs representing 1D1OS WMP : 1 Day imagery, 1 Observations required, Terrain & Cloud Shadow Masking.\n\nNASA Goddard's Hydrology Laboratory is working to operationalize near real-time global flood mapping using available satellite data resources -- currently the twice daily overpass of the MODIS instrument, on the Terra and Aqua satellites. We are working to include additional data sources, such as Landsat and radar, to improve coverage and accuracy.\n\nThis work builds on the long-time expertise and efforts of the Dartmouth Flood Observatory (DFO) to map floodwater extent in detail for active floods. The DFO website provides additional detail, additional products, and archives of historical flood maps. This NASA website provides links and information about the automated daily flood and surface water products produced at NASA Goddard.\n\nNote:\n\nThe MODIS Flood 3 Day Image Service is the representing the MODIS Water Product (combines both MFW and MSW, raster only). There is no indication provided of where there is insufficient clear data in the given product to determine water extent. Thus, these products only indicate where water has been detected, but the absence of a water polygon cannot be interpreted to mean there was no water present in a given area; it may simply have been sufficiently cloudy over the composite period for the required number of water observations to be met (the Y in composite indicator XDYO). The MWP product (below) attempts to address this deficiency, and may eventually replace MFW and MSW. These vector products can also be extremely resource intensive to generate from the source raster; a partly cloudy scene over water, or a tile over mountains with terrain shadow issues, can have tens of thousands of polygons, if we were to convert to shapefile or KMZ. Thus, we typically skip vector product generation if the number of polygons is greater than 20000. Currently delivered only in geotiff raster format.\n\nWe detect water using an algorithm developed by Bob Brakenridge of the Dartmouth Flood Observatory. This algorithm uses a ratio of MODIS Band 1 and Band 2, and a threshold on Band 7 to provisionally identify pixels as water. We then composite the water detections over the product window (2 days, typically). If a pixel is identified as water over several (2 or more) observations during the product window, it is then definitively marked as water, and output in the MSW, or \"MODIS Surface Water\" product. 2 (or more) observations are required because cloud shadow can appear quite spectrally similar to water.\n\nIn cases where cloud shadow occurs in the same spot in 2 observations, the product may incorrectly flag such areas as water. A 3 observation requirement helps further, but also increases latency of the product. At the moment, we are using the 2 observation requirement as a balance between accuracy and timeliness. Finally, the detected water is compared to a reference water layer that shows \"normal\" water extent, and any pixels found outside the normal water extent are marked as flood, and output in the MFW (\"MODIS Flood Water\") products.\n\nThe Image Service is published using a Raster Mosaic populated with \u201cMWP\u201d GeoTiffs collected from the NRT Global Flood Mapping Data Viewer site.\n\nData Visualization:\n\nMODIS Flood layer is represented using Unique Values Ranging from 0-3.\n\n0 : Insufficient data to make water determination (cloudy, missing images, swath gaps, or bad data values).\n\n1 : No water detected.\n\n2 : Water detected AND coinciding with reference water (e.g., not flood).\n\n3 : Water detected, beyond reference water, so may be flood.\n\nUpdate Frequency:\n\nDaily\n\nSuggested Usage:\n\nFlood detection and showing areas of surface water inundation.\n\nFurther Reference:\n\nLearn more about MODIS Flood Products\n\nPurpose/Summary:\n\nFlood Detection Map, MODIS Flood 1 Day (1D1OS), Updated Daily",
 "name": "ca_flooding_201902/modis_1dayfloodmap_20190228",
 "description": "Background:\n\nMODIS Flood 1 Day Observations is a collection of GeoTiffs representing 1D1OS WMP : 1 Day imagery, 1 Observations required, Terrain & Cloud Shadow Masking.\n\nNASA Goddard's Hydrology Laboratory is working to operationalize near real-time global flood mapping using available satellite data resources -- currently the twice daily overpass of the MODIS instrument, on the Terra and Aqua satellites. We are working to include additional data sources, such as Landsat and radar, to improve coverage and accuracy.\n\nThis work builds on the long-time expertise and efforts of the Dartmouth Flood Observatory (DFO) to map floodwater extent in detail for active floods. The DFO website provides additional detail, additional products, and archives of historical flood maps. This NASA website provides links and information about the automated daily flood and surface water products produced at NASA Goddard.\n\nNote:\n\nThe MODIS Flood 3 Day Image Service is the representing the MODIS Water Product (combines both MFW and MSW, raster only). There is no indication provided of where there is insufficient clear data in the given product to determine water extent. Thus, these products only indicate where water has been detected, but the absence of a water polygon cannot be interpreted to mean there was no water present in a given area; it may simply have been sufficiently cloudy over the composite period for the required number of water observations to be met (the Y in composite indicator XDYO). The MWP product (below) attempts to address this deficiency, and may eventually replace MFW and MSW. These vector products can also be extremely resource intensive to generate from the source raster; a partly cloudy scene over water, or a tile over mountains with terrain shadow issues, can have tens of thousands of polygons, if we were to convert to shapefile or KMZ. Thus, we typically skip vector product generation if the number of polygons is greater than 20000. Currently delivered only in geotiff raster format.\n\nWe detect water using an algorithm developed by Bob Brakenridge of the Dartmouth Flood Observatory. This algorithm uses a ratio of MODIS Band 1 and Band 2, and a threshold on Band 7 to provisionally identify pixels as water. We then composite the water detections over the product window (2 days, typically). If a pixel is identified as water over several (2 or more) observations during the product window, it is then definitively marked as water, and output in the MSW, or \"MODIS Surface Water\" product. 2 (or more) observations are required because cloud shadow can appear quite spectrally similar to water.\n\nIn cases where cloud shadow occurs in the same spot in 2 observations, the product may incorrectly flag such areas as water. A 3 observation requirement helps further, but also increases latency of the product. At the moment, we are using the 2 observation requirement as a balance between accuracy and timeliness. Finally, the detected water is compared to a reference water layer that shows \"normal\" water extent, and any pixels found outside the normal water extent are marked as flood, and output in the MFW (\"MODIS Flood Water\") products.\n\nThe Image Service is published using a Raster Mosaic populated with \u201cMWP\u201d GeoTiffs collected from the NRT Global Flood Mapping Data Viewer site.\n\nData Visualization:\n\nMODIS Flood layer is represented using Unique Values Ranging from 0-3.\n\n0 : Insufficient data to make water determination (cloudy, missing images, swath gaps, or bad data values).\n\n1 : No water detected.\n\n2 : Water detected AND coinciding with reference water (e.g., not flood).\n\n3 : Water detected, beyond reference water, so may be flood.\n\nUpdate Frequency:\n\nDaily\n\nSuggested Usage:\n\nFlood detection and showing areas of surface water inundation.\n\nFurther Reference:\n\nLearn more about MODIS Flood Products\n\nPurpose/Summary:\n\nFlood Detection Map, MODIS Flood 1 Day (1D1OS), Updated Daily",
 "extent": {
  "xmin": -130,
  "ymin": 29.999999996000014,
  "xmax": -120,
  "ymax": 39.999999996000014,
  "spatialReference": {
   "wkid": 4326,
   "latestWkid": 4326
  }
 },
 "initialExtent": {
  "xmin": -130,
  "ymin": 29.999999996000014,
  "xmax": -120,
  "ymax": 39.999999996000014,
  "spatialReference": {
   "wkid": 4326,
   "latestWkid": 4326
  }
 },
 "fullExtent": {
  "xmin": -130,
  "ymin": 29.999999996000014,
  "xmax": -120,
  "ymax": 39.999999996000014,
  "spatialReference": {
   "wkid": 4326,
   "latestWkid": 4326
  }
 },
 "hasMultidimensions": false,
 "pixelSizeX": 0.0021968365553602814,
 "pixelSizeY": 0.0021968365553602814,
 "datasetFormat": "TIFF",
 "uncompressedSize": 20720704,
 "blockWidth": 4552,
 "blockHeight": 1,
 "compressionType": "PACKBITS",
 "bandNames": [
  "Band_1"
 ],
 "allowCopy": true,
 "allowAnalysis": true,
 "bandCount": 1,
 "pixelType": "U8",
 "minPixelSize": 0,
 "maxPixelSize": 0,
 "copyrightText": "National Aeronautics and Space Administration (NASA), Goddard Space Flight Center's (GSFC) Hydrological Sciences Laboratory",
 "serviceDataType": "esriImageServiceDataTypeGeneric",
 "serviceSourceType": "esriImageServiceSourceTypeDataset",
 "minValues": [],
 "maxValues": [],
 "meanValues": [],
 "stdvValues": [],
 "objectIdField": "",
 "fields": [],
 "capabilities": "Image,Metadata,Mensuration",
 "defaultMosaicMethod": "Center",
 "allowedMosaicMethods": "",
 "sortField": "",
 "sortValue": null,
 "sortAscending": true,
 "mosaicOperator": "First",
 "defaultCompressionQuality": 75,
 "defaultResamplingMethod": "Nearest",
 "maxImageHeight": 4100,
 "maxImageWidth": 15000,
 "allowRasterFunction": true,
 "rasterFunctionInfos": [
  {
   "name": "MODIS Flood Symbology",
   "description": "MODIS Flood's function template for the DAG IOC.",
   "help": ""
  },
  {
   "name": "None",
   "description": "",
   "help": ""
  }
 ],
 "rasterTypeInfos": [
  {
   "name": "Raster Dataset",
   "description": "Supports all ArcGIS Raster Datasets",
   "help": ""
  }
 ],
 "mensurationCapabilities": "Basic",
 "hasHistograms": false,
 "hasColormap": false,
 "hasRasterAttributeTable": false,
 "minScale": 0,
 "maxScale": 0,
 "exportTilesAllowed": false,
 "supportsStatistics": false,
 "supportsAdvancedQueries": false,
 "editFieldsInfo": null,
 "ownershipBasedAccessControlForRasters": null,
 "allowComputeTiePoints": false,
 "useStandardizedQueries": true,
 "advancedQueryCapabilities": {
  "useStandardizedQueries": true,
  "supportsStatistics": false,
  "supportsOrderBy": false,
  "supportsDistinct": false,
  "supportsPagination": false
 },
 "spatialReference": {
  "wkid": 4326,
  "latestWkid": 4326
 }
}
