{
 "currentVersion": 10.91,
 "serviceDescription": "Date of Imagery: 3/4/2019\nNext Potential Update: None\nSummary: Using data from the Copernicus Sentinel-1 satellites, scientists are able to create maps of the extent of water due to the effects of the atmospheric river and resulting flooding in Northern California. The synthetic aperture radar (SAR) aboard Sentinel-1 allows for the detection of water on the surface when clouds are present as well as during the night time hours. The images were taken before (February 26, 2019) and after (March 4, 2019) the flooding event.\nSuggested Usage: Likely flooded areas are shown in light blue. This product should be used as guidance to identify areas that are potentially flooded and may contain false positives over agricultural areas.\nSatellite/Sensor: Synthetic Aperture Radar (SAR) from Copernicus Sentinel-1 operated by the European Space Agency (ESA); 10 meter resolution\nCredits: Sentinel data used in this derived product, contains modified Copernicus Sentinel data (2019), processed by ESA and analyzed by NASA-Goddard Space Flight Center.",
 "name": "ca_flooding_201902/sentinel1_water_extent_20190226_20190304",
 "description": "Date of Imagery: 3/4/2019\nNext Potential Update: None\nSummary: Using data from the Copernicus Sentinel-1 satellites, scientists are able to create maps of the extent of water due to the effects of the atmospheric river and resulting flooding in Northern California. The synthetic aperture radar (SAR) aboard Sentinel-1 allows for the detection of water on the surface when clouds are present as well as during the night time hours. The images were taken before (February 26, 2019) and after (March 4, 2019) the flooding event.\nSuggested Usage: Likely flooded areas are shown in light blue. This product should be used as guidance to identify areas that are potentially flooded and may contain false positives over agricultural areas.\nSatellite/Sensor: Synthetic Aperture Radar (SAR) from Copernicus Sentinel-1 operated by the European Space Agency (ESA); 10 meter resolution\nCredits: Sentinel data used in this derived product, contains modified Copernicus Sentinel data (2019), processed by ESA and analyzed by NASA-Goddard Space Flight Center.",
 "extent": {
  "xmin": -123.91571555559513,
  "ymin": 37.99904953408117,
  "xmax": -121.07128768899422,
  "ymax": 39.65770024558064,
  "spatialReference": {
   "wkid": 4326,
   "latestWkid": 4326
  }
 },
 "initialExtent": {
  "xmin": -123.91571555559513,
  "ymin": 37.99904953408117,
  "xmax": -121.07128768899422,
  "ymax": 39.65770024558064,
  "spatialReference": {
   "wkid": 4326,
   "latestWkid": 4326
  }
 },
 "fullExtent": {
  "xmin": -123.91571555559513,
  "ymin": 37.99904953408117,
  "xmax": -121.07128768899422,
  "ymax": 39.65770024558064,
  "spatialReference": {
   "wkid": 4326,
   "latestWkid": 4326
  }
 },
 "hasMultidimensions": false,
 "pixelSizeX": 8.983160265920002E-5,
 "pixelSizeY": 8.98316026592E-5,
 "datasetFormat": "TIFF",
 "uncompressedSize": 584644096,
 "blockWidth": 128,
 "blockHeight": 128,
 "compressionType": "None",
 "bandNames": [
  "Band_1"
 ],
 "allowCopy": true,
 "allowAnalysis": true,
 "bandCount": 1,
 "noDataValue": 255,
 "noDataValues": [
  255
 ],
 "pixelType": "U8",
 "minPixelSize": 0,
 "maxPixelSize": 0,
 "copyrightText": "NASA-GSFC, ESA Copernicus",
 "serviceDataType": "esriImageServiceDataTypeGeneric",
 "serviceSourceType": "esriImageServiceSourceTypeDataset",
 "minValues": [
  0
 ],
 "maxValues": [
  3
 ],
 "meanValues": [
  0.10010217504237
 ],
 "stdvValues": [
  0.53878203401316
 ],
 "objectIdField": "",
 "fields": [],
 "capabilities": "Image,Metadata,Mensuration",
 "defaultMosaicMethod": "Center",
 "allowedMosaicMethods": "",
 "sortField": "",
 "sortValue": null,
 "sortAscending": true,
 "mosaicOperator": "First",
 "defaultCompressionQuality": 75,
 "defaultResamplingMethod": "Nearest",
 "maxImageHeight": 4100,
 "maxImageWidth": 15000,
 "allowRasterFunction": true,
 "rasterFunctionInfos": [
  {
   "name": "gsfc_water_extent",
   "description": "A raster function template.",
   "help": ""
  },
  {
   "name": "None",
   "description": "",
   "help": ""
  }
 ],
 "rasterTypeInfos": [
  {
   "name": "Raster Dataset",
   "description": "Supports all ArcGIS Raster Datasets",
   "help": ""
  }
 ],
 "mensurationCapabilities": "Basic",
 "hasHistograms": true,
 "hasColormap": false,
 "hasRasterAttributeTable": true,
 "minScale": 0,
 "maxScale": 0,
 "exportTilesAllowed": false,
 "supportsStatistics": false,
 "supportsAdvancedQueries": false,
 "editFieldsInfo": null,
 "ownershipBasedAccessControlForRasters": null,
 "allowComputeTiePoints": false,
 "useStandardizedQueries": true,
 "advancedQueryCapabilities": {
  "useStandardizedQueries": true,
  "supportsStatistics": false,
  "supportsOrderBy": false,
  "supportsDistinct": false,
  "supportsPagination": false
 },
 "spatialReference": {
  "wkid": 4326,
  "latestWkid": 4326
 }
}
