{
 "currentVersion": 10.91,
 "serviceDescription": "Date of Image: \n3/16/2019\n\nDate of Next Image:\nUnknown\n\nPurpose/Summary: \nThe Advanced Rapid Imaging and Analysis (ARIA) team at NASA's Jet Propulsion Laboratory in Pasadena, California, created this Flood Proxy Map depicting areas of Mozambique that are likely flooded as a result of Cyclone Idai, shown by light blue pixels. The map is derived from synthetic aperture radar (SAR) images from the Advanced Land Observing Satellite 2 (ALOS-2) satellite, operated by the Japan Aerospace Exploration Agency (JAXA). The images were taken before (February 2, 2019) and during the flooding (March 16, 2019). \n\nSuggested Use: \nPotentially flooded areas are shown in light blue. This flood proxy map should be used as guidance to identify areas that are likely flooded, and may be less reliable over urban and vegetated areas. \n\nNote: There may be location shift for higher topography, as the map was derived from SAR images registered to an ellipsoidal earth model. \n\nSatellite/Sensor:\nSynthetic aperture radar (SAR) from the Advanced Land Observing Satellite 2 (ALOS-2) satellite operated by the Japan Aerospace Exploration Agency (JAXA); 25m resolution\n \nCredits:\nOriginal Data provided by JAXA. Analyzed by the NASA-JPL/Caltech ARIA team. This research was carried out at JPL funded by NASA Disasters Program. \n\nFor more information about ARIA, visit: http://aria.jpl.nasa.gov ",
 "name": "cyclone_idai_2019/alos2_ariafpm_20190316",
 "description": "Date of Image: \n3/16/2019\n\nDate of Next Image:\nUnknown\n\nPurpose/Summary: \nThe Advanced Rapid Imaging and Analysis (ARIA) team at NASA's Jet Propulsion Laboratory in Pasadena, California, created this Flood Proxy Map depicting areas of Mozambique that are likely flooded as a result of Cyclone Idai, shown by light blue pixels. The map is derived from synthetic aperture radar (SAR) images from the Advanced Land Observing Satellite 2 (ALOS-2) satellite, operated by the Japan Aerospace Exploration Agency (JAXA). The images were taken before (February 2, 2019) and during the flooding (March 16, 2019). \n\nSuggested Use: \nPotentially flooded areas are shown in light blue. This flood proxy map should be used as guidance to identify areas that are likely flooded, and may be less reliable over urban and vegetated areas. \n\nNote: There may be location shift for higher topography, as the map was derived from SAR images registered to an ellipsoidal earth model. \n\nSatellite/Sensor:\nSynthetic aperture radar (SAR) from the Advanced Land Observing Satellite 2 (ALOS-2) satellite operated by the Japan Aerospace Exploration Agency (JAXA); 25m resolution\n \nCredits:\nOriginal Data provided by JAXA. Analyzed by the NASA-JPL/Caltech ARIA team. This research was carried out at JPL funded by NASA Disasters Program. \n\nFor more information about ARIA, visit: http://aria.jpl.nasa.gov ",
 "extent": {
  "xmin": 30.5769081,
  "ymin": -20.9780635,
  "xmax": 34.7156743,
  "ymax": -17.0510834,
  "spatialReference": {
   "wkid": 4326,
   "latestWkid": 4326
  }
 },
 "initialExtent": {
  "xmin": 30.5769081,
  "ymin": -20.9780635,
  "xmax": 34.7156743,
  "ymax": -17.0510834,
  "spatialReference": {
   "wkid": 4326,
   "latestWkid": 4326
  }
 },
 "fullExtent": {
  "xmin": 30.5769081,
  "ymin": -20.9780635,
  "xmax": 34.7156743,
  "ymax": -17.0510834,
  "spatialReference": {
   "wkid": 4326,
   "latestWkid": 4326
  }
 },
 "hasMultidimensions": false,
 "pixelSizeX": 2.292056377028301E-4,
 "pixelSizeY": 2.292056324052998E-4,
 "datasetFormat": "TIFF",
 "uncompressedSize": 928111743,
 "blockWidth": 18057,
 "blockHeight": 1,
 "compressionType": "None",
 "bandNames": [
  "Band_1"
 ],
 "allowCopy": true,
 "allowAnalysis": true,
 "bandCount": 3,
 "noDataValue": 256,
 "noDataValues": [
  256,
  256,
  256
 ],
 "pixelType": "U8",
 "minPixelSize": 0,
 "maxPixelSize": 0,
 "copyrightText": "NASA-JPL/Caltech Aria Team, JAXA",
 "serviceDataType": "esriImageServiceDataTypeThematic",
 "serviceSourceType": "esriImageServiceSourceTypeDataset",
 "minValues": [],
 "maxValues": [],
 "meanValues": [],
 "stdvValues": [],
 "objectIdField": "",
 "fields": [],
 "capabilities": "Mensuration,Image,Metadata",
 "defaultMosaicMethod": "Center",
 "allowedMosaicMethods": "",
 "sortField": "",
 "sortValue": null,
 "sortAscending": true,
 "mosaicOperator": "First",
 "defaultCompressionQuality": 75,
 "defaultResamplingMethod": "Nearest",
 "maxImageHeight": 4100,
 "maxImageWidth": 15000,
 "allowRasterFunction": true,
 "rasterFunctionInfos": [
  {
   "name": "None",
   "description": "",
   "help": ""
  }
 ],
 "rasterTypeInfos": [
  {
   "name": "Raster Dataset",
   "description": "Supports all ArcGIS Raster Datasets",
   "help": ""
  }
 ],
 "mensurationCapabilities": "Basic",
 "hasHistograms": false,
 "hasColormap": false,
 "hasRasterAttributeTable": false,
 "minScale": 0,
 "maxScale": 0,
 "exportTilesAllowed": false,
 "supportsStatistics": false,
 "supportsAdvancedQueries": false,
 "editFieldsInfo": null,
 "ownershipBasedAccessControlForRasters": null,
 "allowComputeTiePoints": false,
 "useStandardizedQueries": true,
 "advancedQueryCapabilities": {
  "useStandardizedQueries": true,
  "supportsStatistics": false,
  "supportsOrderBy": false,
  "supportsDistinct": false,
  "supportsPagination": false
 },
 "spatialReference": {
  "wkid": 4326,
  "latestWkid": 4326
 }
}
