{ "currentVersion": 10.91, "serviceDescription": "
Date of Imagery:<\/span><\/p> 3/13/2019 <\/span><\/p> <\/p> Suggested Use: <\/span><\/p> Compare pre and post-event imagery to map power outages caused by the cyclone. <\/span><\/p> Resolution: <\/span><\/p> 30 meters<\/span><\/p> Summary: <\/span><\/p> NASA\u2019s Black Marble product show the lights at night from Mozambique. The images were based on data collected before and after the cyclone made landfall. The NASA Black Marble product suite has been used to assess disruptions in energy infrastructure and utility services following major disasters. The night-time imageries are useful for pre-event and post-event mapping and monitoring of power outages in cloud-free conditions. The Day/Night Band (DNB) sensor of the Visible Infrared Imaging Radiometer Suite (VIIRS), on board the NASA/NOAA Suomi-National Polar-orbiting Partnership (S-NPP) and NASA/NOAA Joint Polar Satellite System (JPSS) satellite platforms, provide daily global measurements of nocturnal visible and near-infrared (NIR) light that are suitable for Earth system science and applications studies. The VIIRS Black Marble product suite detects light in a range of wavelengths from green to near-infrared, including city lights and lights from other activity. <\/span><\/p> <\/p> Satellite: <\/span><\/p> Suomi NPP/VIIRS; 30 m resolution <\/span><\/p> <\/p> Credit:<\/span><\/p> NASA Black Marble team Learn more about NASA Black Marble Product Suite: https://viirsland.gsfc.nasa.gov/Products/NASA/BlackMarble.html<\/span><\/p><\/div><\/div><\/div>",
"name": "cyclone_idai_2019/blackmarblehd_20190313",
"description": " Date of Imagery:<\/span><\/p> 3/13/2019 <\/span><\/p> <\/p> Suggested Use: <\/span><\/p> Compare pre and post-event imagery to map power outages caused by the cyclone. <\/span><\/p> Resolution: <\/span><\/p> 30 meters<\/span><\/p> Summary: <\/span><\/p> NASA\u2019s Black Marble product show the lights at night from Mozambique. The images were based on data collected before and after the cyclone made landfall. The NASA Black Marble product suite has been used to assess disruptions in energy infrastructure and utility services following major disasters. The night-time imageries are useful for pre-event and post-event mapping and monitoring of power outages in cloud-free conditions. The Day/Night Band (DNB) sensor of the Visible Infrared Imaging Radiometer Suite (VIIRS), on board the NASA/NOAA Suomi-National Polar-orbiting Partnership (S-NPP) and NASA/NOAA Joint Polar Satellite System (JPSS) satellite platforms, provide daily global measurements of nocturnal visible and near-infrared (NIR) light that are suitable for Earth system science and applications studies. The VIIRS Black Marble product suite detects light in a range of wavelengths from green to near-infrared, including city lights and lights from other activity. <\/span><\/p> <\/p> Satellite: <\/span><\/p> Suomi NPP/VIIRS; 30 m resolution <\/span><\/p> <\/p> Credit:<\/span><\/p> NASA Black Marble team Learn more about NASA Black Marble Product Suite: https://viirsland.gsfc.nasa.gov/Products/NASA/BlackMarble.html<\/span><\/p><\/div><\/div><\/div>",
"extent": {
"xmin": 3873093.0994205656,
"ymin": -2256261.076379579,
"xmax": 3891732.9299195157,
"ymax": -2239356.683673651,
"spatialReference": {
"wkid": 102100,
"latestWkid": 3857
}
},
"initialExtent": {
"xmin": 3873093.0994205656,
"ymin": -2256261.076379579,
"xmax": 3891732.9299195157,
"ymax": -2239356.683673651,
"spatialReference": {
"wkid": 102100,
"latestWkid": 3857
}
},
"fullExtent": {
"xmin": 3873093.0994205656,
"ymin": -2256261.076379579,
"xmax": 3891732.9299195157,
"ymax": -2239356.683673651,
"spatialReference": {
"wkid": 102100,
"latestWkid": 3857
}
},
"hasMultidimensions": false,
"pixelSizeX": 12.368832447876242,
"pixelSizeY": 12.368832447876242,
"datasetFormat": "TIFF",
"uncompressedSize": 6175686,
"blockWidth": 128,
"blockHeight": 128,
"compressionType": "None",
"bandNames": [
"Band_1",
"Band_2",
"Band_3"
],
"allowCopy": true,
"allowAnalysis": true,
"bandCount": 3,
"noDataValue": 0,
"noDataValues": [
0,
0,
0
],
"pixelType": "U8",
"minPixelSize": 0,
"maxPixelSize": 0,
"copyrightText": "NASA Disasters Program, Black Marble Team, GSFC",
"serviceDataType": "esriImageServiceDataTypeRGB",
"serviceSourceType": "esriImageServiceSourceTypeDataset",
"minValues": [
0,
0,
0
],
"maxValues": [
252,
254,
164
],
"meanValues": [
23.06158662375,
8.171817160147,
18.463980945324
],
"stdvValues": [
55.235785825652,
29.730173836948,
39.227422206166
],
"objectIdField": "",
"fields": [],
"capabilities": "Mensuration,Image,Metadata",
"defaultMosaicMethod": "Center",
"allowedMosaicMethods": "",
"sortField": "",
"sortValue": null,
"sortAscending": true,
"mosaicOperator": "First",
"defaultCompressionQuality": 75,
"defaultResamplingMethod": "Nearest",
"maxImageHeight": 4100,
"maxImageWidth": 15000,
"allowRasterFunction": true,
"rasterFunctionInfos": [
{
"name": "None",
"description": "",
"help": ""
}
],
"rasterTypeInfos": [
{
"name": "Raster Dataset",
"description": "Supports all ArcGIS Raster Datasets",
"help": ""
}
],
"mensurationCapabilities": "Basic",
"hasHistograms": true,
"hasColormap": false,
"hasRasterAttributeTable": false,
"minScale": 0,
"maxScale": 0,
"exportTilesAllowed": false,
"supportsStatistics": false,
"supportsAdvancedQueries": false,
"editFieldsInfo": null,
"ownershipBasedAccessControlForRasters": null,
"allowComputeTiePoints": false,
"useStandardizedQueries": true,
"advancedQueryCapabilities": {
"useStandardizedQueries": true,
"supportsStatistics": false,
"supportsOrderBy": false,
"supportsDistinct": false,
"supportsPagination": false
},
"spatialReference": {
"wkid": 102100,
"latestWkid": 3857
}
}