{ "currentVersion": 10.91, "serviceDescription": "
Date of Image:<\/span><\/p> 3/2/2019; 3/5/2019; 3/8/2019; 3/11/2019; 3/14/2019; 3/17/2019; 3/20/2019; 3/23/2019<\/span><\/p> Date of Next Image:<\/span><\/p> Unknown<\/span><\/p> Purpose/Summary:<\/span><\/p> The NASA-USDA SMAP Global soil moisture data provides soil moisture information across the globe. Monitoring soil mositure can help identify where flooding has occurred due to Cyclone Idai and what areas may be more prone to flooding if future rainfall occurs. This time-enabled dataset shows the evolution of the soil moisture leading up to and after the landfall of the cyclone.<\/span><\/p> Suggested Use:<\/span><\/p> High values in blue and green show more saturated (wetter) soil.<\/span><\/p> Low values in orange and brown show drier soil.<\/span><\/p> Areas with increased soil moisture may have been flooded during the event, and are generally more prone to flooding if more rain occurs.<\/span><\/p> Satellite/Sensor:<\/span><\/p> The data set is generated by integrating satellite-derived Soil Moisture Active Passive (SMAP) Level 3 soil moisture observations into the modified two-layer Palmer model using a 1-D Ensemble Kalman Filter (EnKF) data assimilation approach.<\/span><\/p> SMAP L-Band Radiometer; 0.25x0.25 degree resolution<\/span><\/p> Credits:<\/span><\/p> Reichle, R., G. De Lannoy, R. D. Koster, W. T. Crow, J. S. Kimball, and Q. Liu. 2018. SMAP L4 Global 3-hourly 9 km EASE-Grid Surface and Root Zone Soil Moisture Analysis Update, Version 4. Root Zone Soil Moisture. Boulder, Colorado USA. NASA National Snow and Ice Data Center Distributed Active Archive Center. doi: https://doi.org/10.5067/60HB8VIP2T8W. March 28, 2019.<\/span><\/p><\/div><\/div><\/div>",
"name": "cyclone_idai_2019/smap_sm_profile",
"description": " Date of Image:<\/span><\/p> 3/2/2019; 3/5/2019; 3/8/2019; 3/11/2019; 3/14/2019; 3/17/2019; 3/20/2019; 3/23/2019<\/span><\/p> Date of Next Image:<\/span><\/p> Unknown<\/span><\/p> Purpose/Summary:<\/span><\/p> The NASA-USDA SMAP Global soil moisture data provides soil moisture information across the globe. Monitoring soil mositure can help identify where flooding has occurred due to Cyclone Idai and what areas may be more prone to flooding if future rainfall occurs. This time-enabled dataset shows the evolution of the soil moisture leading up to and after the landfall of the cyclone.<\/span><\/p> Suggested Use:<\/span><\/p> High values in blue and green show more saturated (wetter) soil.<\/span><\/p> Low values in orange and brown show drier soil.<\/span><\/p> Areas with increased soil moisture may have been flooded during the event, and are generally more prone to flooding if more rain occurs.<\/span><\/p> Satellite/Sensor:<\/span><\/p> The data set is generated by integrating satellite-derived Soil Moisture Active Passive (SMAP) Level 3 soil moisture observations into the modified two-layer Palmer model using a 1-D Ensemble Kalman Filter (EnKF) data assimilation approach.<\/span><\/p> SMAP L-Band Radiometer; 0.25x0.25 degree resolution<\/span><\/p> Credits:<\/span><\/p> Reichle, R., G. De Lannoy, R. D. Koster, W. T. Crow, J. S. Kimball, and Q. Liu. 2018. SMAP L4 Global 3-hourly 9 km EASE-Grid Surface and Root Zone Soil Moisture Analysis Update, Version 4. Root Zone Soil Moisture. Boulder, Colorado USA. NASA National Snow and Ice Data Center Distributed Active Archive Center. doi: https://doi.org/10.5067/60HB8VIP2T8W. March 28, 2019.<\/span><\/p><\/div><\/div><\/div>",
"extent": {
"xmin": 2273267.0518000014,
"ymin": -3363692.4071755605,
"xmax": 4944934.830838567,
"ymax": -1304281.8274999992,
"spatialReference": {
"wkid": 102100,
"latestWkid": 3857
}
},
"initialExtent": {
"xmin": 2273267.0518000014,
"ymin": -3363692.4071755605,
"xmax": 4944934.830838567,
"ymax": -1304281.8274999992,
"spatialReference": {
"wkid": 102100,
"latestWkid": 3857
}
},
"fullExtent": {
"xmin": 2273267.0518000014,
"ymin": -3363692.4071755605,
"xmax": 4944934.830838567,
"ymax": -1304281.8274999992,
"spatialReference": {
"wkid": 102100,
"latestWkid": 3857
}
},
"hasMultidimensions": false,
"timeInfo": {
"startTimeField": "Date",
"endTimeField": "Date",
"timeExtent": [
1551528000000,
1553342400000
],
"timeReference": null,
"defaultTimeInterval": 3,
"defaultTimeIntervalUnits": "esriTimeUnitsDays"
},
"pixelSizeX": 27829.872698318388,
"pixelSizeY": 27829.872698318395,
"datasetFormat": "AMD",
"uncompressedSize": 28416,
"blockWidth": 2048,
"blockHeight": 256,
"compressionType": "None",
"bandNames": [
"Band_1"
],
"allowCopy": true,
"allowAnalysis": true,
"bandCount": 1,
"pixelType": "F32",
"minPixelSize": 0,
"maxPixelSize": 0,
"copyrightText": "Reichle, R., G. De Lannoy, R. D. Koster, W. T. Crow, J. S. Kimball, and Q. Liu. 2018. SMAP L4 Global 3-hourly 9 km EASE-Grid Surface and Root Zone Soil Moisture Analysis Update, Version 4. Root Zone Soil Moisture. Boulder, Colorado USA. NASA National Snow and Ice Data Center Distributed Active Archive Center. doi: https://doi.org/10.5067/60HB8VIP2T8W. March 28, 2019.",
"serviceDataType": "esriImageServiceDataTypeGeneric",
"serviceSourceType": "esriImageServiceSourceTypeMosaicDataset",
"minValues": [
0.026915500369796067
],
"maxValues": [
0.9981084554819972
],
"meanValues": [
0.42983729195534387
],
"stdvValues": [
0.2863882205232446
],
"objectIdField": "OBJECTID",
"fields": [
{
"name": "OBJECTID",
"type": "esriFieldTypeOID",
"alias": "OBJECTID",
"domain": null
},
{
"name": "Shape",
"type": "esriFieldTypeGeometry",
"alias": "Shape",
"domain": null
},
{
"name": "Name",
"type": "esriFieldTypeString",
"alias": "Name",
"domain": null,
"length": 200
},
{
"name": "MinPS",
"type": "esriFieldTypeDouble",
"alias": "MinPS",
"domain": null
},
{
"name": "MaxPS",
"type": "esriFieldTypeDouble",
"alias": "MaxPS",
"domain": null
},
{
"name": "LowPS",
"type": "esriFieldTypeDouble",
"alias": "LowPS",
"domain": null
},
{
"name": "HighPS",
"type": "esriFieldTypeDouble",
"alias": "HighPS",
"domain": null
},
{
"name": "Category",
"type": "esriFieldTypeInteger",
"alias": "Category",
"domain": {
"type": "codedValue",
"name": "MosaicCatalogItemCategoryDomain",
"description": "Catalog item categories.",
"codedValues": [
{
"name": "Unknown",
"code": 0
},
{
"name": "Primary",
"code": 1
},
{
"name": "Overview",
"code": 2
},
{
"name": "Unprocessed Overview",
"code": 3
},
{
"name": "Partial Overview",
"code": 4
},
{
"name": "Inactive",
"code": 5
},
{
"name": "Uploaded",
"code": 253
},
{
"name": "Incomplete",
"code": 254
},
{
"name": "Custom",
"code": 255
}
],
"mergePolicy": "esriMPTDefaultValue",
"splitPolicy": "esriSPTDefaultValue"
}
},
{
"name": "Tag",
"type": "esriFieldTypeString",
"alias": "Tag",
"domain": null,
"length": 100
},
{
"name": "GroupName",
"type": "esriFieldTypeString",
"alias": "GroupName",
"domain": null,
"length": 100
},
{
"name": "ProductName",
"type": "esriFieldTypeString",
"alias": "ProductName",
"domain": null,
"length": 100
},
{
"name": "CenterX",
"type": "esriFieldTypeDouble",
"alias": "CenterX",
"domain": null
},
{
"name": "CenterY",
"type": "esriFieldTypeDouble",
"alias": "CenterY",
"domain": null
},
{
"name": "ZOrder",
"type": "esriFieldTypeInteger",
"alias": "ZOrder",
"domain": null
},
{
"name": "Shape_Length",
"type": "esriFieldTypeDouble",
"alias": "Shape_Length",
"domain": null
},
{
"name": "Shape_Area",
"type": "esriFieldTypeDouble",
"alias": "Shape_Area",
"domain": null
},
{
"name": "Date",
"type": "esriFieldTypeDate",
"alias": "Date",
"domain": null,
"length": 8
}
],
"capabilities": "Catalog,Mensuration,Image,Metadata",
"defaultMosaicMethod": "Northwest",
"allowedMosaicMethods": "NorthWest,Center,LockRaster,ByAttribute,Nadir,Viewpoint,Seamline,None",
"sortField": "",
"sortValue": null,
"sortAscending": true,
"mosaicOperator": "First",
"maxDownloadSizeLimit": 2048,
"defaultCompressionQuality": 75,
"defaultResamplingMethod": "Nearest",
"maxImageHeight": 4100,
"maxImageWidth": 15000,
"maxRecordCount": 1000,
"maxDownloadImageCount": 20,
"maxMosaicImageCount": 20,
"allowRasterFunction": true,
"rasterFunctionInfos": [
{
"name": "smap_idai",
"description": "A raster function template.",
"help": ""
},
{
"name": "None",
"description": "A No-Op Function.",
"help": ""
}
],
"rasterTypeInfos": [
{
"name": "Raster Dataset",
"description": "Supports all ArcGIS Raster Datasets",
"help": ""
}
],
"mensurationCapabilities": "Basic",
"hasHistograms": true,
"hasColormap": false,
"hasRasterAttributeTable": false,
"minScale": 0,
"maxScale": 0,
"exportTilesAllowed": false,
"supportsStatistics": true,
"supportsAdvancedQueries": true,
"editFieldsInfo": null,
"ownershipBasedAccessControlForRasters": null,
"allowComputeTiePoints": false,
"useStandardizedQueries": true,
"advancedQueryCapabilities": {
"useStandardizedQueries": true,
"supportsStatistics": true,
"supportsOrderBy": true,
"supportsDistinct": true,
"supportsPagination": true
},
"spatialReference": {
"wkid": 102100,
"latestWkid": 3857
}
}