{ "currentVersion": 10.91, "serviceDescription": "
Date of Image: <\/span><\/p> 4/25/2019<\/span><\/p> Date of Next Image:<\/span><\/p> Unknown<\/span><\/p> Summary:<\/span><\/p> The Advanced Rapid Imaging and Analysis (ARIA) team at NASA's Jet Propulsion Laboratory and California Institute of Technology, both in Pasadena, California, created this Damage Proxy Map (DPM) depicting areas in Northeastern Mozambique, that are likely damaged (shown by red and yellow pixels) as a result of Cyclone Kenneth. The map was derived from synthetic aperture radar (SAR) images from the Copernicus Sentinel-1 satellite, operated by the European Space Agency (ESA). The images were taken before (April 16, 2019) and after (April 28, 2019) the landfall of the cyclone (Category 4) on April 25, 2019.<\/span><\/p> Suggested Use:<\/span><\/p> The color variation from yellow to red indicates increasingly more significant ground surface change. This damage proxy map should be used as guidance to identify damaged areas, and may be less reliable over vegetated areas. For example, the scattered single colored pixels over vegetated areas may be false positives, and the lack of colored pixels over vegetated areas does not necessarily mean no damage. <\/span><\/p> Satellite/Sensor:<\/span><\/p> Synthetic Aperture Radar (SAR) on European Space Agency's (ESA) Copernicus Sentinel-1A satellite<\/span><\/p> Resolution: 30 meters<\/span><\/p> Credits:<\/span><\/p> Contains modified Copernicus Sentinel data (2019) analyzed by the NASA-JPL/Caltech ARIA team. The DPM was created by the NASA-JPL/Caltech ARIA team in collaboration with the Earth Observatory of Singapore (EOS), and the data were provided by the European Space Agency. The algorithm development was carried out at JPL under a contract with NASA.<\/span><\/p> For more information about ARIA, visit: http://aria.jpl.nasa.gov <\/span><\/p><\/div><\/div>",
"name": "cyclone_kenneth_2019/aria_dpm_20190425",
"description": " Date of Image: <\/span><\/p> 4/25/2019<\/span><\/p> Date of Next Image:<\/span><\/p> Unknown<\/span><\/p> Summary:<\/span><\/p> The Advanced Rapid Imaging and Analysis (ARIA) team at NASA's Jet Propulsion Laboratory and California Institute of Technology, both in Pasadena, California, created this Damage Proxy Map (DPM) depicting areas in Northeastern Mozambique, that are likely damaged (shown by red and yellow pixels) as a result of Cyclone Kenneth. The map was derived from synthetic aperture radar (SAR) images from the Copernicus Sentinel-1 satellite, operated by the European Space Agency (ESA). The images were taken before (April 16, 2019) and after (April 28, 2019) the landfall of the cyclone (Category 4) on April 25, 2019.<\/span><\/p> Suggested Use:<\/span><\/p> The color variation from yellow to red indicates increasingly more significant ground surface change. This damage proxy map should be used as guidance to identify damaged areas, and may be less reliable over vegetated areas. For example, the scattered single colored pixels over vegetated areas may be false positives, and the lack of colored pixels over vegetated areas does not necessarily mean no damage. <\/span><\/p> Satellite/Sensor:<\/span><\/p> Synthetic Aperture Radar (SAR) on European Space Agency's (ESA) Copernicus Sentinel-1A satellite<\/span><\/p> Resolution: 30 meters<\/span><\/p> Credits:<\/span><\/p> Contains modified Copernicus Sentinel data (2019) analyzed by the NASA-JPL/Caltech ARIA team. The DPM was created by the NASA-JPL/Caltech ARIA team in collaboration with the Earth Observatory of Singapore (EOS), and the data were provided by the European Space Agency. The algorithm development was carried out at JPL under a contract with NASA.<\/span><\/p> For more information about ARIA, visit: http://aria.jpl.nasa.gov <\/span><\/p><\/div><\/div>",
"extent": {
"xmin": 4301139.1193,
"ymin": -1656229.1710009917,
"xmax": 4595007.087037712,
"ymax": -1052336.4497999982,
"spatialReference": {
"wkid": 102100,
"latestWkid": 3857
}
},
"initialExtent": {
"xmin": 4301139.1193,
"ymin": -1656229.1710009917,
"xmax": 4595007.087037712,
"ymax": -1052336.4497999982,
"spatialReference": {
"wkid": 102100,
"latestWkid": 3857
}
},
"fullExtent": {
"xmin": 4301139.1193,
"ymin": -1656229.1710009917,
"xmax": 4595007.087037712,
"ymax": -1052336.4497999982,
"spatialReference": {
"wkid": 102100,
"latestWkid": 3857
}
},
"hasMultidimensions": false,
"pixelSizeX": 15.461038971837322,
"pixelSizeY": 15.461038971837311,
"datasetFormat": "AMD",
"uncompressedSize": 2969577652,
"blockWidth": 2048,
"blockHeight": 256,
"compressionType": "None",
"bandNames": [
"Band_1",
"Band_2",
"Band_3",
"Band_4"
],
"allowCopy": true,
"allowAnalysis": true,
"bandCount": 4,
"pixelType": "U8",
"minPixelSize": 0,
"maxPixelSize": 0,
"copyrightText": "Contains modified Copernicus Sentinel data (2019) analyzed by the NASA-JPL/Caltech ARIA team. The DPM was created by the NASA-JPL/Caltech ARIA team in collaboration with the Earth Observatory of Singapore (EOS), and the data were provided by the European Space Agency. The algorithm development was carried out at JPL under a contract with NASA.",
"serviceDataType": "esriImageServiceDataTypeGeneric",
"serviceSourceType": "esriImageServiceSourceTypeMosaicDataset",
"minValues": [
137,
1,
1,
153
],
"maxValues": [
255,
255,
1,
255
],
"meanValues": [
251.89322166972013,
202.73724155980122,
1,
176.06150222454872
],
"stdvValues": [
13.20685640629336,
78.7998528158691,
0,
20.299115002613465
],
"objectIdField": "OBJECTID",
"fields": [
{
"name": "OBJECTID",
"type": "esriFieldTypeOID",
"alias": "OBJECTID",
"domain": null
},
{
"name": "Shape",
"type": "esriFieldTypeGeometry",
"alias": "Shape",
"domain": null
},
{
"name": "Name",
"type": "esriFieldTypeString",
"alias": "Name",
"domain": null,
"length": 200
},
{
"name": "MinPS",
"type": "esriFieldTypeDouble",
"alias": "MinPS",
"domain": null
},
{
"name": "MaxPS",
"type": "esriFieldTypeDouble",
"alias": "MaxPS",
"domain": null
},
{
"name": "LowPS",
"type": "esriFieldTypeDouble",
"alias": "LowPS",
"domain": null
},
{
"name": "HighPS",
"type": "esriFieldTypeDouble",
"alias": "HighPS",
"domain": null
},
{
"name": "Category",
"type": "esriFieldTypeInteger",
"alias": "Category",
"domain": {
"type": "codedValue",
"name": "MosaicCatalogItemCategoryDomain",
"description": "Catalog item categories.",
"codedValues": [
{
"name": "Unknown",
"code": 0
},
{
"name": "Primary",
"code": 1
},
{
"name": "Overview",
"code": 2
},
{
"name": "Unprocessed Overview",
"code": 3
},
{
"name": "Partial Overview",
"code": 4
},
{
"name": "Inactive",
"code": 5
},
{
"name": "Uploaded",
"code": 253
},
{
"name": "Incomplete",
"code": 254
},
{
"name": "Custom",
"code": 255
}
],
"mergePolicy": "esriMPTDefaultValue",
"splitPolicy": "esriSPTDefaultValue"
}
},
{
"name": "Tag",
"type": "esriFieldTypeString",
"alias": "Tag",
"domain": null,
"length": 100
},
{
"name": "GroupName",
"type": "esriFieldTypeString",
"alias": "GroupName",
"domain": null,
"length": 100
},
{
"name": "ProductName",
"type": "esriFieldTypeString",
"alias": "ProductName",
"domain": null,
"length": 100
},
{
"name": "CenterX",
"type": "esriFieldTypeDouble",
"alias": "CenterX",
"domain": null
},
{
"name": "CenterY",
"type": "esriFieldTypeDouble",
"alias": "CenterY",
"domain": null
},
{
"name": "ZOrder",
"type": "esriFieldTypeInteger",
"alias": "ZOrder",
"domain": null
},
{
"name": "Shape_Length",
"type": "esriFieldTypeDouble",
"alias": "Shape_Length",
"domain": null
},
{
"name": "Shape_Area",
"type": "esriFieldTypeDouble",
"alias": "Shape_Area",
"domain": null
}
],
"capabilities": "Mensuration,Image,Metadata",
"defaultMosaicMethod": "Northwest",
"allowedMosaicMethods": "NorthWest,Center,LockRaster,ByAttribute,Nadir,Viewpoint,Seamline,None",
"sortField": "",
"sortValue": null,
"sortAscending": true,
"mosaicOperator": "First",
"maxDownloadSizeLimit": 2048,
"defaultCompressionQuality": 75,
"defaultResamplingMethod": "Bilinear",
"maxImageHeight": 4100,
"maxImageWidth": 15000,
"maxRecordCount": 1000,
"maxDownloadImageCount": 20,
"maxMosaicImageCount": 20,
"allowRasterFunction": true,
"rasterFunctionInfos": [
{
"name": "RGB Composite",
"description": "A raster function template.",
"help": ""
},
{
"name": "None",
"description": "",
"help": ""
}
],
"rasterTypeInfos": [
{
"name": "Raster Dataset",
"description": "Supports all ArcGIS Raster Datasets",
"help": ""
}
],
"mensurationCapabilities": "",
"hasHistograms": true,
"hasColormap": false,
"hasRasterAttributeTable": false,
"minScale": 0,
"maxScale": 0,
"exportTilesAllowed": false,
"supportsStatistics": true,
"supportsAdvancedQueries": true,
"editFieldsInfo": null,
"ownershipBasedAccessControlForRasters": null,
"allowComputeTiePoints": false,
"useStandardizedQueries": true,
"advancedQueryCapabilities": {
"useStandardizedQueries": true,
"supportsStatistics": true,
"supportsOrderBy": true,
"supportsDistinct": true,
"supportsPagination": true
},
"spatialReference": {
"wkid": 102100,
"latestWkid": 3857
}
}