{
 "currentVersion": 10.91,
 "serviceDescription": "laos_damnFailure/Sentinel_ALOS_damage_20180726",
 "name": "laos_damnFailure/Sentinel_ALOS_damage_20180726",
 "description": "",
 "extent": {
  "xmin": 648083.693350826,
  "ymin": 1617193.077423982,
  "xmax": 706403.693350826,
  "ymax": 1687933.077423982,
  "spatialReference": {
   "wkid": 32648,
   "latestWkid": 32648
  }
 },
 "initialExtent": {
  "xmin": 648083.693350826,
  "ymin": 1617193.077423982,
  "xmax": 706403.693350826,
  "ymax": 1687933.077423982,
  "spatialReference": {
   "wkid": 32648,
   "latestWkid": 32648
  }
 },
 "fullExtent": {
  "xmin": 648083.693350826,
  "ymin": 1617193.077423982,
  "xmax": 706403.693350826,
  "ymax": 1687933.077423982,
  "spatialReference": {
   "wkid": 32648,
   "latestWkid": 32648
  }
 },
 "hasMultidimensions": false,
 "pixelSizeX": 90,
 "pixelSizeY": 90,
 "datasetFormat": "TIFF",
 "uncompressedSize": 2037312,
 "blockWidth": 648,
 "blockHeight": 3,
 "compressionType": "LZW",
 "bandNames": [
  "Band_1"
 ],
 "allowCopy": true,
 "allowAnalysis": true,
 "bandCount": 1,
 "noDataValue": -3.3999999521443642E38,
 "noDataValues": [
  -3.3999999521443642E38
 ],
 "pixelType": "F32",
 "minPixelSize": 0,
 "maxPixelSize": 0,
 "copyrightText": "",
 "serviceDataType": "esriImageServiceDataTypeGeneric",
 "serviceSourceType": "esriImageServiceSourceTypeDataset",
 "minValues": [
  0
 ],
 "maxValues": [
  70470
 ],
 "meanValues": [
  3986.5785858948
 ],
 "stdvValues": [
  6289.7235661018
 ],
 "objectIdField": "",
 "fields": [],
 "capabilities": "Mensuration,Image,Metadata",
 "defaultMosaicMethod": "Center",
 "allowedMosaicMethods": "",
 "sortField": "",
 "sortValue": null,
 "sortAscending": true,
 "mosaicOperator": "First",
 "defaultCompressionQuality": 75,
 "defaultResamplingMethod": "Bilinear",
 "maxImageHeight": 4100,
 "maxImageWidth": 15000,
 "allowRasterFunction": true,
 "rasterFunctionInfos": [
  {
   "name": "None",
   "description": "Make a Raster or Raster Dataset into a Function Raster Dataset.",
   "help": ""
  },
  {
   "name": "damage",
   "description": "A raster function template.",
   "help": ""
  }
 ],
 "rasterTypeInfos": [
  {
   "name": "Raster Dataset",
   "description": "Supports all ArcGIS Raster Datasets",
   "help": ""
  }
 ],
 "mensurationCapabilities": "Basic",
 "hasHistograms": false,
 "hasColormap": false,
 "hasRasterAttributeTable": false,
 "minScale": 0,
 "maxScale": 0,
 "exportTilesAllowed": false,
 "supportsStatistics": false,
 "supportsAdvancedQueries": false,
 "editFieldsInfo": null,
 "ownershipBasedAccessControlForRasters": null,
 "allowComputeTiePoints": false,
 "useStandardizedQueries": true,
 "advancedQueryCapabilities": {
  "useStandardizedQueries": true,
  "supportsStatistics": false,
  "supportsOrderBy": false,
  "supportsDistinct": false,
  "supportsPagination": false
 },
 "spatialReference": {
  "wkid": 32648,
  "latestWkid": 32648
 }
}
