{
 "currentVersion": 10.91,
 "serviceDescription": "Date of Image: 3/19/2019\nDate of Next Image: Unkown\nPurpose/Summary:\n\nUsing data collected from the European Space Agency's (ESA) Sentinel-1A satellite, scientists at NASA's Marshall Space Flight Center (MSFC) are able to create maps of the extent of water in the aftermath of the flooding in the Midwest United States. The synthetic aperture radar (SAR) aboard Sentinel-1A allows for the detection of water on the surface when clouds are present as well as during the night time hours.\n\n\n\nSuggested Usage:\n\nThis product shows three areas: known reference water (blue), anomalous water identified outside the known reference water areas (red), and water detected in known wetlands or barren land (tan). This product can be used to perform a change analysis due to the hurricane.\n\n\n\nNote: Because these images were acquired during winter, there is a chance that the ground could be covered with snow. If large areas of blue appear over areas of land and now near a water source, there is a chance that snow is present.Satellite/Sensor:\n\nSynthetic Aperture Radar (SAR) on European Space Agency's (ESA) Copernicus Sentinel-1A satellite; 30 m resolution\n\n\n\nCredits:\n\nThis product contains modified Copernicus Sentinel data (2019), processed by ESA; NASA/MSFC",
 "name": "midwest_flooding_201903/sentinel1a_waterextent_20190319_235730",
 "description": "Date of Image: 3/19/2019\nDate of Next Image: Unkown\nPurpose/Summary:\n\nUsing data collected from the European Space Agency's (ESA) Sentinel-1A satellite, scientists at NASA's Marshall Space Flight Center (MSFC) are able to create maps of the extent of water in the aftermath of the flooding in the Midwest United States. The synthetic aperture radar (SAR) aboard Sentinel-1A allows for the detection of water on the surface when clouds are present as well as during the night time hours.\n\n\n\nSuggested Usage:\n\nThis product shows three areas: known reference water (blue), anomalous water identified outside the known reference water areas (red), and water detected in known wetlands or barren land (tan). This product can be used to perform a change analysis due to the hurricane.\n\n\n\nNote: Because these images were acquired during winter, there is a chance that the ground could be covered with snow. If large areas of blue appear over areas of land and now near a water source, there is a chance that snow is present.Satellite/Sensor:\n\nSynthetic Aperture Radar (SAR) on European Space Agency's (ESA) Copernicus Sentinel-1A satellite; 30 m resolution\n\n\n\nCredits:\n\nThis product contains modified Copernicus Sentinel data (2019), processed by ESA; NASA/MSFC",
 "extent": {
  "xmin": -94.67644101950829,
  "ymin": 31.93711061867893,
  "xmax": -86.91346908450481,
  "ymax": 44.68041761639722,
  "spatialReference": {
   "wkid": 4326,
   "latestWkid": 4326
  }
 },
 "initialExtent": {
  "xmin": -94.67644101950829,
  "ymin": 31.93711061867893,
  "xmax": -86.91346908450481,
  "ymax": 44.68041761639722,
  "spatialReference": {
   "wkid": 4326,
   "latestWkid": 4326
  }
 },
 "fullExtent": {
  "xmin": -94.67644101950829,
  "ymin": 31.93711061867893,
  "xmax": -86.91346908450481,
  "ymax": 44.68041761639722,
  "spatialReference": {
   "wkid": 4326,
   "latestWkid": 4326
  }
 },
 "hasMultidimensions": false,
 "pixelSizeX": 3.3425067534998825E-4,
 "pixelSizeY": 3.34250675349988E-4,
 "datasetFormat": "TIFF",
 "uncompressedSize": 885453125,
 "blockWidth": 23225,
 "blockHeight": 1,
 "compressionType": "None",
 "bandNames": [
  "Band_1"
 ],
 "allowCopy": true,
 "allowAnalysis": true,
 "bandCount": 1,
 "pixelType": "U8",
 "minPixelSize": 0,
 "maxPixelSize": 0,
 "copyrightText": "NASA Disasters/MSFC/ASF, ESA Copernicus",
 "serviceDataType": "esriImageServiceDataTypeGeneric",
 "serviceSourceType": "esriImageServiceSourceTypeDataset",
 "minValues": [
  0
 ],
 "maxValues": [
  3
 ],
 "meanValues": [
  0.015673537771984
 ],
 "stdvValues": [
  0.15435815876466
 ],
 "objectIdField": "",
 "fields": [],
 "capabilities": "Mensuration,Image,Metadata",
 "defaultMosaicMethod": "Center",
 "allowedMosaicMethods": "",
 "sortField": "",
 "sortValue": null,
 "sortAscending": true,
 "mosaicOperator": "First",
 "defaultCompressionQuality": 75,
 "defaultResamplingMethod": "Nearest",
 "maxImageHeight": 4100,
 "maxImageWidth": 15000,
 "allowRasterFunction": true,
 "rasterFunctionInfos": [
  {
   "name": "None",
   "description": "Make a Raster or Raster Dataset into a Function Raster Dataset.",
   "help": ""
  },
  {
   "name": "SARWaterExtentUniqueValuesLegend_las",
   "description": "A raster function template.",
   "help": ""
  }
 ],
 "rasterTypeInfos": [
  {
   "name": "Raster Dataset",
   "description": "Supports all ArcGIS Raster Datasets",
   "help": ""
  }
 ],
 "mensurationCapabilities": "Basic",
 "hasHistograms": true,
 "hasColormap": false,
 "hasRasterAttributeTable": false,
 "minScale": 0,
 "maxScale": 0,
 "exportTilesAllowed": false,
 "supportsStatistics": false,
 "supportsAdvancedQueries": false,
 "editFieldsInfo": null,
 "ownershipBasedAccessControlForRasters": null,
 "allowComputeTiePoints": false,
 "useStandardizedQueries": true,
 "advancedQueryCapabilities": {
  "useStandardizedQueries": true,
  "supportsStatistics": false,
  "supportsOrderBy": false,
  "supportsDistinct": false,
  "supportsPagination": false
 },
 "spatialReference": {
  "wkid": 4326,
  "latestWkid": 4326
 }
}
